| Back to Multiple platform build/check report for BioC 3.22: simplified long |
|
This page was generated on 2025-10-24 12:04 -0400 (Fri, 24 Oct 2025).
| Hostname | OS | Arch (*) | R version | Installed pkgs |
|---|---|---|---|---|
| nebbiolo2 | Linux (Ubuntu 24.04.3 LTS) | x86_64 | 4.5.1 Patched (2025-08-23 r88802) -- "Great Square Root" | 4898 |
| lconway | macOS 12.7.6 Monterey | x86_64 | 4.5.1 Patched (2025-09-10 r88807) -- "Great Square Root" | 4688 |
| kjohnson3 | macOS 13.7.7 Ventura | arm64 | 4.5.1 Patched (2025-09-10 r88807) -- "Great Square Root" | 4634 |
| taishan | Linux (openEuler 24.03 LTS) | aarch64 | 4.5.0 (2025-04-11) -- "How About a Twenty-Six" | 4658 |
| Click on any hostname to see more info about the system (e.g. compilers) (*) as reported by 'uname -p', except on Windows and Mac OS X | ||||
| Package 165/2359 | Hostname | OS / Arch | INSTALL | BUILD | CHECK | BUILD BIN | ||||||||
| benchdamic 1.15.4 (landing page) Matteo Calgaro
| nebbiolo2 | Linux (Ubuntu 24.04.3 LTS) / x86_64 | OK | OK | OK | |||||||||
| lconway | macOS 12.7.6 Monterey / x86_64 | OK | OK | OK | OK | |||||||||
| kjohnson3 | macOS 13.7.7 Ventura / arm64 | OK | OK | OK | OK | |||||||||
| taishan | Linux (openEuler 24.03 LTS) / aarch64 | OK | OK | TIMEOUT | ||||||||||
|
To the developers/maintainers of the benchdamic package: - Allow up to 24 hours (and sometimes 48 hours) for your latest push to git@git.bioconductor.org:packages/benchdamic.git to reflect on this report. See Troubleshooting Build Report for more information. - Use the following Renviron settings to reproduce errors and warnings. - If 'R CMD check' started to fail recently on the Linux builder(s) over a missing dependency, add the missing dependency to 'Suggests:' in your DESCRIPTION file. See Renviron.bioc for more information. |
| Package: benchdamic |
| Version: 1.15.4 |
| Command: /Library/Frameworks/R.framework/Resources/bin/R CMD check --install=check:benchdamic.install-out.txt --library=/Library/Frameworks/R.framework/Resources/library --no-vignettes --timings benchdamic_1.15.4.tar.gz |
| StartedAt: 2025-10-23 19:34:38 -0400 (Thu, 23 Oct 2025) |
| EndedAt: 2025-10-23 19:47:54 -0400 (Thu, 23 Oct 2025) |
| EllapsedTime: 795.7 seconds |
| RetCode: 0 |
| Status: OK |
| CheckDir: benchdamic.Rcheck |
| Warnings: 0 |
##############################################################################
##############################################################################
###
### Running command:
###
### /Library/Frameworks/R.framework/Resources/bin/R CMD check --install=check:benchdamic.install-out.txt --library=/Library/Frameworks/R.framework/Resources/library --no-vignettes --timings benchdamic_1.15.4.tar.gz
###
##############################################################################
##############################################################################
* using log directory ‘/Users/biocbuild/bbs-3.22-bioc/meat/benchdamic.Rcheck’
* using R version 4.5.1 Patched (2025-09-10 r88807)
* using platform: x86_64-apple-darwin20
* R was compiled by
Apple clang version 14.0.0 (clang-1400.0.29.202)
GNU Fortran (GCC) 14.2.0
* running under: macOS Monterey 12.7.6
* using session charset: UTF-8
* using option ‘--no-vignettes’
* checking for file ‘benchdamic/DESCRIPTION’ ... OK
* checking extension type ... Package
* this is package ‘benchdamic’ version ‘1.15.4’
* package encoding: UTF-8
* checking package namespace information ... OK
* checking package dependencies ... INFO
Imports includes 32 non-default packages.
Importing from so many packages makes the package vulnerable to any of
them becoming unavailable. Move as many as possible to Suggests and
use conditionally.
* checking if this is a source package ... OK
* checking if there is a namespace ... OK
* checking for hidden files and directories ... OK
* checking for portable file names ... OK
* checking for sufficient/correct file permissions ... OK
* checking whether package ‘benchdamic’ can be installed ... OK
* checking installed package size ... OK
* checking package directory ... OK
* checking ‘build’ directory ... OK
* checking DESCRIPTION meta-information ... OK
* checking top-level files ... OK
* checking for left-over files ... OK
* checking index information ... OK
* checking package subdirectories ... OK
* checking code files for non-ASCII characters ... OK
* checking R files for syntax errors ... OK
* checking whether the package can be loaded ... OK
* checking whether the package can be loaded with stated dependencies ... OK
* checking whether the package can be unloaded cleanly ... OK
* checking whether the namespace can be loaded with stated dependencies ... OK
* checking whether the namespace can be unloaded cleanly ... OK
* checking dependencies in R code ... NOTE
Namespace in Imports field not imported from: ‘microbiome’
All declared Imports should be used.
* checking S3 generic/method consistency ... OK
* checking replacement functions ... OK
* checking foreign function calls ... OK
* checking R code for possible problems ... OK
* checking Rd files ... OK
* checking Rd metadata ... OK
* checking Rd cross-references ... NOTE
Non-topic package-anchored link(s) in Rd file 'norm_DESeq2.Rd':
‘[DESeq2]{estimateSizeFactors}’
See section 'Cross-references' in the 'Writing R Extensions' manual.
* checking for missing documentation entries ... OK
* checking for code/documentation mismatches ... OK
* checking Rd \usage sections ... OK
* checking Rd contents ... OK
* checking for unstated dependencies in examples ... OK
* checking contents of ‘data’ directory ... OK
* checking data for non-ASCII characters ... OK
* checking LazyData ... OK
* checking data for ASCII and uncompressed saves ... OK
* checking files in ‘vignettes’ ... OK
* checking examples ... OK
Examples with CPU (user + system) or elapsed time > 5s
user system elapsed
createConcordance 8.338 0.134 11.837
DA_ALDEx2 4.460 0.943 5.446
createTIEC 4.932 0.061 8.107
plotConcordance 4.501 0.124 7.275
runSplits 3.757 0.152 6.950
plotMD 3.187 0.070 5.020
* checking for unstated dependencies in ‘tests’ ... OK
* checking tests ...
Running ‘testthat.R’
OK
* checking for unstated dependencies in vignettes ... OK
* checking package vignettes ... OK
* checking running R code from vignettes ... SKIPPED
* checking re-building of vignette outputs ... SKIPPED
* checking PDF version of manual ... OK
* DONE
Status: 2 NOTEs
See
‘/Users/biocbuild/bbs-3.22-bioc/meat/benchdamic.Rcheck/00check.log’
for details.
benchdamic.Rcheck/00install.out
############################################################################## ############################################################################## ### ### Running command: ### ### /Library/Frameworks/R.framework/Resources/bin/R CMD INSTALL benchdamic ### ############################################################################## ############################################################################## * installing to library ‘/Library/Frameworks/R.framework/Versions/4.5-x86_64/Resources/library’ * installing *source* package ‘benchdamic’ ... ** this is package ‘benchdamic’ version ‘1.15.4’ ** using staged installation ** R ** data *** moving datasets to lazyload DB ** inst ** byte-compile and prepare package for lazy loading Found more than one class "dist" in cache; using the first, from namespace 'BiocGenerics' Also defined by ‘spam’ ** help *** installing help indices ** building package indices ** installing vignettes ** testing if installed package can be loaded from temporary location Found more than one class "dist" in cache; using the first, from namespace 'BiocGenerics' Also defined by ‘spam’ ** testing if installed package can be loaded from final location Found more than one class "dist" in cache; using the first, from namespace 'BiocGenerics' Also defined by ‘spam’ ** testing if installed package keeps a record of temporary installation path * DONE (benchdamic)
benchdamic.Rcheck/tests/testthat.Rout
R version 4.5.1 Patched (2025-09-10 r88807) -- "Great Square Root"
Copyright (C) 2025 The R Foundation for Statistical Computing
Platform: x86_64-apple-darwin20
R is free software and comes with ABSOLUTELY NO WARRANTY.
You are welcome to redistribute it under certain conditions.
Type 'license()' or 'licence()' for distribution details.
R is a collaborative project with many contributors.
Type 'contributors()' for more information and
'citation()' on how to cite R or R packages in publications.
Type 'demo()' for some demos, 'help()' for on-line help, or
'help.start()' for an HTML browser interface to help.
Type 'q()' to quit R.
> library(testthat)
> library(benchdamic)
Found more than one class "dist" in cache; using the first, from namespace 'BiocGenerics'
Also defined by 'spam'
>
> test_check("benchdamic")
|------------(25%)----------(50%)----------(75%)----------|
|------------(25%)----------(50%)----------(75%)----------|
|------------(25%)----------(50%)----------(75%)----------|
|------------(25%)----------(50%)----------(75%)----------|
|------------(25%)----------(50%)----------(75%)----------|
[ FAIL 0 | WARN 2 | SKIP 0 | PASS 334 ]
[ FAIL 0 | WARN 2 | SKIP 0 | PASS 334 ]
>
> proc.time()
user system elapsed
78.216 6.499 169.867
benchdamic.Rcheck/benchdamic-Ex.timings
| name | user | system | elapsed | |
| CAT | 0.003 | 0.001 | 0.004 | |
| DA_ALDEx2 | 4.460 | 0.943 | 5.446 | |
| DA_ANCOM | 0.792 | 0.014 | 0.810 | |
| DA_DESeq2 | 3.107 | 0.027 | 3.155 | |
| DA_MAST | 1.223 | 0.029 | 1.259 | |
| DA_Maaslin2 | 0.295 | 0.044 | 0.351 | |
| DA_NOISeq | 1.432 | 0.011 | 1.453 | |
| DA_Seurat | 2.094 | 0.038 | 2.153 | |
| DA_ZicoSeq | 0.658 | 0.066 | 0.735 | |
| DA_basic | 0.033 | 0.005 | 0.038 | |
| DA_corncob | 0.663 | 0.104 | 0.792 | |
| DA_dearseq | 0.062 | 0.003 | 0.067 | |
| DA_edgeR | 0.187 | 0.008 | 0.196 | |
| DA_limma | 0.066 | 0.003 | 0.070 | |
| DA_linda | 0.047 | 0.002 | 0.048 | |
| DA_maaslin3 | 0.488 | 0.017 | 0.511 | |
| DA_metagenomeSeq | 0.263 | 0.008 | 0.274 | |
| DA_mixMC | 0.686 | 0.013 | 0.702 | |
| RMSE | 0.001 | 0.000 | 0.001 | |
| addKnowledge | 0.177 | 0.009 | 0.187 | |
| areaCAT | 4.199 | 0.102 | 4.327 | |
| checkNormalization | 0 | 0 | 0 | |
| createColors | 0.004 | 0.000 | 0.004 | |
| createConcordance | 8.338 | 0.134 | 11.837 | |
| createEnrichment | 0.358 | 0.008 | 0.586 | |
| createMocks | 0.003 | 0.001 | 0.004 | |
| createPositives | 1.448 | 0.018 | 2.343 | |
| createSplits | 0.051 | 0.003 | 0.084 | |
| createTIEC | 4.932 | 0.061 | 8.107 | |
| enrichmentTest | 0.165 | 0.006 | 0.221 | |
| extractDA | 0.186 | 0.004 | 0.192 | |
| extractStatistics | 0.171 | 0.004 | 0.177 | |
| fitDM | 0.028 | 0.002 | 0.032 | |
| fitHURDLE | 0.650 | 0.008 | 0.666 | |
| fitModels | 3.186 | 0.148 | 4.522 | |
| fitNB | 0.066 | 0.001 | 0.107 | |
| fitZIG | 0.076 | 0.001 | 0.139 | |
| fitZINB | 0.673 | 0.006 | 1.198 | |
| getDA | 0.105 | 0.008 | 0.174 | |
| getPositives | 0.097 | 0.003 | 0.128 | |
| getStatistics | 0.073 | 0.005 | 0.094 | |
| get_counts_metadata | 0.155 | 0.005 | 0.194 | |
| iterative_ordering | 0.006 | 0.001 | 0.008 | |
| meanDifferences | 0.003 | 0.001 | 0.003 | |
| norm_CSS | 0.106 | 0.002 | 0.161 | |
| norm_DESeq2 | 0.668 | 0.004 | 1.193 | |
| norm_TSS | 0.053 | 0.000 | 0.100 | |
| norm_edgeR | 0.062 | 0.001 | 0.111 | |
| plotConcordance | 4.501 | 0.124 | 7.275 | |
| plotContingency | 1.100 | 0.024 | 1.412 | |
| plotEnrichment | 1.600 | 0.042 | 2.057 | |
| plotFDR | 3.049 | 0.045 | 4.101 | |
| plotFPR | 2.472 | 0.039 | 2.807 | |
| plotKS | 2.307 | 0.027 | 2.647 | |
| plotLogP | 2.069 | 0.027 | 2.496 | |
| plotMD | 3.187 | 0.070 | 5.020 | |
| plotMutualFindings | 1.477 | 0.044 | 1.696 | |
| plotPositives | 0.710 | 0.012 | 0.840 | |
| plotQQ | 3.381 | 0.060 | 3.881 | |
| plotRMSE | 3.402 | 0.056 | 3.960 | |
| prepareObserved | 0.002 | 0.000 | 0.002 | |
| runDA | 0.619 | 0.025 | 1.056 | |
| runMocks | 0.542 | 0.009 | 0.662 | |
| runNormalizations | 0.683 | 0.006 | 1.073 | |
| runSplits | 3.757 | 0.152 | 6.950 | |
| setNormalizations | 0.001 | 0.001 | 0.001 | |
| set_ALDEx2 | 0.011 | 0.001 | 0.012 | |
| set_ANCOM | 0.013 | 0.003 | 0.019 | |
| set_DESeq2 | 0.009 | 0.000 | 0.010 | |
| set_MAST | 0.004 | 0.001 | 0.004 | |
| set_Maaslin2 | 0.005 | 0.001 | 0.005 | |
| set_NOISeq | 0.003 | 0.001 | 0.004 | |
| set_Seurat | 0.008 | 0.002 | 0.010 | |
| set_ZicoSeq | 0.009 | 0.001 | 0.011 | |
| set_basic | 0.002 | 0.001 | 0.002 | |
| set_corncob | 0.007 | 0.000 | 0.008 | |
| set_dearseq | 0.002 | 0.001 | 0.003 | |
| set_edgeR | 0.017 | 0.001 | 0.023 | |
| set_limma | 0.011 | 0.000 | 0.013 | |
| set_linda | 0.005 | 0.001 | 0.005 | |
| set_maaslin3 | 0.012 | 0.002 | 0.021 | |
| set_metagenomeSeq | 0.008 | 0.001 | 0.010 | |
| set_mixMC | 0.004 | 0.001 | 0.006 | |
| weights_ZINB | 0.444 | 0.004 | 0.494 | |