| Back to Multiple platform build/check report for BioC 3.22: simplified long |
|
This page was generated on 2025-10-24 12:03 -0400 (Fri, 24 Oct 2025).
| Hostname | OS | Arch (*) | R version | Installed pkgs |
|---|---|---|---|---|
| nebbiolo2 | Linux (Ubuntu 24.04.3 LTS) | x86_64 | 4.5.1 Patched (2025-08-23 r88802) -- "Great Square Root" | 4898 |
| lconway | macOS 12.7.6 Monterey | x86_64 | 4.5.1 Patched (2025-09-10 r88807) -- "Great Square Root" | 4688 |
| kjohnson3 | macOS 13.7.7 Ventura | arm64 | 4.5.1 Patched (2025-09-10 r88807) -- "Great Square Root" | 4634 |
| taishan | Linux (openEuler 24.03 LTS) | aarch64 | 4.5.0 (2025-04-11) -- "How About a Twenty-Six" | 4658 |
| Click on any hostname to see more info about the system (e.g. compilers) (*) as reported by 'uname -p', except on Windows and Mac OS X | ||||
| Package 165/2359 | Hostname | OS / Arch | INSTALL | BUILD | CHECK | BUILD BIN | ||||||||
| benchdamic 1.15.4 (landing page) Matteo Calgaro
| nebbiolo2 | Linux (Ubuntu 24.04.3 LTS) / x86_64 | OK | OK | OK | |||||||||
| lconway | macOS 12.7.6 Monterey / x86_64 | OK | OK | OK | OK | |||||||||
| kjohnson3 | macOS 13.7.7 Ventura / arm64 | OK | OK | OK | OK | |||||||||
| taishan | Linux (openEuler 24.03 LTS) / aarch64 | OK | OK | TIMEOUT | ||||||||||
|
To the developers/maintainers of the benchdamic package: - Allow up to 24 hours (and sometimes 48 hours) for your latest push to git@git.bioconductor.org:packages/benchdamic.git to reflect on this report. See Troubleshooting Build Report for more information. - Use the following Renviron settings to reproduce errors and warnings. - If 'R CMD check' started to fail recently on the Linux builder(s) over a missing dependency, add the missing dependency to 'Suggests:' in your DESCRIPTION file. See Renviron.bioc for more information. |
| Package: benchdamic |
| Version: 1.15.4 |
| Command: /home/biocbuild/bbs-3.22-bioc/R/bin/R CMD check --install=check:benchdamic.install-out.txt --library=/home/biocbuild/bbs-3.22-bioc/R/site-library --timings benchdamic_1.15.4.tar.gz |
| StartedAt: 2025-10-23 21:25:40 -0400 (Thu, 23 Oct 2025) |
| EndedAt: 2025-10-23 21:58:28 -0400 (Thu, 23 Oct 2025) |
| EllapsedTime: 1967.2 seconds |
| RetCode: 0 |
| Status: OK |
| CheckDir: benchdamic.Rcheck |
| Warnings: 0 |
##############################################################################
##############################################################################
###
### Running command:
###
### /home/biocbuild/bbs-3.22-bioc/R/bin/R CMD check --install=check:benchdamic.install-out.txt --library=/home/biocbuild/bbs-3.22-bioc/R/site-library --timings benchdamic_1.15.4.tar.gz
###
##############################################################################
##############################################################################
* using log directory ‘/home/biocbuild/bbs-3.22-bioc/meat/benchdamic.Rcheck’
* using R version 4.5.1 Patched (2025-08-23 r88802)
* using platform: x86_64-pc-linux-gnu
* R was compiled by
gcc (Ubuntu 13.3.0-6ubuntu2~24.04) 13.3.0
GNU Fortran (Ubuntu 13.3.0-6ubuntu2~24.04) 13.3.0
* running under: Ubuntu 24.04.3 LTS
* using session charset: UTF-8
* checking for file ‘benchdamic/DESCRIPTION’ ... OK
* checking extension type ... Package
* this is package ‘benchdamic’ version ‘1.15.4’
* package encoding: UTF-8
* checking package namespace information ... OK
* checking package dependencies ... INFO
Imports includes 32 non-default packages.
Importing from so many packages makes the package vulnerable to any of
them becoming unavailable. Move as many as possible to Suggests and
use conditionally.
* checking if this is a source package ... OK
* checking if there is a namespace ... OK
* checking for hidden files and directories ... OK
* checking for portable file names ... OK
* checking for sufficient/correct file permissions ... OK
* checking whether package ‘benchdamic’ can be installed ... OK
* checking installed package size ... OK
* checking package directory ... OK
* checking ‘build’ directory ... OK
* checking DESCRIPTION meta-information ... OK
* checking top-level files ... OK
* checking for left-over files ... OK
* checking index information ... OK
* checking package subdirectories ... OK
* checking code files for non-ASCII characters ... OK
* checking R files for syntax errors ... OK
* checking whether the package can be loaded ... OK
* checking whether the package can be loaded with stated dependencies ... OK
* checking whether the package can be unloaded cleanly ... OK
* checking whether the namespace can be loaded with stated dependencies ... OK
* checking whether the namespace can be unloaded cleanly ... OK
* checking loading without being on the library search path ... OK
* checking dependencies in R code ... NOTE
Namespace in Imports field not imported from: ‘microbiome’
All declared Imports should be used.
* checking S3 generic/method consistency ... OK
* checking replacement functions ... OK
* checking foreign function calls ... OK
* checking R code for possible problems ... OK
* checking Rd files ... OK
* checking Rd metadata ... OK
* checking Rd cross-references ... NOTE
Non-topic package-anchored link(s) in Rd file 'norm_DESeq2.Rd':
‘[DESeq2]{estimateSizeFactors}’
See section 'Cross-references' in the 'Writing R Extensions' manual.
* checking for missing documentation entries ... OK
* checking for code/documentation mismatches ... OK
* checking Rd \usage sections ... OK
* checking Rd contents ... OK
* checking for unstated dependencies in examples ... OK
* checking contents of ‘data’ directory ... OK
* checking data for non-ASCII characters ... OK
* checking LazyData ... OK
* checking data for ASCII and uncompressed saves ... OK
* checking files in ‘vignettes’ ... OK
* checking examples ... OK
Examples with CPU (user + system) or elapsed time > 5s
user system elapsed
plotConcordance 8.265 0.068 9.350
plotEnrichment 5.839 0.209 6.135
fitModels 4.294 0.122 5.422
* checking for unstated dependencies in ‘tests’ ... OK
* checking tests ...
Running ‘testthat.R’
OK
* checking for unstated dependencies in vignettes ... OK
* checking package vignettes ... OK
* checking re-building of vignette outputs ... OK
* checking PDF version of manual ... OK
* DONE
Status: 2 NOTEs
See
‘/home/biocbuild/bbs-3.22-bioc/meat/benchdamic.Rcheck/00check.log’
for details.
benchdamic.Rcheck/00install.out
############################################################################## ############################################################################## ### ### Running command: ### ### /home/biocbuild/bbs-3.22-bioc/R/bin/R CMD INSTALL benchdamic ### ############################################################################## ############################################################################## * installing to library ‘/home/biocbuild/bbs-3.22-bioc/R/site-library’ * installing *source* package ‘benchdamic’ ... ** this is package ‘benchdamic’ version ‘1.15.4’ ** using staged installation ** R ** data *** moving datasets to lazyload DB ** inst ** byte-compile and prepare package for lazy loading Found more than one class "dist" in cache; using the first, from namespace 'BiocGenerics' Also defined by ‘spam’ ** help *** installing help indices ** building package indices ** installing vignettes ** testing if installed package can be loaded from temporary location Found more than one class "dist" in cache; using the first, from namespace 'BiocGenerics' Also defined by ‘spam’ ** testing if installed package can be loaded from final location Found more than one class "dist" in cache; using the first, from namespace 'BiocGenerics' Also defined by ‘spam’ ** testing if installed package keeps a record of temporary installation path * DONE (benchdamic)
benchdamic.Rcheck/tests/testthat.Rout
R version 4.5.1 Patched (2025-08-23 r88802) -- "Great Square Root"
Copyright (C) 2025 The R Foundation for Statistical Computing
Platform: x86_64-pc-linux-gnu
R is free software and comes with ABSOLUTELY NO WARRANTY.
You are welcome to redistribute it under certain conditions.
Type 'license()' or 'licence()' for distribution details.
R is a collaborative project with many contributors.
Type 'contributors()' for more information and
'citation()' on how to cite R or R packages in publications.
Type 'demo()' for some demos, 'help()' for on-line help, or
'help.start()' for an HTML browser interface to help.
Type 'q()' to quit R.
> library(testthat)
> library(benchdamic)
Found more than one class "dist" in cache; using the first, from namespace 'BiocGenerics'
Also defined by 'spam'
>
> test_check("benchdamic")
|------------(25%)----------(50%)----------(75%)----------|
|------------(25%)----------(50%)----------(75%)----------|
|------------(25%)----------(50%)----------(75%)----------|
|------------(25%)----------(50%)----------(75%)----------|
|------------(25%)----------(50%)----------(75%)----------|
[ FAIL 0 | WARN 2 | SKIP 0 | PASS 334 ]
[ FAIL 0 | WARN 2 | SKIP 0 | PASS 334 ]
>
> proc.time()
user system elapsed
67.144 2.978 77.853
benchdamic.Rcheck/benchdamic-Ex.timings
| name | user | system | elapsed | |
| CAT | 0.003 | 0.000 | 0.004 | |
| DA_ALDEx2 | 3.787 | 0.316 | 4.105 | |
| DA_ANCOM | 0.744 | 0.020 | 0.766 | |
| DA_DESeq2 | 2.654 | 0.104 | 2.761 | |
| DA_MAST | 1.183 | 0.035 | 1.193 | |
| DA_Maaslin2 | 0.248 | 0.020 | 0.269 | |
| DA_NOISeq | 1.396 | 0.078 | 1.475 | |
| DA_Seurat | 2.139 | 0.024 | 2.163 | |
| DA_ZicoSeq | 0.622 | 0.002 | 0.623 | |
| DA_basic | 0.028 | 0.001 | 0.029 | |
| DA_corncob | 0.635 | 0.005 | 0.646 | |
| DA_dearseq | 0.055 | 0.001 | 0.056 | |
| DA_edgeR | 0.170 | 0.003 | 0.173 | |
| DA_limma | 0.067 | 0.000 | 0.066 | |
| DA_linda | 0.043 | 0.000 | 0.043 | |
| DA_maaslin3 | 0.465 | 0.013 | 0.479 | |
| DA_metagenomeSeq | 0.225 | 0.003 | 0.228 | |
| DA_mixMC | 0.668 | 0.012 | 0.681 | |
| RMSE | 0.001 | 0.000 | 0.001 | |
| addKnowledge | 0.176 | 0.000 | 0.175 | |
| areaCAT | 4.067 | 0.037 | 4.103 | |
| checkNormalization | 0 | 0 | 0 | |
| createColors | 0.004 | 0.000 | 0.004 | |
| createConcordance | 4.738 | 0.043 | 4.780 | |
| createEnrichment | 0.253 | 0.001 | 0.253 | |
| createMocks | 0.002 | 0.000 | 0.002 | |
| createPositives | 0.938 | 0.029 | 0.967 | |
| createSplits | 0.026 | 0.005 | 0.032 | |
| createTIEC | 2.884 | 0.019 | 2.903 | |
| enrichmentTest | 0.149 | 0.000 | 0.149 | |
| extractDA | 0.174 | 0.011 | 0.184 | |
| extractStatistics | 0.163 | 0.002 | 0.165 | |
| fitDM | 0.03 | 0.00 | 0.03 | |
| fitHURDLE | 0.643 | 0.018 | 0.662 | |
| fitModels | 4.294 | 0.122 | 5.422 | |
| fitNB | 0.091 | 0.005 | 0.172 | |
| fitZIG | 0.104 | 0.006 | 0.171 | |
| fitZINB | 0.870 | 0.024 | 1.489 | |
| getDA | 0.133 | 0.002 | 0.136 | |
| getPositives | 0.135 | 0.002 | 0.137 | |
| getStatistics | 0.124 | 0.003 | 0.126 | |
| get_counts_metadata | 0.202 | 0.002 | 0.266 | |
| iterative_ordering | 0.015 | 0.000 | 0.021 | |
| meanDifferences | 0.002 | 0.001 | 0.003 | |
| norm_CSS | 0.121 | 0.002 | 0.123 | |
| norm_DESeq2 | 0.737 | 0.010 | 0.747 | |
| norm_TSS | 0.049 | 0.000 | 0.049 | |
| norm_edgeR | 0.057 | 0.001 | 0.059 | |
| plotConcordance | 8.265 | 0.068 | 9.350 | |
| plotContingency | 2.513 | 0.002 | 2.569 | |
| plotEnrichment | 5.839 | 0.209 | 6.135 | |
| plotFDR | 3.983 | 0.023 | 4.007 | |
| plotFPR | 2.617 | 0.022 | 2.769 | |
| plotKS | 2.976 | 0.029 | 3.067 | |
| plotLogP | 2.723 | 0.009 | 2.735 | |
| plotMD | 3.549 | 0.043 | 3.592 | |
| plotMutualFindings | 1.353 | 0.000 | 1.354 | |
| plotPositives | 0.831 | 0.014 | 0.845 | |
| plotQQ | 2.594 | 0.035 | 2.629 | |
| plotRMSE | 2.730 | 0.058 | 2.788 | |
| prepareObserved | 0.001 | 0.000 | 0.001 | |
| runDA | 0.464 | 0.007 | 0.471 | |
| runMocks | 0.684 | 0.007 | 0.692 | |
| runNormalizations | 0.420 | 0.001 | 0.422 | |
| runSplits | 3.222 | 0.047 | 3.270 | |
| setNormalizations | 0 | 0 | 0 | |
| set_ALDEx2 | 0.006 | 0.000 | 0.007 | |
| set_ANCOM | 0.007 | 0.000 | 0.007 | |
| set_DESeq2 | 0.006 | 0.000 | 0.007 | |
| set_MAST | 0.003 | 0.000 | 0.003 | |
| set_Maaslin2 | 0.004 | 0.000 | 0.004 | |
| set_NOISeq | 0.003 | 0.000 | 0.003 | |
| set_Seurat | 0.006 | 0.000 | 0.006 | |
| set_ZicoSeq | 0.006 | 0.001 | 0.006 | |
| set_basic | 0.002 | 0.000 | 0.002 | |
| set_corncob | 0.004 | 0.000 | 0.004 | |
| set_dearseq | 0.002 | 0.000 | 0.002 | |
| set_edgeR | 0.011 | 0.000 | 0.011 | |
| set_limma | 0.007 | 0.001 | 0.007 | |
| set_linda | 0.005 | 0.000 | 0.005 | |
| set_maaslin3 | 0.006 | 0.000 | 0.006 | |
| set_metagenomeSeq | 0.005 | 0.000 | 0.005 | |
| set_mixMC | 0.002 | 0.000 | 0.003 | |
| weights_ZINB | 0.376 | 0.005 | 0.381 | |