| Back to Multiple platform build/check report for BioC 3.22: simplified long |
|
This page was generated on 2025-10-24 12:06 -0400 (Fri, 24 Oct 2025).
| Hostname | OS | Arch (*) | R version | Installed pkgs |
|---|---|---|---|---|
| nebbiolo2 | Linux (Ubuntu 24.04.3 LTS) | x86_64 | 4.5.1 Patched (2025-08-23 r88802) -- "Great Square Root" | 4898 |
| lconway | macOS 12.7.6 Monterey | x86_64 | 4.5.1 Patched (2025-09-10 r88807) -- "Great Square Root" | 4688 |
| kjohnson3 | macOS 13.7.7 Ventura | arm64 | 4.5.1 Patched (2025-09-10 r88807) -- "Great Square Root" | 4634 |
| taishan | Linux (openEuler 24.03 LTS) | aarch64 | 4.5.0 (2025-04-11) -- "How About a Twenty-Six" | 4658 |
| Click on any hostname to see more info about the system (e.g. compilers) (*) as reported by 'uname -p', except on Windows and Mac OS X | ||||
| Package 165/2359 | Hostname | OS / Arch | INSTALL | BUILD | CHECK | BUILD BIN | ||||||||
| benchdamic 1.15.4 (landing page) Matteo Calgaro
| nebbiolo2 | Linux (Ubuntu 24.04.3 LTS) / x86_64 | OK | OK | OK | |||||||||
| lconway | macOS 12.7.6 Monterey / x86_64 | OK | OK | OK | OK | |||||||||
| kjohnson3 | macOS 13.7.7 Ventura / arm64 | OK | OK | OK | OK | |||||||||
| taishan | Linux (openEuler 24.03 LTS) / aarch64 | OK | OK | TIMEOUT | ||||||||||
|
To the developers/maintainers of the benchdamic package: - Allow up to 24 hours (and sometimes 48 hours) for your latest push to git@git.bioconductor.org:packages/benchdamic.git to reflect on this report. See Troubleshooting Build Report for more information. - Use the following Renviron settings to reproduce errors and warnings. - If 'R CMD check' started to fail recently on the Linux builder(s) over a missing dependency, add the missing dependency to 'Suggests:' in your DESCRIPTION file. See Renviron.bioc for more information. |
| Package: benchdamic |
| Version: 1.15.4 |
| Command: /Library/Frameworks/R.framework/Resources/bin/R CMD check --install=check:benchdamic.install-out.txt --library=/Library/Frameworks/R.framework/Resources/library --no-vignettes --timings benchdamic_1.15.4.tar.gz |
| StartedAt: 2025-10-23 18:42:09 -0400 (Thu, 23 Oct 2025) |
| EndedAt: 2025-10-23 18:46:14 -0400 (Thu, 23 Oct 2025) |
| EllapsedTime: 244.5 seconds |
| RetCode: 0 |
| Status: OK |
| CheckDir: benchdamic.Rcheck |
| Warnings: 0 |
##############################################################################
##############################################################################
###
### Running command:
###
### /Library/Frameworks/R.framework/Resources/bin/R CMD check --install=check:benchdamic.install-out.txt --library=/Library/Frameworks/R.framework/Resources/library --no-vignettes --timings benchdamic_1.15.4.tar.gz
###
##############################################################################
##############################################################################
* using log directory ‘/Users/biocbuild/bbs-3.22-bioc/meat/benchdamic.Rcheck’
* using R version 4.5.1 Patched (2025-09-10 r88807)
* using platform: aarch64-apple-darwin20
* R was compiled by
Apple clang version 16.0.0 (clang-1600.0.26.6)
GNU Fortran (GCC) 14.2.0
* running under: macOS Ventura 13.7.7
* using session charset: UTF-8
* using option ‘--no-vignettes’
* checking for file ‘benchdamic/DESCRIPTION’ ... OK
* checking extension type ... Package
* this is package ‘benchdamic’ version ‘1.15.4’
* package encoding: UTF-8
* checking package namespace information ... OK
* checking package dependencies ... INFO
Imports includes 32 non-default packages.
Importing from so many packages makes the package vulnerable to any of
them becoming unavailable. Move as many as possible to Suggests and
use conditionally.
* checking if this is a source package ... OK
* checking if there is a namespace ... OK
* checking for hidden files and directories ... OK
* checking for portable file names ... OK
* checking for sufficient/correct file permissions ... OK
* checking whether package ‘benchdamic’ can be installed ... OK
* checking installed package size ... OK
* checking package directory ... OK
* checking ‘build’ directory ... OK
* checking DESCRIPTION meta-information ... OK
* checking top-level files ... OK
* checking for left-over files ... OK
* checking index information ... OK
* checking package subdirectories ... OK
* checking code files for non-ASCII characters ... OK
* checking R files for syntax errors ... OK
* checking whether the package can be loaded ... OK
* checking whether the package can be loaded with stated dependencies ... OK
* checking whether the package can be unloaded cleanly ... OK
* checking whether the namespace can be loaded with stated dependencies ... OK
* checking whether the namespace can be unloaded cleanly ... OK
* checking dependencies in R code ... NOTE
Namespace in Imports field not imported from: ‘microbiome’
All declared Imports should be used.
* checking S3 generic/method consistency ... OK
* checking replacement functions ... OK
* checking foreign function calls ... OK
* checking R code for possible problems ... OK
* checking Rd files ... OK
* checking Rd metadata ... OK
* checking Rd cross-references ... NOTE
Non-topic package-anchored link(s) in Rd file 'norm_DESeq2.Rd':
‘[DESeq2]{estimateSizeFactors}’
See section 'Cross-references' in the 'Writing R Extensions' manual.
* checking for missing documentation entries ... OK
* checking for code/documentation mismatches ... OK
* checking Rd \usage sections ... OK
* checking Rd contents ... OK
* checking for unstated dependencies in examples ... OK
* checking contents of ‘data’ directory ... OK
* checking data for non-ASCII characters ... OK
* checking LazyData ... OK
* checking data for ASCII and uncompressed saves ... OK
* checking files in ‘vignettes’ ... OK
* checking examples ... OK
* checking for unstated dependencies in ‘tests’ ... OK
* checking tests ...
Running ‘testthat.R’
OK
* checking for unstated dependencies in vignettes ... OK
* checking package vignettes ... OK
* checking running R code from vignettes ... SKIPPED
* checking re-building of vignette outputs ... SKIPPED
* checking PDF version of manual ... OK
* DONE
Status: 2 NOTEs
See
‘/Users/biocbuild/bbs-3.22-bioc/meat/benchdamic.Rcheck/00check.log’
for details.
benchdamic.Rcheck/00install.out
############################################################################## ############################################################################## ### ### Running command: ### ### /Library/Frameworks/R.framework/Resources/bin/R CMD INSTALL benchdamic ### ############################################################################## ############################################################################## * installing to library ‘/Library/Frameworks/R.framework/Versions/4.5-arm64/Resources/library’ * installing *source* package ‘benchdamic’ ... ** this is package ‘benchdamic’ version ‘1.15.4’ ** using staged installation ** R ** data *** moving datasets to lazyload DB ** inst ** byte-compile and prepare package for lazy loading Found more than one class "dist" in cache; using the first, from namespace 'BiocGenerics' Also defined by ‘spam’ ** help *** installing help indices ** building package indices ** installing vignettes ** testing if installed package can be loaded from temporary location Found more than one class "dist" in cache; using the first, from namespace 'BiocGenerics' Also defined by ‘spam’ ** testing if installed package can be loaded from final location Found more than one class "dist" in cache; using the first, from namespace 'BiocGenerics' Also defined by ‘spam’ ** testing if installed package keeps a record of temporary installation path * DONE (benchdamic)
benchdamic.Rcheck/tests/testthat.Rout
R version 4.5.1 Patched (2025-09-10 r88807) -- "Great Square Root"
Copyright (C) 2025 The R Foundation for Statistical Computing
Platform: aarch64-apple-darwin20
R is free software and comes with ABSOLUTELY NO WARRANTY.
You are welcome to redistribute it under certain conditions.
Type 'license()' or 'licence()' for distribution details.
R is a collaborative project with many contributors.
Type 'contributors()' for more information and
'citation()' on how to cite R or R packages in publications.
Type 'demo()' for some demos, 'help()' for on-line help, or
'help.start()' for an HTML browser interface to help.
Type 'q()' to quit R.
> library(testthat)
> library(benchdamic)
Found more than one class "dist" in cache; using the first, from namespace 'BiocGenerics'
Also defined by 'spam'
>
> test_check("benchdamic")
|------------(25%)----------(50%)----------(75%)----------|
|------------(25%)----------(50%)----------(75%)----------|
|------------(25%)----------(50%)----------(75%)----------|
|------------(25%)----------(50%)----------(75%)----------|
|------------(25%)----------(50%)----------(75%)----------|
[ FAIL 0 | WARN 2 | SKIP 0 | PASS 334 ]
[ FAIL 0 | WARN 2 | SKIP 0 | PASS 334 ]
>
> proc.time()
user system elapsed
25.366 1.340 32.091
benchdamic.Rcheck/benchdamic-Ex.timings
| name | user | system | elapsed | |
| CAT | 0.002 | 0.000 | 0.001 | |
| DA_ALDEx2 | 1.390 | 0.228 | 1.637 | |
| DA_ANCOM | 0.242 | 0.004 | 0.247 | |
| DA_DESeq2 | 0.958 | 0.006 | 0.976 | |
| DA_MAST | 0.386 | 0.006 | 0.394 | |
| DA_Maaslin2 | 0.099 | 0.013 | 0.126 | |
| DA_NOISeq | 0.640 | 0.005 | 0.663 | |
| DA_Seurat | 0.888 | 0.012 | 0.900 | |
| DA_ZicoSeq | 0.217 | 0.022 | 0.239 | |
| DA_basic | 0.010 | 0.001 | 0.011 | |
| DA_corncob | 0.217 | 0.025 | 0.265 | |
| DA_dearseq | 0.020 | 0.001 | 0.022 | |
| DA_edgeR | 0.061 | 0.003 | 0.064 | |
| DA_limma | 0.025 | 0.001 | 0.026 | |
| DA_linda | 0.015 | 0.001 | 0.016 | |
| DA_maaslin3 | 0.171 | 0.006 | 0.183 | |
| DA_metagenomeSeq | 0.078 | 0.005 | 0.095 | |
| DA_mixMC | 0.189 | 0.006 | 0.199 | |
| RMSE | 0.001 | 0.000 | 0.001 | |
| addKnowledge | 0.057 | 0.003 | 0.065 | |
| areaCAT | 1.260 | 0.032 | 1.334 | |
| checkNormalization | 0 | 0 | 0 | |
| createColors | 0.001 | 0.001 | 0.002 | |
| createConcordance | 1.459 | 0.042 | 1.503 | |
| createEnrichment | 0.076 | 0.003 | 0.080 | |
| createMocks | 0.000 | 0.001 | 0.001 | |
| createPositives | 0.293 | 0.007 | 0.322 | |
| createSplits | 0.011 | 0.001 | 0.018 | |
| createTIEC | 1.213 | 0.023 | 1.994 | |
| enrichmentTest | 0.051 | 0.002 | 0.081 | |
| extractDA | 0.072 | 0.002 | 0.129 | |
| extractStatistics | 0.069 | 0.003 | 0.111 | |
| fitDM | 0.011 | 0.001 | 0.013 | |
| fitHURDLE | 0.260 | 0.002 | 0.432 | |
| fitModels | 0.868 | 0.016 | 1.471 | |
| fitNB | 0.013 | 0.000 | 0.019 | |
| fitZIG | 0.016 | 0.000 | 0.024 | |
| fitZINB | 0.172 | 0.001 | 0.284 | |
| getDA | 0.031 | 0.002 | 0.049 | |
| getPositives | 0.026 | 0.002 | 0.047 | |
| getStatistics | 0.027 | 0.004 | 0.044 | |
| get_counts_metadata | 0.047 | 0.002 | 0.090 | |
| iterative_ordering | 0.003 | 0.001 | 0.017 | |
| meanDifferences | 0.000 | 0.000 | 0.001 | |
| norm_CSS | 0.022 | 0.001 | 0.036 | |
| norm_DESeq2 | 0.178 | 0.001 | 0.289 | |
| norm_TSS | 0.018 | 0.000 | 0.023 | |
| norm_edgeR | 0.011 | 0.001 | 0.020 | |
| plotConcordance | 2.536 | 0.070 | 4.115 | |
| plotContingency | 0.590 | 0.013 | 1.010 | |
| plotEnrichment | 0.550 | 0.010 | 0.938 | |
| plotFDR | 0.967 | 0.012 | 1.384 | |
| plotFPR | 0.821 | 0.011 | 1.318 | |
| plotKS | 0.992 | 0.013 | 1.615 | |
| plotLogP | 0.998 | 0.013 | 1.673 | |
| plotMD | 1.324 | 0.013 | 1.968 | |
| plotMutualFindings | 0.445 | 0.004 | 0.664 | |
| plotPositives | 0.263 | 0.005 | 0.421 | |
| plotQQ | 0.941 | 0.011 | 1.531 | |
| plotRMSE | 1.097 | 0.009 | 1.832 | |
| prepareObserved | 0.001 | 0.000 | 0.001 | |
| runDA | 0.188 | 0.001 | 0.315 | |
| runMocks | 0.291 | 0.004 | 0.524 | |
| runNormalizations | 0.183 | 0.001 | 0.300 | |
| runSplits | 1.284 | 0.023 | 1.828 | |
| setNormalizations | 0 | 0 | 0 | |
| set_ALDEx2 | 0.002 | 0.000 | 0.002 | |
| set_ANCOM | 0.002 | 0.000 | 0.002 | |
| set_DESeq2 | 0.002 | 0.000 | 0.002 | |
| set_MAST | 0.001 | 0.000 | 0.001 | |
| set_Maaslin2 | 0.001 | 0.000 | 0.002 | |
| set_NOISeq | 0.002 | 0.000 | 0.001 | |
| set_Seurat | 0.002 | 0.000 | 0.002 | |
| set_ZicoSeq | 0.002 | 0.000 | 0.003 | |
| set_basic | 0.001 | 0.000 | 0.006 | |
| set_corncob | 0.001 | 0.000 | 0.001 | |
| set_dearseq | 0.001 | 0.000 | 0.000 | |
| set_edgeR | 0.004 | 0.000 | 0.003 | |
| set_limma | 0.002 | 0.000 | 0.002 | |
| set_linda | 0.001 | 0.000 | 0.002 | |
| set_maaslin3 | 0.003 | 0.000 | 0.003 | |
| set_metagenomeSeq | 0.001 | 0.001 | 0.002 | |
| set_mixMC | 0.001 | 0.000 | 0.001 | |
| weights_ZINB | 0.129 | 0.001 | 0.227 | |