| Back to Multiple platform build/check report for BioC 3.22: simplified long |
|
This page was generated on 2025-08-15 12:07 -0400 (Fri, 15 Aug 2025).
| Hostname | OS | Arch (*) | R version | Installed pkgs |
|---|---|---|---|---|
| nebbiolo2 | Linux (Ubuntu 24.04.3 LTS) | x86_64 | 4.5.1 (2025-06-13) -- "Great Square Root" | 4818 |
| palomino8 | Windows Server 2022 Datacenter | x64 | 4.5.1 (2025-06-13 ucrt) -- "Great Square Root" | 4554 |
| lconway | macOS 12.7.1 Monterey | x86_64 | 4.5.1 (2025-06-13) -- "Great Square Root" | 4595 |
| kjohnson3 | macOS 13.7.7 Ventura | arm64 | 4.5.1 Patched (2025-06-14 r88325) -- "Great Square Root" | 4537 |
| taishan | Linux (openEuler 24.03 LTS) | aarch64 | 4.5.0 (2025-04-11) -- "How About a Twenty-Six" | 4535 |
| Click on any hostname to see more info about the system (e.g. compilers) (*) as reported by 'uname -p', except on Windows and Mac OS X | ||||
| Package 1709/2317 | Hostname | OS / Arch | INSTALL | BUILD | CHECK | BUILD BIN | ||||||||
| ReactomeGSA 1.23.0 (landing page) Johannes Griss
| nebbiolo2 | Linux (Ubuntu 24.04.3 LTS) / x86_64 | OK | OK | OK | |||||||||
| palomino8 | Windows Server 2022 Datacenter / x64 | OK | OK | OK | OK | |||||||||
| lconway | macOS 12.7.1 Monterey / x86_64 | OK | OK | OK | OK | |||||||||
| kjohnson3 | macOS 13.7.7 Ventura / arm64 | OK | OK | OK | OK | |||||||||
| taishan | Linux (openEuler 24.03 LTS) / aarch64 | OK | ERROR | skipped | ||||||||||
|
To the developers/maintainers of the ReactomeGSA package: - Allow up to 24 hours (and sometimes 48 hours) for your latest push to git@git.bioconductor.org:packages/ReactomeGSA.git to reflect on this report. See Troubleshooting Build Report for more information. - Use the following Renviron settings to reproduce errors and warnings. - If 'R CMD check' started to fail recently on the Linux builder(s) over a missing dependency, add the missing dependency to 'Suggests:' in your DESCRIPTION file. See Renviron.bioc for more information. |
| Package: ReactomeGSA |
| Version: 1.23.0 |
| Command: F:\biocbuild\bbs-3.22-bioc\R\bin\R.exe CMD check --no-multiarch --install=check:ReactomeGSA.install-out.txt --library=F:\biocbuild\bbs-3.22-bioc\R\library --no-vignettes --timings ReactomeGSA_1.23.0.tar.gz |
| StartedAt: 2025-08-15 06:53:06 -0400 (Fri, 15 Aug 2025) |
| EndedAt: 2025-08-15 07:07:22 -0400 (Fri, 15 Aug 2025) |
| EllapsedTime: 856.2 seconds |
| RetCode: 0 |
| Status: OK |
| CheckDir: ReactomeGSA.Rcheck |
| Warnings: 0 |
##############################################################################
##############################################################################
###
### Running command:
###
### F:\biocbuild\bbs-3.22-bioc\R\bin\R.exe CMD check --no-multiarch --install=check:ReactomeGSA.install-out.txt --library=F:\biocbuild\bbs-3.22-bioc\R\library --no-vignettes --timings ReactomeGSA_1.23.0.tar.gz
###
##############################################################################
##############################################################################
* using log directory 'F:/biocbuild/bbs-3.22-bioc/meat/ReactomeGSA.Rcheck'
* using R version 4.5.1 (2025-06-13 ucrt)
* using platform: x86_64-w64-mingw32
* R was compiled by
gcc.exe (GCC) 14.2.0
GNU Fortran (GCC) 14.2.0
* running under: Windows Server 2022 x64 (build 20348)
* using session charset: UTF-8
* using option '--no-vignettes'
* checking for file 'ReactomeGSA/DESCRIPTION' ... OK
* checking extension type ... Package
* this is package 'ReactomeGSA' version '1.23.0'
* package encoding: UTF-8
* checking package namespace information ... OK
* checking package dependencies ... OK
* checking if this is a source package ... OK
* checking if there is a namespace ... OK
* checking for hidden files and directories ... OK
* checking for portable file names ... OK
* checking whether package 'ReactomeGSA' can be installed ... OK
* checking installed package size ... OK
* checking package directory ... OK
* checking 'build' directory ... OK
* checking DESCRIPTION meta-information ... OK
* checking top-level files ... OK
* checking for left-over files ... OK
* checking index information ... OK
* checking package subdirectories ... OK
* checking code files for non-ASCII characters ... OK
* checking R files for syntax errors ... OK
* checking whether the package can be loaded ... OK
* checking whether the package can be loaded with stated dependencies ... OK
* checking whether the package can be unloaded cleanly ... OK
* checking whether the namespace can be loaded with stated dependencies ... OK
* checking whether the namespace can be unloaded cleanly ... OK
* checking whether startup messages can be suppressed ... OK
* checking dependencies in R code ... OK
* checking S3 generic/method consistency ... OK
* checking replacement functions ... OK
* checking foreign function calls ... OK
* checking R code for possible problems ... NOTE
plot_correlations,ReactomeAnalysisResult: no visible binding for global
variable 'combined_sig'
plot_correlations,ReactomeAnalysisResult: no visible binding for global
variable 'alpha'
plot_gsva_pathway,ReactomeAnalysisResult: no visible binding for global
variable 'cluster_id'
plot_gsva_pathway,ReactomeAnalysisResult: no visible binding for global
variable 'expr'
plot_gsva_pca,ReactomeAnalysisResult: no visible binding for global
variable 'gsva_result'
plot_gsva_pca,ReactomeAnalysisResult: no visible binding for global
variable 'PC1'
plot_gsva_pca,ReactomeAnalysisResult: no visible binding for global
variable 'PC2'
plot_heatmap,ReactomeAnalysisResult: no visible global function
definition for 'desc'
plot_heatmap,ReactomeAnalysisResult: no visible binding for global
variable 'n_sig'
plot_heatmap,ReactomeAnalysisResult: no visible binding for global
variable 'dataset'
plot_heatmap,ReactomeAnalysisResult: no visible binding for global
variable 'Name'
plot_volcano,ReactomeAnalysisResult: no visible binding for global
variable 'av_foldchange'
plot_volcano,ReactomeAnalysisResult: no visible binding for global
variable 'FDR'
Undefined global functions or variables:
FDR Name PC1 PC2 alpha av_foldchange cluster_id combined_sig dataset
desc expr gsva_result n_sig
* checking Rd files ... OK
* checking Rd metadata ... OK
* checking Rd cross-references ... OK
* checking for missing documentation entries ... OK
* checking for code/documentation mismatches ... OK
* checking Rd \usage sections ... OK
* checking Rd contents ... OK
* checking for unstated dependencies in examples ... OK
* checking files in 'vignettes' ... OK
* checking examples ... OK
Examples with CPU (user + system) or elapsed time > 5s
user system elapsed
plot_gsva_heatmap-ReactomeAnalysisResult-method 39.22 2.72 76.53
plot_gsva_heatmap 38.47 2.67 75.04
plot_gsva_pca 37.90 2.96 81.25
plot_gsva_pca-ReactomeAnalysisResult-method 37.85 2.97 78.61
analyse_sc_clusters-Seurat-method 37.61 3.11 79.70
analyse_sc_clusters 37.16 3.08 78.58
plot_gsva_pathway 35.79 2.90 73.43
analyse_sc_clusters-SingleCellExperiment-method 35.12 2.93 76.48
plot_gsva_pathway-ReactomeAnalysisResult-method 34.72 2.89 72.86
generate_pseudo_bulk_data 19.02 2.15 22.33
ReactomeAnalysisRequest 6.47 0.75 7.27
perform_reactome_analysis 3.93 0.28 18.13
load_public_dataset 2.21 0.08 5.06
* checking for unstated dependencies in 'tests' ... OK
* checking tests ...
Running 'testthat.R'
OK
* checking for unstated dependencies in vignettes ... OK
* checking package vignettes ... OK
* checking running R code from vignettes ... SKIPPED
* checking re-building of vignette outputs ... SKIPPED
* checking PDF version of manual ... OK
* DONE
Status: 1 NOTE
See
'F:/biocbuild/bbs-3.22-bioc/meat/ReactomeGSA.Rcheck/00check.log'
for details.
ReactomeGSA.Rcheck/00install.out
############################################################################## ############################################################################## ### ### Running command: ### ### F:\biocbuild\bbs-3.22-bioc\R\bin\R.exe CMD INSTALL ReactomeGSA ### ############################################################################## ############################################################################## * installing to library 'F:/biocbuild/bbs-3.22-bioc/R/library' * installing *source* package 'ReactomeGSA' ... ** this is package 'ReactomeGSA' version '1.23.0' ** using staged installation ** R ** inst ** byte-compile and prepare package for lazy loading in method for 'analyse_sc_clusters' with signature 'object="Seurat"': no definition for class "Seurat" in method for 'analyse_sc_clusters' with signature 'object="SingleCellExperiment"': no definition for class "SingleCellExperiment" in method for 'add_dataset' with signature 'request="ReactomeAnalysisRequest",expression_values="EList"': no definition for class "EList" in method for 'add_dataset' with signature 'request="ReactomeAnalysisRequest",expression_values="DGEList"': no definition for class "DGEList" in method for 'generate_pseudo_bulk_data' with signature 'object="Seurat"': no definition for class "Seurat" in method for 'generate_pseudo_bulk_data' with signature 'object="SingleCellExperiment"': no definition for class "SingleCellExperiment" ** help *** installing help indices ** building package indices ** installing vignettes ** testing if installed package can be loaded from temporary location ** testing if installed package can be loaded from final location ** testing if installed package keeps a record of temporary installation path * DONE (ReactomeGSA)
ReactomeGSA.Rcheck/tests/testthat.Rout
R version 4.5.1 (2025-06-13 ucrt) -- "Great Square Root"
Copyright (C) 2025 The R Foundation for Statistical Computing
Platform: x86_64-w64-mingw32/x64
R is free software and comes with ABSOLUTELY NO WARRANTY.
You are welcome to redistribute it under certain conditions.
Type 'license()' or 'licence()' for distribution details.
R is a collaborative project with many contributors.
Type 'contributors()' for more information and
'citation()' on how to cite R or R packages in publications.
Type 'demo()' for some demos, 'help()' for on-line help, or
'help.start()' for an HTML browser interface to help.
Type 'q()' to quit R.
> library(testthat)
> library(ReactomeGSA)
>
> test_check("ReactomeGSA")
[ FAIL 0 | WARN 0 | SKIP 0 | PASS 17 ]
>
> proc.time()
user system elapsed
1.96 0.18 2.21
ReactomeGSA.Rcheck/ReactomeGSA-Ex.timings
| name | user | system | elapsed | |
| ReactomeAnalysisRequest | 6.47 | 0.75 | 7.27 | |
| ReactomeAnalysisResult-class | 0.21 | 0.05 | 0.26 | |
| add_dataset-ReactomeAnalysisRequest-DGEList-method | 1.46 | 0.04 | 1.50 | |
| add_dataset-ReactomeAnalysisRequest-EList-method | 0.92 | 0.06 | 0.99 | |
| add_dataset-ReactomeAnalysisRequest-ExpressionSet-method | 1.04 | 0.05 | 1.09 | |
| add_dataset-ReactomeAnalysisRequest-data.frame-method | 0.89 | 0.06 | 0.95 | |
| add_dataset-ReactomeAnalysisRequest-matrix-method | 0.89 | 0.03 | 0.92 | |
| add_dataset | 0.97 | 0.02 | 0.99 | |
| analyse_sc_clusters-Seurat-method | 37.61 | 3.11 | 79.70 | |
| analyse_sc_clusters-SingleCellExperiment-method | 35.12 | 2.93 | 76.48 | |
| analyse_sc_clusters | 37.16 | 3.08 | 78.58 | |
| find_public_datasets | 0.06 | 0.02 | 2.42 | |
| generate_metadata | 0 | 0 | 0 | |
| generate_pseudo_bulk_data | 19.02 | 2.15 | 22.33 | |
| get_public_species | 0.01 | 0.02 | 0.42 | |
| get_reactome_data_types | 0.00 | 0.02 | 0.61 | |
| get_reactome_methods | 0.04 | 0.01 | 0.97 | |
| get_result-ReactomeAnalysisResult-method | 0.26 | 0.02 | 0.28 | |
| get_result | 0.22 | 0.01 | 0.23 | |
| load_public_dataset | 2.21 | 0.08 | 5.06 | |
| names-ReactomeAnalysisResult-method | 0.24 | 0.01 | 0.25 | |
| open_reactome-ReactomeAnalysisResult-method | 0.20 | 0.06 | 0.27 | |
| open_reactome | 0.25 | 0.02 | 0.26 | |
| pathways-ReactomeAnalysisResult-method | 0.28 | 0.05 | 0.33 | |
| pathways | 0.22 | 0.01 | 0.23 | |
| perform_reactome_analysis | 3.93 | 0.28 | 18.13 | |
| plot_correlations-ReactomeAnalysisResult-method | 0.24 | 0.03 | 0.27 | |
| plot_correlations | 0.24 | 0.02 | 0.25 | |
| plot_gsva_heatmap-ReactomeAnalysisResult-method | 39.22 | 2.72 | 76.53 | |
| plot_gsva_heatmap | 38.47 | 2.67 | 75.04 | |
| plot_gsva_pathway-ReactomeAnalysisResult-method | 34.72 | 2.89 | 72.86 | |
| plot_gsva_pathway | 35.79 | 2.90 | 73.43 | |
| plot_gsva_pca-ReactomeAnalysisResult-method | 37.85 | 2.97 | 78.61 | |
| plot_gsva_pca | 37.90 | 2.96 | 81.25 | |
| plot_heatmap-ReactomeAnalysisResult-method | 0.44 | 0.03 | 0.50 | |
| plot_heatmap | 0.67 | 0.03 | 0.98 | |
| plot_volcano-ReactomeAnalysisResult-method | 0.22 | 0.03 | 0.25 | |
| plot_volcano | 0.27 | 0.02 | 0.28 | |
| print-ReactomeAnalysisRequest-method | 0 | 0 | 0 | |
| print-ReactomeAnalysisResult-method | 0.28 | 0.03 | 0.31 | |
| reactome_links-ReactomeAnalysisResult-method | 0.28 | 0.01 | 0.30 | |
| reactome_links | 0.27 | 0.03 | 0.30 | |
| result_types-ReactomeAnalysisResult-method | 0.20 | 0.02 | 0.21 | |
| result_types | 0.19 | 0.01 | 0.20 | |
| set_method-ReactomeAnalysisRequest-method | 0.00 | 0.02 | 0.02 | |
| set_method | 0 | 0 | 0 | |
| set_parameters-ReactomeAnalysisRequest-method | 0 | 0 | 0 | |
| set_parameters | 0 | 0 | 0 | |
| show-ReactomeAnalysisRequest-method | 0 | 0 | 0 | |
| show-ReactomeAnalysisResult-method | 0.19 | 0.03 | 0.22 | |