| Back to Multiple platform build/check report for BioC 3.22: simplified long |
|
This page was generated on 2025-10-25 12:05 -0400 (Sat, 25 Oct 2025).
| Hostname | OS | Arch (*) | R version | Installed pkgs |
|---|---|---|---|---|
| nebbiolo2 | Linux (Ubuntu 24.04.3 LTS) | x86_64 | 4.5.1 Patched (2025-08-23 r88802) -- "Great Square Root" | 4901 |
| lconway | macOS 12.7.6 Monterey | x86_64 | 4.5.1 Patched (2025-09-10 r88807) -- "Great Square Root" | 4691 |
| kjohnson3 | macOS 13.7.7 Ventura | arm64 | 4.5.1 Patched (2025-09-10 r88807) -- "Great Square Root" | 4637 |
| taishan | Linux (openEuler 24.03 LTS) | aarch64 | 4.5.0 (2025-04-11) -- "How About a Twenty-Six" | 4658 |
| Click on any hostname to see more info about the system (e.g. compilers) (*) as reported by 'uname -p', except on Windows and Mac OS X | ||||
| Package 1743/2361 | Hostname | OS / Arch | INSTALL | BUILD | CHECK | BUILD BIN | ||||||||
| ReactomeGSA 1.23.0 (landing page) Johannes Griss
| nebbiolo2 | Linux (Ubuntu 24.04.3 LTS) / x86_64 | OK | OK | OK | |||||||||
| lconway | macOS 12.7.6 Monterey / x86_64 | OK | OK | OK | OK | |||||||||
| kjohnson3 | macOS 13.7.7 Ventura / arm64 | OK | OK | OK | OK | |||||||||
| taishan | Linux (openEuler 24.03 LTS) / aarch64 | OK | NA | NA | ||||||||||
|
To the developers/maintainers of the ReactomeGSA package: - Allow up to 24 hours (and sometimes 48 hours) for your latest push to git@git.bioconductor.org:packages/ReactomeGSA.git to reflect on this report. See Troubleshooting Build Report for more information. - Use the following Renviron settings to reproduce errors and warnings. - If 'R CMD check' started to fail recently on the Linux builder(s) over a missing dependency, add the missing dependency to 'Suggests:' in your DESCRIPTION file. See Renviron.bioc for more information. |
| Package: ReactomeGSA |
| Version: 1.23.0 |
| Command: /Library/Frameworks/R.framework/Resources/bin/R CMD check --install=check:ReactomeGSA.install-out.txt --library=/Library/Frameworks/R.framework/Resources/library --no-vignettes --timings ReactomeGSA_1.23.0.tar.gz |
| StartedAt: 2025-10-24 23:38:40 -0400 (Fri, 24 Oct 2025) |
| EndedAt: 2025-10-24 23:53:36 -0400 (Fri, 24 Oct 2025) |
| EllapsedTime: 896.0 seconds |
| RetCode: 0 |
| Status: OK |
| CheckDir: ReactomeGSA.Rcheck |
| Warnings: 0 |
##############################################################################
##############################################################################
###
### Running command:
###
### /Library/Frameworks/R.framework/Resources/bin/R CMD check --install=check:ReactomeGSA.install-out.txt --library=/Library/Frameworks/R.framework/Resources/library --no-vignettes --timings ReactomeGSA_1.23.0.tar.gz
###
##############################################################################
##############################################################################
* using log directory ‘/Users/biocbuild/bbs-3.22-bioc/meat/ReactomeGSA.Rcheck’
* using R version 4.5.1 Patched (2025-09-10 r88807)
* using platform: x86_64-apple-darwin20
* R was compiled by
Apple clang version 14.0.0 (clang-1400.0.29.202)
GNU Fortran (GCC) 14.2.0
* running under: macOS Monterey 12.7.6
* using session charset: UTF-8
* using option ‘--no-vignettes’
* checking for file ‘ReactomeGSA/DESCRIPTION’ ... OK
* checking extension type ... Package
* this is package ‘ReactomeGSA’ version ‘1.23.0’
* package encoding: UTF-8
* checking package namespace information ... OK
* checking package dependencies ... OK
* checking if this is a source package ... OK
* checking if there is a namespace ... OK
* checking for hidden files and directories ... OK
* checking for portable file names ... OK
* checking for sufficient/correct file permissions ... OK
* checking whether package ‘ReactomeGSA’ can be installed ... OK
* checking installed package size ... OK
* checking package directory ... OK
* checking ‘build’ directory ... OK
* checking DESCRIPTION meta-information ... OK
* checking top-level files ... OK
* checking for left-over files ... OK
* checking index information ... OK
* checking package subdirectories ... OK
* checking code files for non-ASCII characters ... OK
* checking R files for syntax errors ... OK
* checking whether the package can be loaded ... OK
* checking whether the package can be loaded with stated dependencies ... OK
* checking whether the package can be unloaded cleanly ... OK
* checking whether the namespace can be loaded with stated dependencies ... OK
* checking whether the namespace can be unloaded cleanly ... OK
* checking whether startup messages can be suppressed ... OK
* checking dependencies in R code ... OK
* checking S3 generic/method consistency ... OK
* checking replacement functions ... OK
* checking foreign function calls ... OK
* checking R code for possible problems ... NOTE
plot_correlations,ReactomeAnalysisResult: no visible binding for global
variable ‘combined_sig’
plot_correlations,ReactomeAnalysisResult: no visible binding for global
variable ‘alpha’
plot_gsva_pathway,ReactomeAnalysisResult: no visible binding for global
variable ‘cluster_id’
plot_gsva_pathway,ReactomeAnalysisResult: no visible binding for global
variable ‘expr’
plot_gsva_pca,ReactomeAnalysisResult: no visible binding for global
variable ‘gsva_result’
plot_gsva_pca,ReactomeAnalysisResult: no visible binding for global
variable ‘PC1’
plot_gsva_pca,ReactomeAnalysisResult: no visible binding for global
variable ‘PC2’
plot_heatmap,ReactomeAnalysisResult: no visible global function
definition for ‘desc’
plot_heatmap,ReactomeAnalysisResult: no visible binding for global
variable ‘n_sig’
plot_heatmap,ReactomeAnalysisResult: no visible binding for global
variable ‘dataset’
plot_heatmap,ReactomeAnalysisResult: no visible binding for global
variable ‘Name’
plot_volcano,ReactomeAnalysisResult: no visible binding for global
variable ‘av_foldchange’
plot_volcano,ReactomeAnalysisResult: no visible binding for global
variable ‘FDR’
Undefined global functions or variables:
FDR Name PC1 PC2 alpha av_foldchange cluster_id combined_sig dataset
desc expr gsva_result n_sig
* checking Rd files ... OK
* checking Rd metadata ... OK
* checking Rd cross-references ... OK
* checking for missing documentation entries ... OK
* checking for code/documentation mismatches ... OK
* checking Rd \usage sections ... OK
* checking Rd contents ... OK
* checking for unstated dependencies in examples ... OK
* checking files in ‘vignettes’ ... OK
* checking examples ... OK
Examples with CPU (user + system) or elapsed time > 5s
user system elapsed
plot_gsva_heatmap-ReactomeAnalysisResult-method 38.524 1.579 111.111
analyse_sc_clusters-Seurat-method 35.634 1.587 77.099
plot_gsva_pca-ReactomeAnalysisResult-method 35.636 1.515 74.544
plot_gsva_pathway 35.120 1.650 70.819
plot_gsva_heatmap 35.255 1.501 73.921
plot_gsva_pca 34.736 1.613 76.770
analyse_sc_clusters 34.216 1.406 73.641
analyse_sc_clusters-SingleCellExperiment-method 33.397 1.388 71.065
plot_gsva_pathway-ReactomeAnalysisResult-method 32.455 1.355 66.422
generate_pseudo_bulk_data 15.120 1.985 17.290
ReactomeAnalysisRequest 5.920 0.373 6.342
perform_reactome_analysis 3.022 0.261 51.771
load_public_dataset 1.369 0.128 22.125
* checking for unstated dependencies in ‘tests’ ... OK
* checking tests ...
Running ‘testthat.R’
OK
* checking for unstated dependencies in vignettes ... OK
* checking package vignettes ... OK
* checking running R code from vignettes ... SKIPPED
* checking re-building of vignette outputs ... SKIPPED
* checking PDF version of manual ... OK
* DONE
Status: 1 NOTE
See
‘/Users/biocbuild/bbs-3.22-bioc/meat/ReactomeGSA.Rcheck/00check.log’
for details.
ReactomeGSA.Rcheck/00install.out
############################################################################## ############################################################################## ### ### Running command: ### ### /Library/Frameworks/R.framework/Resources/bin/R CMD INSTALL ReactomeGSA ### ############################################################################## ############################################################################## * installing to library ‘/Library/Frameworks/R.framework/Versions/4.5-x86_64/Resources/library’ * installing *source* package ‘ReactomeGSA’ ... ** this is package ‘ReactomeGSA’ version ‘1.23.0’ ** using staged installation ** R ** inst ** byte-compile and prepare package for lazy loading in method for ‘analyse_sc_clusters’ with signature ‘object="Seurat"’: no definition for class “Seurat” in method for ‘analyse_sc_clusters’ with signature ‘object="SingleCellExperiment"’: no definition for class “SingleCellExperiment” in method for ‘add_dataset’ with signature ‘request="ReactomeAnalysisRequest",expression_values="EList"’: no definition for class “EList” in method for ‘add_dataset’ with signature ‘request="ReactomeAnalysisRequest",expression_values="DGEList"’: no definition for class “DGEList” in method for ‘generate_pseudo_bulk_data’ with signature ‘object="Seurat"’: no definition for class “Seurat” in method for ‘generate_pseudo_bulk_data’ with signature ‘object="SingleCellExperiment"’: no definition for class “SingleCellExperiment” ** help *** installing help indices ** building package indices ** installing vignettes ** testing if installed package can be loaded from temporary location ** testing if installed package can be loaded from final location ** testing if installed package keeps a record of temporary installation path * DONE (ReactomeGSA)
ReactomeGSA.Rcheck/tests/testthat.Rout
R version 4.5.1 Patched (2025-09-10 r88807) -- "Great Square Root"
Copyright (C) 2025 The R Foundation for Statistical Computing
Platform: x86_64-apple-darwin20
R is free software and comes with ABSOLUTELY NO WARRANTY.
You are welcome to redistribute it under certain conditions.
Type 'license()' or 'licence()' for distribution details.
R is a collaborative project with many contributors.
Type 'contributors()' for more information and
'citation()' on how to cite R or R packages in publications.
Type 'demo()' for some demos, 'help()' for on-line help, or
'help.start()' for an HTML browser interface to help.
Type 'q()' to quit R.
> library(testthat)
> library(ReactomeGSA)
>
> test_check("ReactomeGSA")
[ FAIL 0 | WARN 0 | SKIP 0 | PASS 17 ]
>
> proc.time()
user system elapsed
2.104 0.217 2.333
ReactomeGSA.Rcheck/ReactomeGSA-Ex.timings
| name | user | system | elapsed | |
| ReactomeAnalysisRequest | 5.920 | 0.373 | 6.342 | |
| ReactomeAnalysisResult-class | 0.600 | 0.020 | 0.624 | |
| add_dataset-ReactomeAnalysisRequest-DGEList-method | 1.062 | 0.048 | 1.120 | |
| add_dataset-ReactomeAnalysisRequest-EList-method | 0.724 | 0.061 | 0.794 | |
| add_dataset-ReactomeAnalysisRequest-ExpressionSet-method | 0.714 | 0.047 | 0.767 | |
| add_dataset-ReactomeAnalysisRequest-data.frame-method | 0.712 | 0.045 | 0.762 | |
| add_dataset-ReactomeAnalysisRequest-matrix-method | 0.711 | 0.046 | 0.762 | |
| add_dataset | 0.702 | 0.036 | 0.744 | |
| analyse_sc_clusters-Seurat-method | 35.634 | 1.587 | 77.099 | |
| analyse_sc_clusters-SingleCellExperiment-method | 33.397 | 1.388 | 71.065 | |
| analyse_sc_clusters | 34.216 | 1.406 | 73.641 | |
| find_public_datasets | 0.097 | 0.014 | 3.126 | |
| generate_metadata | 0.001 | 0.000 | 0.001 | |
| generate_pseudo_bulk_data | 15.120 | 1.985 | 17.290 | |
| get_public_species | 0.029 | 0.005 | 0.525 | |
| get_reactome_data_types | 0.055 | 0.006 | 0.633 | |
| get_reactome_methods | 0.092 | 0.011 | 0.983 | |
| get_result-ReactomeAnalysisResult-method | 0.485 | 0.099 | 0.590 | |
| get_result | 0.207 | 0.010 | 0.218 | |
| load_public_dataset | 1.369 | 0.128 | 22.125 | |
| names-ReactomeAnalysisResult-method | 0.223 | 0.010 | 0.234 | |
| open_reactome-ReactomeAnalysisResult-method | 0.197 | 0.010 | 0.208 | |
| open_reactome | 0.213 | 0.010 | 0.225 | |
| pathways-ReactomeAnalysisResult-method | 0.277 | 0.010 | 0.289 | |
| pathways | 0.251 | 0.011 | 0.266 | |
| perform_reactome_analysis | 3.022 | 0.261 | 51.771 | |
| plot_correlations-ReactomeAnalysisResult-method | 0.321 | 0.010 | 0.333 | |
| plot_correlations | 0.299 | 0.011 | 0.316 | |
| plot_gsva_heatmap-ReactomeAnalysisResult-method | 38.524 | 1.579 | 111.111 | |
| plot_gsva_heatmap | 35.255 | 1.501 | 73.921 | |
| plot_gsva_pathway-ReactomeAnalysisResult-method | 32.455 | 1.355 | 66.422 | |
| plot_gsva_pathway | 35.120 | 1.650 | 70.819 | |
| plot_gsva_pca-ReactomeAnalysisResult-method | 35.636 | 1.515 | 74.544 | |
| plot_gsva_pca | 34.736 | 1.613 | 76.770 | |
| plot_heatmap-ReactomeAnalysisResult-method | 0.619 | 0.017 | 0.639 | |
| plot_heatmap | 0.683 | 0.014 | 0.699 | |
| plot_volcano-ReactomeAnalysisResult-method | 0.254 | 0.008 | 0.264 | |
| plot_volcano | 0.292 | 0.012 | 0.305 | |
| print-ReactomeAnalysisRequest-method | 0.001 | 0.000 | 0.002 | |
| print-ReactomeAnalysisResult-method | 0.236 | 0.011 | 0.250 | |
| reactome_links-ReactomeAnalysisResult-method | 0.248 | 0.010 | 0.262 | |
| reactome_links | 0.239 | 0.010 | 0.250 | |
| result_types-ReactomeAnalysisResult-method | 0.224 | 0.010 | 0.236 | |
| result_types | 0.230 | 0.011 | 0.241 | |
| set_method-ReactomeAnalysisRequest-method | 0.002 | 0.002 | 0.004 | |
| set_method | 0.002 | 0.002 | 0.004 | |
| set_parameters-ReactomeAnalysisRequest-method | 0.002 | 0.000 | 0.003 | |
| set_parameters | 0.002 | 0.000 | 0.001 | |
| show-ReactomeAnalysisRequest-method | 0.002 | 0.000 | 0.002 | |
| show-ReactomeAnalysisResult-method | 0.240 | 0.010 | 0.252 | |