Back to Multiple platform build/check report for BioC 3.22:   simplified   long
ABCDEFGHIJKLMNOPQ[R]STUVWXYZ

This page was generated on 2025-10-25 12:06 -0400 (Sat, 25 Oct 2025).

HostnameOSArch (*)R versionInstalled pkgs
nebbiolo2Linux (Ubuntu 24.04.3 LTS)x86_644.5.1 Patched (2025-08-23 r88802) -- "Great Square Root" 4901
lconwaymacOS 12.7.6 Montereyx86_644.5.1 Patched (2025-09-10 r88807) -- "Great Square Root" 4691
kjohnson3macOS 13.7.7 Venturaarm644.5.1 Patched (2025-09-10 r88807) -- "Great Square Root" 4637
taishanLinux (openEuler 24.03 LTS)aarch644.5.0 (2025-04-11) -- "How About a Twenty-Six" 4658
Click on any hostname to see more info about the system (e.g. compilers)      (*) as reported by 'uname -p', except on Windows and Mac OS X

Package 1743/2361HostnameOS / ArchINSTALLBUILDCHECKBUILD BIN
ReactomeGSA 1.23.0  (landing page)
Johannes Griss
Snapshot Date: 2025-10-24 13:45 -0400 (Fri, 24 Oct 2025)
git_url: https://git.bioconductor.org/packages/ReactomeGSA
git_branch: devel
git_last_commit: d9a274e
git_last_commit_date: 2025-04-15 11:49:59 -0400 (Tue, 15 Apr 2025)
nebbiolo2Linux (Ubuntu 24.04.3 LTS) / x86_64  OK    OK    OK  UNNEEDED, same version is already published
lconwaymacOS 12.7.6 Monterey / x86_64  OK    OK    OK    OK  UNNEEDED, same version is already published
kjohnson3macOS 13.7.7 Ventura / arm64  OK    OK    OK    OK  UNNEEDED, same version is already published
taishanLinux (openEuler 24.03 LTS) / aarch64  OK    NA    NA  


CHECK results for ReactomeGSA on kjohnson3

To the developers/maintainers of the ReactomeGSA package:
- Allow up to 24 hours (and sometimes 48 hours) for your latest push to git@git.bioconductor.org:packages/ReactomeGSA.git to reflect on this report. See Troubleshooting Build Report for more information.
- Use the following Renviron settings to reproduce errors and warnings.
- If 'R CMD check' started to fail recently on the Linux builder(s) over a missing dependency, add the missing dependency to 'Suggests:' in your DESCRIPTION file. See Renviron.bioc for more information.

raw results


Summary

Package: ReactomeGSA
Version: 1.23.0
Command: /Library/Frameworks/R.framework/Resources/bin/R CMD check --install=check:ReactomeGSA.install-out.txt --library=/Library/Frameworks/R.framework/Resources/library --no-vignettes --timings ReactomeGSA_1.23.0.tar.gz
StartedAt: 2025-10-24 21:35:14 -0400 (Fri, 24 Oct 2025)
EndedAt: 2025-10-24 21:45:14 -0400 (Fri, 24 Oct 2025)
EllapsedTime: 599.7 seconds
RetCode: 0
Status:   OK  
CheckDir: ReactomeGSA.Rcheck
Warnings: 0

Command output

##############################################################################
##############################################################################
###
### Running command:
###
###   /Library/Frameworks/R.framework/Resources/bin/R CMD check --install=check:ReactomeGSA.install-out.txt --library=/Library/Frameworks/R.framework/Resources/library --no-vignettes --timings ReactomeGSA_1.23.0.tar.gz
###
##############################################################################
##############################################################################


* using log directory ‘/Users/biocbuild/bbs-3.22-bioc/meat/ReactomeGSA.Rcheck’
* using R version 4.5.1 Patched (2025-09-10 r88807)
* using platform: aarch64-apple-darwin20
* R was compiled by
    Apple clang version 16.0.0 (clang-1600.0.26.6)
    GNU Fortran (GCC) 14.2.0
* running under: macOS Ventura 13.7.7
* using session charset: UTF-8
* using option ‘--no-vignettes’
* checking for file ‘ReactomeGSA/DESCRIPTION’ ... OK
* checking extension type ... Package
* this is package ‘ReactomeGSA’ version ‘1.23.0’
* package encoding: UTF-8
* checking package namespace information ... OK
* checking package dependencies ... OK
* checking if this is a source package ... OK
* checking if there is a namespace ... OK
* checking for hidden files and directories ... OK
* checking for portable file names ... OK
* checking for sufficient/correct file permissions ... OK
* checking whether package ‘ReactomeGSA’ can be installed ... OK
* checking installed package size ... OK
* checking package directory ... OK
* checking ‘build’ directory ... OK
* checking DESCRIPTION meta-information ... OK
* checking top-level files ... OK
* checking for left-over files ... OK
* checking index information ... OK
* checking package subdirectories ... OK
* checking code files for non-ASCII characters ... OK
* checking R files for syntax errors ... OK
* checking whether the package can be loaded ... OK
* checking whether the package can be loaded with stated dependencies ... OK
* checking whether the package can be unloaded cleanly ... OK
* checking whether the namespace can be loaded with stated dependencies ... OK
* checking whether the namespace can be unloaded cleanly ... OK
* checking whether startup messages can be suppressed ... OK
* checking dependencies in R code ... OK
* checking S3 generic/method consistency ... OK
* checking replacement functions ... OK
* checking foreign function calls ... OK
* checking R code for possible problems ... NOTE
plot_correlations,ReactomeAnalysisResult: no visible binding for global
  variable ‘combined_sig’
plot_correlations,ReactomeAnalysisResult: no visible binding for global
  variable ‘alpha’
plot_gsva_pathway,ReactomeAnalysisResult: no visible binding for global
  variable ‘cluster_id’
plot_gsva_pathway,ReactomeAnalysisResult: no visible binding for global
  variable ‘expr’
plot_gsva_pca,ReactomeAnalysisResult: no visible binding for global
  variable ‘gsva_result’
plot_gsva_pca,ReactomeAnalysisResult: no visible binding for global
  variable ‘PC1’
plot_gsva_pca,ReactomeAnalysisResult: no visible binding for global
  variable ‘PC2’
plot_heatmap,ReactomeAnalysisResult: no visible global function
  definition for ‘desc’
plot_heatmap,ReactomeAnalysisResult: no visible binding for global
  variable ‘n_sig’
plot_heatmap,ReactomeAnalysisResult: no visible binding for global
  variable ‘dataset’
plot_heatmap,ReactomeAnalysisResult: no visible binding for global
  variable ‘Name’
plot_volcano,ReactomeAnalysisResult: no visible binding for global
  variable ‘av_foldchange’
plot_volcano,ReactomeAnalysisResult: no visible binding for global
  variable ‘FDR’
Undefined global functions or variables:
  FDR Name PC1 PC2 alpha av_foldchange cluster_id combined_sig dataset
  desc expr gsva_result n_sig
* checking Rd files ... OK
* checking Rd metadata ... OK
* checking Rd cross-references ... OK
* checking for missing documentation entries ... OK
* checking for code/documentation mismatches ... OK
* checking Rd \usage sections ... OK
* checking Rd contents ... OK
* checking for unstated dependencies in examples ... OK
* checking files in ‘vignettes’ ... OK
* checking examples ... OK
Examples with CPU (user + system) or elapsed time > 5s
                                                  user system elapsed
plot_gsva_heatmap                               10.568  1.070  83.126
plot_gsva_pathway                               10.519  0.982  47.163
plot_gsva_heatmap-ReactomeAnalysisResult-method 10.313  1.002  85.360
plot_gsva_pca-ReactomeAnalysisResult-method     10.192  1.104  45.476
plot_gsva_pca                                   10.182  1.069  48.833
analyse_sc_clusters-Seurat-method               10.313  0.929  57.883
plot_gsva_pathway-ReactomeAnalysisResult-method  9.891  1.022  49.942
analyse_sc_clusters-SingleCellExperiment-method  9.924  0.986  48.305
analyse_sc_clusters                              9.518  0.929  48.275
generate_pseudo_bulk_data                        6.060  0.487   6.624
perform_reactome_analysis                        0.886  0.104  15.233
load_public_dataset                              0.569  0.074  23.917
* checking for unstated dependencies in ‘tests’ ... OK
* checking tests ...
  Running ‘testthat.R’
 OK
* checking for unstated dependencies in vignettes ... OK
* checking package vignettes ... OK
* checking running R code from vignettes ... SKIPPED
* checking re-building of vignette outputs ... SKIPPED
* checking PDF version of manual ... OK
* DONE

Status: 1 NOTE
See
  ‘/Users/biocbuild/bbs-3.22-bioc/meat/ReactomeGSA.Rcheck/00check.log’
for details.


Installation output

ReactomeGSA.Rcheck/00install.out

##############################################################################
##############################################################################
###
### Running command:
###
###   /Library/Frameworks/R.framework/Resources/bin/R CMD INSTALL ReactomeGSA
###
##############################################################################
##############################################################################


* installing to library ‘/Library/Frameworks/R.framework/Versions/4.5-arm64/Resources/library’
* installing *source* package ‘ReactomeGSA’ ...
** this is package ‘ReactomeGSA’ version ‘1.23.0’
** using staged installation
** R
** inst
** byte-compile and prepare package for lazy loading
in method for ‘analyse_sc_clusters’ with signature ‘object="Seurat"’: no definition for class “Seurat”
in method for ‘analyse_sc_clusters’ with signature ‘object="SingleCellExperiment"’: no definition for class “SingleCellExperiment”
in method for ‘add_dataset’ with signature ‘request="ReactomeAnalysisRequest",expression_values="EList"’: no definition for class “EList”
in method for ‘add_dataset’ with signature ‘request="ReactomeAnalysisRequest",expression_values="DGEList"’: no definition for class “DGEList”
in method for ‘generate_pseudo_bulk_data’ with signature ‘object="Seurat"’: no definition for class “Seurat”
in method for ‘generate_pseudo_bulk_data’ with signature ‘object="SingleCellExperiment"’: no definition for class “SingleCellExperiment”
** help
*** installing help indices
** building package indices
** installing vignettes
** testing if installed package can be loaded from temporary location
** testing if installed package can be loaded from final location
** testing if installed package keeps a record of temporary installation path
* DONE (ReactomeGSA)

Tests output

ReactomeGSA.Rcheck/tests/testthat.Rout


R version 4.5.1 Patched (2025-09-10 r88807) -- "Great Square Root"
Copyright (C) 2025 The R Foundation for Statistical Computing
Platform: aarch64-apple-darwin20

R is free software and comes with ABSOLUTELY NO WARRANTY.
You are welcome to redistribute it under certain conditions.
Type 'license()' or 'licence()' for distribution details.

R is a collaborative project with many contributors.
Type 'contributors()' for more information and
'citation()' on how to cite R or R packages in publications.

Type 'demo()' for some demos, 'help()' for on-line help, or
'help.start()' for an HTML browser interface to help.
Type 'q()' to quit R.

> library(testthat)
> library(ReactomeGSA)
> 
> test_check("ReactomeGSA")
[ FAIL 0 | WARN 0 | SKIP 0 | PASS 17 ]
> 
> proc.time()
   user  system elapsed 
  0.695   0.059   0.754 

Example timings

ReactomeGSA.Rcheck/ReactomeGSA-Ex.timings

nameusersystemelapsed
ReactomeAnalysisRequest1.9750.0962.078
ReactomeAnalysisResult-class0.0850.0030.089
add_dataset-ReactomeAnalysisRequest-DGEList-method0.4250.0300.462
add_dataset-ReactomeAnalysisRequest-EList-method0.2570.0250.284
add_dataset-ReactomeAnalysisRequest-ExpressionSet-method0.2510.0280.279
add_dataset-ReactomeAnalysisRequest-data.frame-method0.2550.0310.286
add_dataset-ReactomeAnalysisRequest-matrix-method0.2600.0240.286
add_dataset0.2560.0290.284
analyse_sc_clusters-Seurat-method10.313 0.92957.883
analyse_sc_clusters-SingleCellExperiment-method 9.924 0.98648.305
analyse_sc_clusters 9.518 0.92948.275
find_public_datasets0.0390.0083.291
generate_metadata0.0010.0000.001
generate_pseudo_bulk_data6.0600.4876.624
get_public_species0.0100.0010.309
get_reactome_data_types0.0220.0040.622
get_reactome_methods0.0350.0070.946
get_result-ReactomeAnalysisResult-method0.0890.0030.092
get_result0.0890.0030.092
load_public_dataset 0.569 0.07423.917
names-ReactomeAnalysisResult-method0.0910.0040.095
open_reactome-ReactomeAnalysisResult-method0.0840.0040.088
open_reactome0.0860.0030.089
pathways-ReactomeAnalysisResult-method0.1100.0060.117
pathways0.1060.0040.111
perform_reactome_analysis 0.886 0.10415.233
plot_correlations-ReactomeAnalysisResult-method0.1310.0060.136
plot_correlations0.1070.0050.112
plot_gsva_heatmap-ReactomeAnalysisResult-method10.313 1.00285.360
plot_gsva_heatmap10.568 1.07083.126
plot_gsva_pathway-ReactomeAnalysisResult-method 9.891 1.02249.942
plot_gsva_pathway10.519 0.98247.163
plot_gsva_pca-ReactomeAnalysisResult-method10.192 1.10445.476
plot_gsva_pca10.182 1.06948.833
plot_heatmap-ReactomeAnalysisResult-method0.2000.0050.206
plot_heatmap0.2250.0050.231
plot_volcano-ReactomeAnalysisResult-method0.0940.0040.098
plot_volcano0.0980.0040.101
print-ReactomeAnalysisRequest-method0.0010.0000.001
print-ReactomeAnalysisResult-method0.0880.0040.093
reactome_links-ReactomeAnalysisResult-method0.0910.0040.103
reactome_links0.0930.0030.096
result_types-ReactomeAnalysisResult-method0.1000.0030.104
result_types0.0920.0030.096
set_method-ReactomeAnalysisRequest-method0.0010.0010.002
set_method0.0010.0010.001
set_parameters-ReactomeAnalysisRequest-method0.0000.0000.001
set_parameters0.0010.0000.001
show-ReactomeAnalysisRequest-method0.0000.0010.001
show-ReactomeAnalysisResult-method0.0910.0030.094