| Back to Multiple platform build/check report for BioC 3.22: simplified long |
|
This page was generated on 2025-08-15 12:07 -0400 (Fri, 15 Aug 2025).
| Hostname | OS | Arch (*) | R version | Installed pkgs |
|---|---|---|---|---|
| nebbiolo2 | Linux (Ubuntu 24.04.3 LTS) | x86_64 | 4.5.1 (2025-06-13) -- "Great Square Root" | 4818 |
| palomino8 | Windows Server 2022 Datacenter | x64 | 4.5.1 (2025-06-13 ucrt) -- "Great Square Root" | 4554 |
| lconway | macOS 12.7.1 Monterey | x86_64 | 4.5.1 (2025-06-13) -- "Great Square Root" | 4595 |
| kjohnson3 | macOS 13.7.7 Ventura | arm64 | 4.5.1 Patched (2025-06-14 r88325) -- "Great Square Root" | 4537 |
| taishan | Linux (openEuler 24.03 LTS) | aarch64 | 4.5.0 (2025-04-11) -- "How About a Twenty-Six" | 4535 |
| Click on any hostname to see more info about the system (e.g. compilers) (*) as reported by 'uname -p', except on Windows and Mac OS X | ||||
| Package 1352/2317 | Hostname | OS / Arch | INSTALL | BUILD | CHECK | BUILD BIN | ||||||||
| MsBackendRawFileReader 1.15.1 (landing page) Christian Panse
| nebbiolo2 | Linux (Ubuntu 24.04.3 LTS) / x86_64 | OK | OK | OK | |||||||||
| palomino8 | Windows Server 2022 Datacenter / x64 | OK | OK | OK | OK | |||||||||
| lconway | macOS 12.7.1 Monterey / x86_64 | OK | OK | OK | OK | |||||||||
| kjohnson3 | macOS 13.7.7 Ventura / arm64 | OK | OK | OK | OK | |||||||||
| taishan | Linux (openEuler 24.03 LTS) / aarch64 | OK | ERROR | skipped | ||||||||||
|
To the developers/maintainers of the MsBackendRawFileReader package: - Allow up to 24 hours (and sometimes 48 hours) for your latest push to git@git.bioconductor.org:packages/MsBackendRawFileReader.git to reflect on this report. See Troubleshooting Build Report for more information. - Use the following Renviron settings to reproduce errors and warnings. - If 'R CMD check' started to fail recently on the Linux builder(s) over a missing dependency, add the missing dependency to 'Suggests:' in your DESCRIPTION file. See Renviron.bioc for more information. |
| Package: MsBackendRawFileReader |
| Version: 1.15.1 |
| Command: F:\biocbuild\bbs-3.22-bioc\R\bin\R.exe CMD check --no-multiarch --install=check:MsBackendRawFileReader.install-out.txt --library=F:\biocbuild\bbs-3.22-bioc\R\library --no-vignettes --timings MsBackendRawFileReader_1.15.1.tar.gz |
| StartedAt: 2025-08-15 05:30:46 -0400 (Fri, 15 Aug 2025) |
| EndedAt: 2025-08-15 05:36:46 -0400 (Fri, 15 Aug 2025) |
| EllapsedTime: 360.7 seconds |
| RetCode: 0 |
| Status: OK |
| CheckDir: MsBackendRawFileReader.Rcheck |
| Warnings: 0 |
##############################################################################
##############################################################################
###
### Running command:
###
### F:\biocbuild\bbs-3.22-bioc\R\bin\R.exe CMD check --no-multiarch --install=check:MsBackendRawFileReader.install-out.txt --library=F:\biocbuild\bbs-3.22-bioc\R\library --no-vignettes --timings MsBackendRawFileReader_1.15.1.tar.gz
###
##############################################################################
##############################################################################
* using log directory 'F:/biocbuild/bbs-3.22-bioc/meat/MsBackendRawFileReader.Rcheck'
* using R version 4.5.1 (2025-06-13 ucrt)
* using platform: x86_64-w64-mingw32
* R was compiled by
gcc.exe (GCC) 14.2.0
GNU Fortran (GCC) 14.2.0
* running under: Windows Server 2022 x64 (build 20348)
* using session charset: UTF-8
* using option '--no-vignettes'
* checking for file 'MsBackendRawFileReader/DESCRIPTION' ... OK
* checking extension type ... Package
* this is package 'MsBackendRawFileReader' version '1.15.1'
* package encoding: UTF-8
* checking package namespace information ... OK
* checking package dependencies ... OK
* checking if this is a source package ... OK
* checking if there is a namespace ... OK
* checking for hidden files and directories ... OK
* checking for portable file names ... OK
* checking whether package 'MsBackendRawFileReader' can be installed ... OK
* checking installed package size ... OK
* checking package directory ... OK
* checking 'build' directory ... OK
* checking DESCRIPTION meta-information ... OK
* checking top-level files ... OK
* checking for left-over files ... OK
* checking index information ... OK
* checking package subdirectories ... OK
* checking code files for non-ASCII characters ... OK
* checking R files for syntax errors ... OK
* checking whether the package can be loaded ... OK
* checking whether the package can be loaded with stated dependencies ... OK
* checking whether the package can be unloaded cleanly ... OK
* checking whether the namespace can be loaded with stated dependencies ... OK
* checking whether the namespace can be unloaded cleanly ... OK
* checking whether startup messages can be suppressed ... OK
* checking dependencies in R code ... OK
* checking S3 generic/method consistency ... OK
* checking replacement functions ... OK
* checking foreign function calls ... OK
* checking R code for possible problems ... OK
* checking Rd files ... OK
* checking Rd metadata ... OK
* checking Rd cross-references ... OK
* checking for missing documentation entries ... OK
* checking for code/documentation mismatches ... OK
* checking Rd \usage sections ... OK
* checking Rd contents ... OK
* checking for unstated dependencies in examples ... OK
* checking files in 'vignettes' ... OK
* checking examples ... OK
Examples with CPU (user + system) or elapsed time > 5s
user system elapsed
ioBenchmark 8.68 2.08 54.70
MsBackendRawFileReader 1.20 0.06 41.41
MsBackendRawFileReader-class 0.99 0.05 12.72
hidden_aliases 0.33 0.00 11.90
* checking for unstated dependencies in 'tests' ... OK
* checking tests ...
Running 'testthat.R'
OK
* checking for unstated dependencies in vignettes ... OK
* checking package vignettes ... OK
* checking running R code from vignettes ... SKIPPED
* checking re-building of vignette outputs ... SKIPPED
* checking PDF version of manual ... OK
* DONE
Status: OK
MsBackendRawFileReader.Rcheck/00install.out
############################################################################## ############################################################################## ### ### Running command: ### ### F:\biocbuild\bbs-3.22-bioc\R\bin\R.exe CMD INSTALL MsBackendRawFileReader ### ############################################################################## ############################################################################## * installing to library 'F:/biocbuild/bbs-3.22-bioc/R/library' * installing *source* package 'MsBackendRawFileReader' ... ** this is package 'MsBackendRawFileReader' version '1.15.1' ** using staged installation ** R ** inst ** byte-compile and prepare package for lazy loading ** help *** installing help indices ** building package indices ** installing vignettes ** testing if installed package can be loaded from temporary location ** testing if installed package can be loaded from final location ** testing if installed package keeps a record of temporary installation path * DONE (MsBackendRawFileReader)
MsBackendRawFileReader.Rcheck/tests/testthat.Rout
R version 4.5.1 (2025-06-13 ucrt) -- "Great Square Root"
Copyright (C) 2025 The R Foundation for Statistical Computing
Platform: x86_64-w64-mingw32/x64
R is free software and comes with ABSOLUTELY NO WARRANTY.
You are welcome to redistribute it under certain conditions.
Type 'license()' or 'licence()' for distribution details.
R is a collaborative project with many contributors.
Type 'contributors()' for more information and
'citation()' on how to cite R or R packages in publications.
Type 'demo()' for some demos, 'help()' for on-line help, or
'help.start()' for an HTML browser interface to help.
Type 'q()' to quit R.
> library("testthat")
> library("MsBackendRawFileReader")
Loading required package: Spectra
Loading required package: S4Vectors
Loading required package: stats4
Loading required package: BiocGenerics
Loading required package: generics
Attaching package: 'generics'
The following objects are masked from 'package:base':
as.difftime, as.factor, as.ordered, intersect, is.element, setdiff,
setequal, union
Attaching package: 'BiocGenerics'
The following objects are masked from 'package:stats':
IQR, mad, sd, var, xtabs
The following objects are masked from 'package:base':
Filter, Find, Map, Position, Reduce, anyDuplicated, aperm, append,
as.data.frame, basename, cbind, colnames, dirname, do.call,
duplicated, eval, evalq, get, grep, grepl, is.unsorted, lapply,
mapply, match, mget, order, paste, pmax, pmax.int, pmin, pmin.int,
rank, rbind, rownames, sapply, saveRDS, table, tapply, unique,
unsplit, which.max, which.min
Attaching package: 'S4Vectors'
The following object is masked from 'package:utils':
findMatches
The following objects are masked from 'package:base':
I, expand.grid, unname
Loading required package: BiocParallel
> library("Spectra")
>
>
> sample_raw_file <- file.path(system.file(package = "rawrr"),
+ 'extdata', 'sample.raw')
>
> sample_mzXML_file <- file.path(path.package(package = 'MsBackendRawFileReader'),
+ 'extdata', 'sample.mzXML')
>
>
> sample_raw <- backendInitialize(MsBackendRawFileReader::MsBackendRawFileReader(), files = sample_raw_file)
>
>
> #sample_mzr <- backendInitialize(MsBackendMzR(), files = sample_mzXML_file)
>
>
> mgf_file <- file.path(system.file(package = "MsBackendRawFileReader"),
+ 'extdata', '3159619b11ed_4590_9594.mgf')
>
>
> rv <- lapply(1:2, function(x){
+ file.copy(from = sample_raw_file, to = tempfile(fileext='.raw'))})
>
>
> register(SnowParam(workers = 1, type = "SOCK") , default = TRUE);
> sample_raw_2 <- backendInitialize(MsBackendRawFileReader(),
+ files = file.path(tempdir(),
+ list.files(path = tempdir(), pattern = 'raw$')))
>
>
> test_check("MsBackendRawFileReader")
[ FAIL 0 | WARN 1 | SKIP 2 | PASS 21 ]
══ Skipped tests (2) ═══════════════════════════════════════════════════════════
• isFALSE(file.exists(sample_mzXML_file)) is TRUE (1):
'test_MsBackendMzR_MsBackendRawFileReader.R:1:1'
• isFALSE(require(MsBackendRawMgf)) is TRUE (1): 'test_top_n_mgf.R:1:1'
[ FAIL 0 | WARN 1 | SKIP 2 | PASS 21 ]
>
>
> be <- Spectra::backendInitialize(MsBackendRawFileReader::MsBackendRawFileReader(),
+ files = c(sample_raw_file))
>
> ## Run the MsBackend spectra variable test suite
>
> test_suite <- system.file("test_backends", "test_MsBackend",
+ package = "Spectra")
>
> #res <- test_file(paste0(test_suite, "/test_spectra_variables.R"),
> # reporter = check_reporter(), stop_on_failure = TRUE)
>
>
> ## Run the whole suite.
> res <- test_dir(test_suite, stop_on_failure = TRUE)
✔ | F W S OK | Context
⠏ | 0 | peaks_variables
⠙ | 2 | peaks_variables
⠸ | 4 | peaks_variables
✔ | 4 | peaks_variables [6.0s]
⠏ | 0 | spectra_subsetting
⠋ | 1 | spectra_subsetting
⠏ | 10 | spectra_subsetting
⠏ | 20 | spectra_subsetting
⠋ | 31 | spectra_subsetting
⠸ | 44 | spectra_subsetting
⠧ | 58 | spectra_subsetting
⠋ | 71 | spectra_subsetting
⠙ | 82 | spectra_subsetting
⠋ | 91 | spectra_subsetting
⠏ | 100 | spectra_subsetting
⠇ | 109 | spectra_subsetting
⠸ | 124 | spectra_subsetting
⠧ | 138 | spectra_subsetting
⠸ | 154 | spectra_subsetting
⠇ | 169 | spectra_subsetting
⠋ | 181 | spectra_subsetting
⠋ | 191 | spectra_subsetting
⠙ | 202 | spectra_subsetting
⠼ | 215 | spectra_subsetting
⠴ | 226 | spectra_subsetting
⠦ | 237 | spectra_subsetting
⠦ | 247 | spectra_subsetting
⠴ | 256 | spectra_subsetting
⠴ | 266 | spectra_subsetting
⠦ | 277 | spectra_subsetting
⠦ | 287 | spectra_subsetting
⠋ | 301 | spectra_subsetting
⠸ | 314 | spectra_subsetting
⠧ | 328 | spectra_subsetting
⠴ | 336 | spectra_subsetting
⠴ | 346 | spectra_subsetting
⠼ | 355 | spectra_subsetting
⠸ | 364 | spectra_subsetting
⠹ | 373 | spectra_subsetting
⠼ | 385 | spectra_subsetting
⠦ | 397 | spectra_subsetting
⠴ | 406 | spectra_subsetting
⠧ | 418 | spectra_subsetting
⠧ | 428 | spectra_subsetting
⠇ | 439 | spectra_subsetting
⠧ | 448 | spectra_subsetting
⠏ | 460 | spectra_subsetting
⠇ | 469 | spectra_subsetting
⠇ | 479 | spectra_subsetting
⠋ | 491 | spectra_subsetting
⠸ | 504 | spectra_subsetting
⠸ | 514 | spectra_subsetting
⠹ | 523 | spectra_subsetting
⠼ | 535 | spectra_subsetting
⠦ | 547 | spectra_subsetting
⠙ | 562 | spectra_subsetting
⠦ | 577 | spectra_subsetting
⠴ | 586 | spectra_subsetting
⠴ | 596 | spectra_subsetting
⠦ | 607 | spectra_subsetting
⠇ | 619 | spectra_subsetting
⠸ | 634 | spectra_subsetting
⠇ | 649 | spectra_subsetting
⠧ | 658 | spectra_subsetting
⠧ | 668 | spectra_subsetting
⠙ | 682 | spectra_subsetting
⠸ | 694 | spectra_subsetting
⠇ | 709 | spectra_subsetting
⠏ | 720 | spectra_subsetting
⠏ | 730 | spectra_subsetting
⠋ | 741 | spectra_subsetting
⠸ | 754 | spectra_subsetting
⠴ | 766 | spectra_subsetting
⠹ | 773 | spectra_subsetting
⠸ | 784 | spectra_subsetting
⠴ | 796 | spectra_subsetting
⠧ | 808 | spectra_subsetting
⠦ | 817 | spectra_subsetting
⠦ | 827 | spectra_subsetting
⠴ | 836 | spectra_subsetting
⠸ | 844 | spectra_subsetting
⠴ | 856 | spectra_subsetting
⠴ | 866 | spectra_subsetting
⠴ | 876 | spectra_subsetting
⠇ | 889 | spectra_subsetting
⠋ | 901 | spectra_subsetting
⠋ | 911 | spectra_subsetting
⠏ | 920 | spectra_subsetting
⠏ | 930 | spectra_subsetting
⠇ | 939 | spectra_subsetting
⠇ | 949 | spectra_subsetting
⠧ | 958 | spectra_subsetting
⠏ | 970 | spectra_subsetting
⠼ | 985 | spectra_subsetting
⠦ | 997 | spectra_subsetting
⠇ | 1009 | spectra_subsetting
⠋ | 1021 | spectra_subsetting
⠹ | 1033 | spectra_subsetting
⠴ | 1046 | spectra_subsetting
⠇ | 1059 | spectra_subsetting
⠙ | 1072 | spectra_subsetting
⠋ | 1081 | spectra_subsetting
⠹ | 1093 | spectra_subsetting
⠼ | 1105 | spectra_subsetting
⠦ | 1117 | spectra_subsetting
⠦ | 1127 | spectra_subsetting
⠼ | 1135 | spectra_subsetting
⠇ | 1149 | spectra_subsetting
⠙ | 1162 | spectra_subsetting
⠋ | 1171 | spectra_subsetting
⠋ | 1181 | spectra_subsetting
⠇ | 1189 | spectra_subsetting
⠧ | 1198 | spectra_subsetting
⠦ | 1207 | spectra_subsetting
⠴ | 1216 | spectra_subsetting
⠴ | 1226 | spectra_subsetting
⠼ | 1235 | spectra_subsetting
⠹ | 1243 | spectra_subsetting
⠙ | 1252 | spectra_subsetting
⠙ | 1262 | spectra_subsetting
⠋ | 1271 | spectra_subsetting
⠇ | 1279 | spectra_subsetting
⠸ | 1294 | spectra_subsetting
⠦ | 1307 | spectra_subsetting
⠏ | 1320 | spectra_subsetting
⠸ | 1334 | spectra_subsetting
⠧ | 1348 | spectra_subsetting
⠧ | 1358 | spectra_subsetting
⠇ | 1369 | spectra_subsetting
⠸ | 1384 | spectra_subsetting
⠴ | 1396 | spectra_subsetting
⠋ | 1411 | spectra_subsetting
⠹ | 1423 | spectra_subsetting
⠼ | 1435 | spectra_subsetting
⠼ | 1445 | spectra_subsetting
⠴ | 1456 | spectra_subsetting
⠏ | 1470 | spectra_subsetting
⠋ | 1481 | spectra_subsetting
⠹ | 1493 | spectra_subsetting
⠦ | 1507 | spectra_subsetting
⠴ | 1516 | spectra_subsetting
⠼ | 1525 | spectra_subsetting
⠸ | 1534 | spectra_subsetting
⠹ | 1543 | spectra_subsetting
⠸ | 1554 | spectra_subsetting
⠸ | 1564 | spectra_subsetting
⠹ | 1573 | spectra_subsetting
⠹ | 1583 | spectra_subsetting
⠦ | 1597 | spectra_subsetting
⠇ | 1609 | spectra_subsetting
⠸ | 1624 | spectra_subsetting
⠴ | 1636 | spectra_subsetting
⠼ | 1645 | spectra_subsetting
⠸ | 1654 | spectra_subsetting
⠴ | 1666 | spectra_subsetting
⠼ | 1675 | spectra_subsetting
⠦ | 1687 | spectra_subsetting
⠇ | 1699 | spectra_subsetting
⠋ | 1711 | spectra_subsetting
⠼ | 1725 | spectra_subsetting
⠧ | 1728 | spectra_subsetting
⠏ | 1730 | spectra_subsetting
⠙ | 1732 | spectra_subsetting
⠸ | 1734 | spectra_subsetting
⠴ | 1736 | spectra_subsetting
⠧ | 1738 | spectra_subsetting
⠏ | 1740 | spectra_subsetting
⠙ | 1742 | spectra_subsetting
⠸ | 1744 | spectra_subsetting
⠴ | 1746 | spectra_subsetting
⠧ | 1748 | spectra_subsetting
⠏ | 1750 | spectra_subsetting
⠙ | 1752 | spectra_subsetting
⠸ | 1754 | spectra_subsetting
⠴ | 1756 | spectra_subsetting
⠧ | 1758 | spectra_subsetting
⠏ | 1760 | spectra_subsetting
⠙ | 1762 | spectra_subsetting
⠸ | 1764 | spectra_subsetting
⠴ | 1766 | spectra_subsetting
⠧ | 1768 | spectra_subsetting
⠏ | 1770 | spectra_subsetting
⠙ | 1772 | spectra_subsetting
⠸ | 1774 | spectra_subsetting
⠴ | 1776 | spectra_subsetting
⠧ | 1778 | spectra_subsetting
⠏ | 1780 | spectra_subsetting
⠹ | 1783 | spectra_subsetting
⠼ | 1785 | spectra_subsetting
⠦ | 1787 | spectra_subsetting
⠇ | 1789 | spectra_subsetting
⠋ | 1791 | spectra_subsetting
⠸ | 1794 | spectra_subsetting
⠦ | 1797 | spectra_subsetting
⠇ | 1799 | spectra_subsetting
⠙ | 1802 | spectra_subsetting
⠸ | 1804 | spectra_subsetting
⠴ | 1806 | spectra_subsetting
⠧ | 1808 | spectra_subsetting
⠏ | 1810 | spectra_subsetting
⠙ | 1812 | spectra_subsetting
⠸ | 1814 | spectra_subsetting
⠦ | 1817 | spectra_subsetting
⠇ | 1819 | spectra_subsetting
⠋ | 1821 | spectra_subsetting
⠸ | 1824 | spectra_subsetting
⠴ | 1826 | spectra_subsetting
⠧ | 1828 | spectra_subsetting
⠏ | 1830 | spectra_subsetting
⠙ | 1832 | spectra_subsetting
⠸ | 1834 | spectra_subsetting
⠴ | 1836 | spectra_subsetting
⠧ | 1838 | spectra_subsetting
⠏ | 1840 | spectra_subsetting
⠙ | 1842 | spectra_subsetting
⠸ | 1844 | spectra_subsetting
⠴ | 1846 | spectra_subsetting
⠧ | 1848 | spectra_subsetting
⠏ | 1850 | spectra_subsetting
⠙ | 1852 | spectra_subsetting
⠸ | 1854 | spectra_subsetting
⠴ | 1856 | spectra_subsetting
⠧ | 1858 | spectra_subsetting
⠏ | 1860 | spectra_subsetting
⠙ | 1862 | spectra_subsetting
⠸ | 1864 | spectra_subsetting
⠴ | 1866 | spectra_subsetting
⠧ | 1868 | spectra_subsetting
⠏ | 1870 | spectra_subsetting
⠙ | 1872 | spectra_subsetting
⠸ | 1874 | spectra_subsetting
⠴ | 1876 | spectra_subsetting
⠧ | 1878 | spectra_subsetting
⠏ | 1880 | spectra_subsetting
⠹ | 1883 | spectra_subsetting
⠴ | 1886 | spectra_subsetting
⠦ | 1887 | spectra_subsetting
⠇ | 1889 | spectra_subsetting
⠋ | 1891 | spectra_subsetting
⠹ | 1893 | spectra_subsetting
⠼ | 1895 | spectra_subsetting
⠧ | 1898 | spectra_subsetting
⠋ | 1901 | spectra_subsetting
⠸ | 1904 | spectra_subsetting
⠦ | 1907 | spectra_subsetting
⠏ | 1910 | spectra_subsetting
⠹ | 1913 | spectra_subsetting
⠼ | 1915 | spectra_subsetting
⠧ | 1918 | spectra_subsetting
⠋ | 1921 | spectra_subsetting
⠸ | 1924 | spectra_subsetting
⠦ | 1927 | spectra_subsetting
⠇ | 1929 | spectra_subsetting
⠙ | 1932 | spectra_subsetting
⠼ | 1935 | spectra_subsetting
⠦ | 1937 | spectra_subsetting
⠇ | 1939 | spectra_subsetting
⠋ | 1941 | spectra_subsetting
⠹ | 1943 | spectra_subsetting
⠼ | 1945 | spectra_subsetting
⠦ | 1947 | spectra_subsetting
⠇ | 1949 | spectra_subsetting
⠋ | 1951 | spectra_subsetting
⠹ | 1953 | spectra_subsetting
⠼ | 1955 | spectra_subsetting
⠦ | 1957 | spectra_subsetting
⠇ | 1959 | spectra_subsetting
⠙ | 1962 | spectra_subsetting
⠼ | 1965 | spectra_subsetting
⠦ | 1967 | spectra_subsetting
⠏ | 1970 | spectra_subsetting
⠙ | 1972 | spectra_subsetting
⠸ | 1974 | spectra_subsetting
⠴ | 1976 | spectra_subsetting
⠧ | 1978 | spectra_subsetting
⠏ | 1980 | spectra_subsetting
⠋ | 1981 | spectra_subsetting
⠹ | 1983 | spectra_subsetting
⠼ | 1985 | spectra_subsetting
⠦ | 1987 | spectra_subsetting
⠇ | 1989 | spectra_subsetting
⠋ | 1991 | spectra_subsetting
⠸ | 1994 | spectra_subsetting
⠦ | 1997 | spectra_subsetting
⠏ | 2000 | spectra_subsetting
⠙ | 2002 | spectra_subsetting
⠸ | 2004 | spectra_subsetting
⠴ | 2006 | spectra_subsetting
⠧ | 2008 | spectra_subsetting
⠏ | 2010 | spectra_subsetting
⠙ | 2012 | spectra_subsetting
⠸ | 2014 | spectra_subsetting
⠴ | 2016 | spectra_subsetting
⠧ | 2018 | spectra_subsetting
⠏ | 2020 | spectra_subsetting
⠹ | 2023 | spectra_subsetting
⠼ | 2025 | spectra_subsetting
⠦ | 2027 | spectra_subsetting
⠇ | 2029 | spectra_subsetting
⠋ | 2031 | spectra_subsetting
⠸ | 2034 | spectra_subsetting
⠦ | 2037 | spectra_subsetting
⠏ | 2040 | spectra_subsetting
⠙ | 2042 | spectra_subsetting
⠼ | 2045 | spectra_subsetting
⠦ | 2047 | spectra_subsetting
⠇ | 2049 | spectra_subsetting
⠋ | 2051 | spectra_subsetting
⠹ | 2053 | spectra_subsetting
⠼ | 2055 | spectra_subsetting
⠦ | 2057 | spectra_subsetting
⠇ | 2059 | spectra_subsetting
⠋ | 2061 | spectra_subsetting
⠹ | 2063 | spectra_subsetting
⠴ | 2066 | spectra_subsetting
⠧ | 2068 | spectra_subsetting
⠏ | 2070 | spectra_subsetting
⠋ | 2071 | spectra_subsetting
⠹ | 2073 | spectra_subsetting
⠼ | 2075 | spectra_subsetting
⠦ | 2077 | spectra_subsetting
⠇ | 2079 | spectra_subsetting
⠋ | 2081 | spectra_subsetting
⠹ | 2083 | spectra_subsetting
⠴ | 2086 | spectra_subsetting
⠧ | 2088 | spectra_subsetting
⠏ | 2090 | spectra_subsetting
⠙ | 2092 | spectra_subsetting
⠸ | 2094 | spectra_subsetting
⠴ | 2096 | spectra_subsetting
⠧ | 2098 | spectra_subsetting
⠏ | 2100 | spectra_subsetting
⠙ | 2102 | spectra_subsetting
⠸ | 2104 | spectra_subsetting
⠴ | 2106 | spectra_subsetting
⠧ | 2108 | spectra_subsetting
⠏ | 2110 | spectra_subsetting
⠙ | 2112 | spectra_subsetting
⠸ | 2114 | spectra_subsetting
⠴ | 2116 | spectra_subsetting
⠧ | 2118 | spectra_subsetting
⠏ | 2120 | spectra_subsetting
⠙ | 2122 | spectra_subsetting
⠸ | 2124 | spectra_subsetting
⠴ | 2126 | spectra_subsetting
⠧ | 2128 | spectra_subsetting
⠏ | 2130 | spectra_subsetting
⠙ | 2132 | spectra_subsetting
⠸ | 2134 | spectra_subsetting
⠴ | 2136 | spectra_subsetting
⠧ | 2138 | spectra_subsetting
⠏ | 2140 | spectra_subsetting
⠙ | 2142 | spectra_subsetting
⠸ | 2144 | spectra_subsetting
⠴ | 2146 | spectra_subsetting
⠧ | 2148 | spectra_subsetting
⠏ | 2150 | spectra_subsetting
⠙ | 2152 | spectra_subsetting
⠸ | 2154 | spectra_subsetting
⠴ | 2156 | spectra_subsetting
⠧ | 2158 | spectra_subsetting
⠏ | 2160 | spectra_subsetting
⠹ | 2163 | spectra_subsetting
⠼ | 2165 | spectra_subsetting
⠦ | 2167 | spectra_subsetting
⠇ | 2169 | spectra_subsetting
⠋ | 2171 | spectra_subsetting
⠹ | 2173 | spectra_subsetting
⠼ | 2175 | spectra_subsetting
⠦ | 2177 | spectra_subsetting
⠇ | 2179 | spectra_subsetting
⠋ | 2181 | spectra_subsetting
⠹ | 2183 | spectra_subsetting
⠼ | 2185 | spectra_subsetting
⠦ | 2187 | spectra_subsetting
⠧ | 2188 | spectra_subsetting
⠏ | 2190 | spectra_subsetting
⠙ | 2192 | spectra_subsetting
⠸ | 2194 | spectra_subsetting
⠴ | 2196 | spectra_subsetting
⠧ | 2198 | spectra_subsetting
⠏ | 2200 | spectra_subsetting
⠙ | 2202 | spectra_subsetting
⠸ | 2204 | spectra_subsetting
⠴ | 2206 | spectra_subsetting
⠧ | 2208 | spectra_subsetting
⠏ | 2210 | spectra_subsetting
⠙ | 2212 | spectra_subsetting
⠼ | 2215 | spectra_subsetting
⠦ | 2217 | spectra_subsetting
⠇ | 2219 | spectra_subsetting
⠋ | 2221 | spectra_subsetting
⠹ | 2223 | spectra_subsetting
⠼ | 2225 | spectra_subsetting
⠦ | 2227 | spectra_subsetting
⠇ | 2229 | spectra_subsetting
⠋ | 2231 | spectra_subsetting
⠹ | 2233 | spectra_subsetting
⠼ | 2235 | spectra_subsetting
⠦ | 2237 | spectra_subsetting
⠇ | 2239 | spectra_subsetting
⠋ | 2241 | spectra_subsetting
⠹ | 2243 | spectra_subsetting
⠼ | 2245 | spectra_subsetting
⠦ | 2247 | spectra_subsetting
⠇ | 2249 | spectra_subsetting
⠋ | 2251 | spectra_subsetting
⠹ | 2253 | spectra_subsetting
⠼ | 2255 | spectra_subsetting
⠧ | 2258 | spectra_subsetting
⠏ | 2260 | spectra_subsetting
⠙ | 2262 | spectra_subsetting
⠸ | 2264 | spectra_subsetting
⠴ | 2266 | spectra_subsetting
⠧ | 2268 | spectra_subsetting
⠏ | 2270 | spectra_subsetting
⠙ | 2272 | spectra_subsetting
⠸ | 2274 | spectra_subsetting
⠴ | 2276 | spectra_subsetting
⠧ | 2278 | spectra_subsetting
⠏ | 2280 | spectra_subsetting
⠙ | 2282 | spectra_subsetting
⠸ | 2284 | spectra_subsetting
⠴ | 2286 | spectra_subsetting
⠇ | 2289 | spectra_subsetting
⠋ | 2291 | spectra_subsetting
⠸ | 2294 | spectra_subsetting
⠴ | 2296 | spectra_subsetting
⠇ | 2299 | spectra_subsetting
⠹ | 2303 | spectra_subsetting
⠇ | 2309 | spectra_subsetting
⠹ | 2313 | spectra_subsetting
⠇ | 2319 | spectra_subsetting
⠴ | 2326 | spectra_subsetting
⠇ | 2329 | spectra_subsetting
⠸ | 2334 | spectra_subsetting
✔ | 2342 | spectra_subsetting [57.2s]
⠏ | 0 | spectra_variables
⠙ | 12 | spectra_variables
⠸ | 14 | spectra_variables
⠴ | 16 | spectra_variables
⠦ | 27 | spectra_variables
⠇ | 29 | spectra_variables
⠋ | 31 | spectra_variables
⠹ | 43 | spectra_variables
⠸ | 54 | spectra_variables
✔ | 1 62 | spectra_variables [22.1s]
══ Results ═════════════════════════════════════════════════════════════════════
Duration: 85.2 s
── Skipped tests (1) ───────────────────────────────────────────────────────────
• empty test (1): 'test_spectra_variables.R:262:1'
[ FAIL 0 | WARN 0 | SKIP 1 | PASS 2408 ]
>
> proc.time()
user system elapsed
72.51 4.81 148.54
MsBackendRawFileReader.Rcheck/MsBackendRawFileReader-Ex.timings
| name | user | system | elapsed | |
| MsBackendRawFileReader-class | 0.99 | 0.05 | 12.72 | |
| MsBackendRawFileReader | 1.20 | 0.06 | 41.41 | |
| hidden_aliases | 0.33 | 0.00 | 11.90 | |
| ioBenchmark | 8.68 | 2.08 | 54.70 | |