| Back to Multiple platform build/check report for BioC 3.22: simplified long |
|
This page was generated on 2025-10-25 12:03 -0400 (Sat, 25 Oct 2025).
| Hostname | OS | Arch (*) | R version | Installed pkgs |
|---|---|---|---|---|
| nebbiolo2 | Linux (Ubuntu 24.04.3 LTS) | x86_64 | 4.5.1 Patched (2025-08-23 r88802) -- "Great Square Root" | 4901 |
| lconway | macOS 12.7.6 Monterey | x86_64 | 4.5.1 Patched (2025-09-10 r88807) -- "Great Square Root" | 4691 |
| kjohnson3 | macOS 13.7.7 Ventura | arm64 | 4.5.1 Patched (2025-09-10 r88807) -- "Great Square Root" | 4637 |
| taishan | Linux (openEuler 24.03 LTS) | aarch64 | 4.5.0 (2025-04-11) -- "How About a Twenty-Six" | 4658 |
| Click on any hostname to see more info about the system (e.g. compilers) (*) as reported by 'uname -p', except on Windows and Mac OS X | ||||
| Package 1378/2361 | Hostname | OS / Arch | INSTALL | BUILD | CHECK | BUILD BIN | ||||||||
| MsBackendRawFileReader 1.15.1 (landing page) Christian Panse
| nebbiolo2 | Linux (Ubuntu 24.04.3 LTS) / x86_64 | OK | OK | OK | |||||||||
| lconway | macOS 12.7.6 Monterey / x86_64 | OK | OK | OK | OK | |||||||||
| kjohnson3 | macOS 13.7.7 Ventura / arm64 | OK | OK | OK | OK | |||||||||
| taishan | Linux (openEuler 24.03 LTS) / aarch64 | OK | NA | NA | ||||||||||
|
To the developers/maintainers of the MsBackendRawFileReader package: - Allow up to 24 hours (and sometimes 48 hours) for your latest push to git@git.bioconductor.org:packages/MsBackendRawFileReader.git to reflect on this report. See Troubleshooting Build Report for more information. - Use the following Renviron settings to reproduce errors and warnings. - If 'R CMD check' started to fail recently on the Linux builder(s) over a missing dependency, add the missing dependency to 'Suggests:' in your DESCRIPTION file. See Renviron.bioc for more information. |
| Package: MsBackendRawFileReader |
| Version: 1.15.1 |
| Command: /home/biocbuild/bbs-3.22-bioc/R/bin/R CMD check --install=check:MsBackendRawFileReader.install-out.txt --library=/home/biocbuild/bbs-3.22-bioc/R/site-library --timings MsBackendRawFileReader_1.15.1.tar.gz |
| StartedAt: 2025-10-25 01:52:58 -0400 (Sat, 25 Oct 2025) |
| EndedAt: 2025-10-25 01:57:40 -0400 (Sat, 25 Oct 2025) |
| EllapsedTime: 281.2 seconds |
| RetCode: 0 |
| Status: OK |
| CheckDir: MsBackendRawFileReader.Rcheck |
| Warnings: 0 |
##############################################################################
##############################################################################
###
### Running command:
###
### /home/biocbuild/bbs-3.22-bioc/R/bin/R CMD check --install=check:MsBackendRawFileReader.install-out.txt --library=/home/biocbuild/bbs-3.22-bioc/R/site-library --timings MsBackendRawFileReader_1.15.1.tar.gz
###
##############################################################################
##############################################################################
* using log directory ‘/home/biocbuild/bbs-3.22-bioc/meat/MsBackendRawFileReader.Rcheck’
* using R version 4.5.1 Patched (2025-08-23 r88802)
* using platform: x86_64-pc-linux-gnu
* R was compiled by
gcc (Ubuntu 13.3.0-6ubuntu2~24.04) 13.3.0
GNU Fortran (Ubuntu 13.3.0-6ubuntu2~24.04) 13.3.0
* running under: Ubuntu 24.04.3 LTS
* using session charset: UTF-8
* checking for file ‘MsBackendRawFileReader/DESCRIPTION’ ... OK
* checking extension type ... Package
* this is package ‘MsBackendRawFileReader’ version ‘1.15.1’
* package encoding: UTF-8
* checking package namespace information ... OK
* checking package dependencies ... OK
* checking if this is a source package ... OK
* checking if there is a namespace ... OK
* checking for hidden files and directories ... OK
* checking for portable file names ... OK
* checking for sufficient/correct file permissions ... OK
* checking whether package ‘MsBackendRawFileReader’ can be installed ... OK
* checking installed package size ... OK
* checking package directory ... OK
* checking ‘build’ directory ... OK
* checking DESCRIPTION meta-information ... OK
* checking top-level files ... OK
* checking for left-over files ... OK
* checking index information ... OK
* checking package subdirectories ... OK
* checking code files for non-ASCII characters ... OK
* checking R files for syntax errors ... OK
* checking whether the package can be loaded ... OK
* checking whether the package can be loaded with stated dependencies ... OK
* checking whether the package can be unloaded cleanly ... OK
* checking whether the namespace can be loaded with stated dependencies ... OK
* checking whether the namespace can be unloaded cleanly ... OK
* checking loading without being on the library search path ... OK
* checking whether startup messages can be suppressed ... OK
* checking dependencies in R code ... OK
* checking S3 generic/method consistency ... OK
* checking replacement functions ... OK
* checking foreign function calls ... OK
* checking R code for possible problems ... OK
* checking Rd files ... OK
* checking Rd metadata ... OK
* checking Rd cross-references ... OK
* checking for missing documentation entries ... OK
* checking for code/documentation mismatches ... OK
* checking Rd \usage sections ... OK
* checking Rd contents ... OK
* checking for unstated dependencies in examples ... OK
* checking files in ‘vignettes’ ... OK
* checking examples ... OK
Examples with CPU (user + system) or elapsed time > 5s
user system elapsed
ioBenchmark 30.437 6.198 11.999
MsBackendRawFileReader 6.325 2.151 9.056
* checking for unstated dependencies in ‘tests’ ... OK
* checking tests ...
Running ‘testthat.R’
OK
* checking for unstated dependencies in vignettes ... OK
* checking package vignettes ... OK
* checking re-building of vignette outputs ... OK
* checking PDF version of manual ... OK
* DONE
Status: OK
MsBackendRawFileReader.Rcheck/00install.out
############################################################################## ############################################################################## ### ### Running command: ### ### /home/biocbuild/bbs-3.22-bioc/R/bin/R CMD INSTALL MsBackendRawFileReader ### ############################################################################## ############################################################################## * installing to library ‘/home/biocbuild/bbs-3.22-bioc/R/site-library’ * installing *source* package ‘MsBackendRawFileReader’ ... ** this is package ‘MsBackendRawFileReader’ version ‘1.15.1’ ** using staged installation ** R ** inst ** byte-compile and prepare package for lazy loading ** help *** installing help indices ** building package indices ** installing vignettes ** testing if installed package can be loaded from temporary location ** testing if installed package can be loaded from final location ** testing if installed package keeps a record of temporary installation path * DONE (MsBackendRawFileReader)
MsBackendRawFileReader.Rcheck/tests/testthat.Rout
R version 4.5.1 Patched (2025-08-23 r88802) -- "Great Square Root"
Copyright (C) 2025 The R Foundation for Statistical Computing
Platform: x86_64-pc-linux-gnu
R is free software and comes with ABSOLUTELY NO WARRANTY.
You are welcome to redistribute it under certain conditions.
Type 'license()' or 'licence()' for distribution details.
R is a collaborative project with many contributors.
Type 'contributors()' for more information and
'citation()' on how to cite R or R packages in publications.
Type 'demo()' for some demos, 'help()' for on-line help, or
'help.start()' for an HTML browser interface to help.
Type 'q()' to quit R.
> library("testthat")
> library("MsBackendRawFileReader")
Loading required package: Spectra
Loading required package: S4Vectors
Loading required package: stats4
Loading required package: BiocGenerics
Loading required package: generics
Attaching package: 'generics'
The following objects are masked from 'package:base':
as.difftime, as.factor, as.ordered, intersect, is.element, setdiff,
setequal, union
Attaching package: 'BiocGenerics'
The following objects are masked from 'package:stats':
IQR, mad, sd, var, xtabs
The following objects are masked from 'package:base':
Filter, Find, Map, Position, Reduce, anyDuplicated, aperm, append,
as.data.frame, basename, cbind, colnames, dirname, do.call,
duplicated, eval, evalq, get, grep, grepl, is.unsorted, lapply,
mapply, match, mget, order, paste, pmax, pmax.int, pmin, pmin.int,
rank, rbind, rownames, sapply, saveRDS, table, tapply, unique,
unsplit, which.max, which.min
Attaching package: 'S4Vectors'
The following object is masked from 'package:utils':
findMatches
The following objects are masked from 'package:base':
I, expand.grid, unname
Loading required package: BiocParallel
> library("Spectra")
>
>
> sample_raw_file <- file.path(system.file(package = "rawrr"),
+ 'extdata', 'sample.raw')
>
> sample_mzXML_file <- file.path(path.package(package = 'MsBackendRawFileReader'),
+ 'extdata', 'sample.mzXML')
>
>
> sample_raw <- backendInitialize(MsBackendRawFileReader::MsBackendRawFileReader(), files = sample_raw_file)
>
>
> #sample_mzr <- backendInitialize(MsBackendMzR(), files = sample_mzXML_file)
>
>
> mgf_file <- file.path(system.file(package = "MsBackendRawFileReader"),
+ 'extdata', '3159619b11ed_4590_9594.mgf')
>
>
> rv <- lapply(1:2, function(x){
+ file.copy(from = sample_raw_file, to = tempfile(fileext='.raw'))})
>
>
> register(SnowParam(workers = 1, type = "SOCK") , default = TRUE);
> sample_raw_2 <- backendInitialize(MsBackendRawFileReader(),
+ files = file.path(tempdir(),
+ list.files(path = tempdir(), pattern = 'raw$')))
>
>
> test_check("MsBackendRawFileReader")
[ FAIL 0 | WARN 1 | SKIP 2 | PASS 21 ]
══ Skipped tests (2) ═══════════════════════════════════════════════════════════
• isFALSE(file.exists(sample_mzXML_file)) is TRUE (1):
'test_MsBackendMzR_MsBackendRawFileReader.R:1:1'
• isFALSE(require(MsBackendRawMgf)) is TRUE (1): 'test_top_n_mgf.R:1:1'
[ FAIL 0 | WARN 1 | SKIP 2 | PASS 21 ]
>
>
> be <- Spectra::backendInitialize(MsBackendRawFileReader::MsBackendRawFileReader(),
+ files = c(sample_raw_file))
>
> ## Run the MsBackend spectra variable test suite
>
> test_suite <- system.file("test_backends", "test_MsBackend",
+ package = "Spectra")
>
> #res <- test_file(paste0(test_suite, "/test_spectra_variables.R"),
> # reporter = check_reporter(), stop_on_failure = TRUE)
>
>
> ## Run the whole suite.
> res <- test_dir(test_suite, stop_on_failure = TRUE)
✔ | F W S OK | Context
⠏ | 0 | peaks_variables
⠙ | 2 | peaks_variables
⠸ | 4 | peaks_variables
✔ | 4 | peaks_variables [3.8s]
⠏ | 0 | spectra_subsetting
⠋ | 1 | spectra_subsetting
⠴ | 16 | spectra_subsetting
⠏ | 30 | spectra_subsetting
⠸ | 44 | spectra_subsetting
⠧ | 58 | spectra_subsetting
⠏ | 70 | spectra_subsetting
⠼ | 85 | spectra_subsetting
⠏ | 100 | spectra_subsetting
⠼ | 115 | spectra_subsetting
⠏ | 130 | spectra_subsetting
⠼ | 145 | spectra_subsetting
⠏ | 160 | spectra_subsetting
⠼ | 175 | spectra_subsetting
⠏ | 190 | spectra_subsetting
⠼ | 205 | spectra_subsetting
⠏ | 220 | spectra_subsetting
⠼ | 235 | spectra_subsetting
⠏ | 250 | spectra_subsetting
⠙ | 262 | spectra_subsetting
⠼ | 275 | spectra_subsetting
⠴ | 286 | spectra_subsetting
⠋ | 301 | spectra_subsetting
⠴ | 316 | spectra_subsetting
⠧ | 328 | spectra_subsetting
⠹ | 343 | spectra_subsetting
⠧ | 358 | spectra_subsetting
⠹ | 373 | spectra_subsetting
⠧ | 388 | spectra_subsetting
⠏ | 400 | spectra_subsetting
⠼ | 415 | spectra_subsetting
⠏ | 430 | spectra_subsetting
⠼ | 445 | spectra_subsetting
⠏ | 460 | spectra_subsetting
⠸ | 474 | spectra_subsetting
⠏ | 490 | spectra_subsetting
⠼ | 505 | spectra_subsetting
⠏ | 520 | spectra_subsetting
⠼ | 535 | spectra_subsetting
⠇ | 549 | spectra_subsetting
⠹ | 563 | spectra_subsetting
⠦ | 577 | spectra_subsetting
⠙ | 592 | spectra_subsetting
⠦ | 607 | spectra_subsetting
⠏ | 620 | spectra_subsetting
⠼ | 635 | spectra_subsetting
⠇ | 649 | spectra_subsetting
⠸ | 664 | spectra_subsetting
⠇ | 679 | spectra_subsetting
⠹ | 693 | spectra_subsetting
⠦ | 707 | spectra_subsetting
⠋ | 721 | spectra_subsetting
⠴ | 736 | spectra_subsetting
⠋ | 751 | spectra_subsetting
⠴ | 766 | spectra_subsetting
⠙ | 782 | spectra_subsetting
⠴ | 796 | spectra_subsetting
⠋ | 811 | spectra_subsetting
⠴ | 826 | spectra_subsetting
⠧ | 838 | spectra_subsetting
⠼ | 855 | spectra_subsetting
⠧ | 868 | spectra_subsetting
⠹ | 883 | spectra_subsetting
⠧ | 898 | spectra_subsetting
⠋ | 911 | spectra_subsetting
⠼ | 925 | spectra_subsetting
⠏ | 940 | spectra_subsetting
⠇ | 949 | spectra_subsetting
⠸ | 964 | spectra_subsetting
⠇ | 979 | spectra_subsetting
⠸ | 994 | spectra_subsetting
⠇ | 1009 | spectra_subsetting
⠋ | 1021 | spectra_subsetting
⠴ | 1036 | spectra_subsetting
⠋ | 1051 | spectra_subsetting
⠸ | 1064 | spectra_subsetting
⠧ | 1078 | spectra_subsetting
⠋ | 1091 | spectra_subsetting
⠼ | 1105 | spectra_subsetting
⠏ | 1120 | spectra_subsetting
⠙ | 1132 | spectra_subsetting
⠦ | 1147 | spectra_subsetting
⠙ | 1162 | spectra_subsetting
⠼ | 1175 | spectra_subsetting
⠇ | 1189 | spectra_subsetting
⠋ | 1201 | spectra_subsetting
⠴ | 1216 | spectra_subsetting
⠋ | 1231 | spectra_subsetting
⠹ | 1243 | spectra_subsetting
⠧ | 1258 | spectra_subsetting
⠏ | 1270 | spectra_subsetting
⠼ | 1285 | spectra_subsetting
⠏ | 1300 | spectra_subsetting
⠸ | 1314 | spectra_subsetting
⠧ | 1328 | spectra_subsetting
⠙ | 1342 | spectra_subsetting
⠦ | 1357 | spectra_subsetting
⠙ | 1372 | spectra_subsetting
⠴ | 1386 | spectra_subsetting
⠋ | 1401 | spectra_subsetting
⠼ | 1415 | spectra_subsetting
⠴ | 1426 | spectra_subsetting
⠙ | 1442 | spectra_subsetting
⠴ | 1456 | spectra_subsetting
⠋ | 1471 | spectra_subsetting
⠴ | 1486 | spectra_subsetting
⠏ | 1500 | spectra_subsetting
⠹ | 1513 | spectra_subsetting
⠴ | 1526 | spectra_subsetting
⠏ | 1540 | spectra_subsetting
⠼ | 1555 | spectra_subsetting
⠏ | 1570 | spectra_subsetting
⠴ | 1586 | spectra_subsetting
⠦ | 1597 | spectra_subsetting
⠋ | 1611 | spectra_subsetting
⠸ | 1624 | spectra_subsetting
⠇ | 1639 | spectra_subsetting
⠸ | 1654 | spectra_subsetting
⠇ | 1669 | spectra_subsetting
⠙ | 1682 | spectra_subsetting
⠴ | 1696 | spectra_subsetting
⠇ | 1709 | spectra_subsetting
⠹ | 1723 | spectra_subsetting
⠧ | 1728 | spectra_subsetting
⠏ | 1730 | spectra_subsetting
⠹ | 1733 | spectra_subsetting
⠴ | 1736 | spectra_subsetting
⠧ | 1738 | spectra_subsetting
⠋ | 1741 | spectra_subsetting
⠹ | 1743 | spectra_subsetting
⠴ | 1746 | spectra_subsetting
⠇ | 1749 | spectra_subsetting
⠋ | 1751 | spectra_subsetting
⠸ | 1754 | spectra_subsetting
⠴ | 1756 | spectra_subsetting
⠇ | 1759 | spectra_subsetting
⠙ | 1762 | spectra_subsetting
⠸ | 1764 | spectra_subsetting
⠦ | 1767 | spectra_subsetting
⠇ | 1769 | spectra_subsetting
⠙ | 1772 | spectra_subsetting
⠸ | 1774 | spectra_subsetting
⠦ | 1777 | spectra_subsetting
⠏ | 1780 | spectra_subsetting
⠙ | 1782 | spectra_subsetting
⠸ | 1784 | spectra_subsetting
⠴ | 1786 | spectra_subsetting
⠇ | 1789 | spectra_subsetting
⠋ | 1791 | spectra_subsetting
⠸ | 1794 | spectra_subsetting
⠴ | 1796 | spectra_subsetting
⠇ | 1799 | spectra_subsetting
⠋ | 1801 | spectra_subsetting
⠹ | 1803 | spectra_subsetting
⠼ | 1805 | spectra_subsetting
⠧ | 1808 | spectra_subsetting
⠋ | 1811 | spectra_subsetting
⠹ | 1813 | spectra_subsetting
⠴ | 1816 | spectra_subsetting
⠧ | 1818 | spectra_subsetting
⠋ | 1821 | spectra_subsetting
⠸ | 1824 | spectra_subsetting
⠴ | 1826 | spectra_subsetting
⠇ | 1829 | spectra_subsetting
⠋ | 1831 | spectra_subsetting
⠹ | 1833 | spectra_subsetting
⠼ | 1835 | spectra_subsetting
⠧ | 1838 | spectra_subsetting
⠏ | 1840 | spectra_subsetting
⠹ | 1843 | spectra_subsetting
⠴ | 1846 | spectra_subsetting
⠧ | 1848 | spectra_subsetting
⠋ | 1851 | spectra_subsetting
⠹ | 1853 | spectra_subsetting
⠴ | 1856 | spectra_subsetting
⠧ | 1858 | spectra_subsetting
⠋ | 1861 | spectra_subsetting
⠸ | 1864 | spectra_subsetting
⠴ | 1866 | spectra_subsetting
⠇ | 1869 | spectra_subsetting
⠋ | 1871 | spectra_subsetting
⠸ | 1874 | spectra_subsetting
⠦ | 1877 | spectra_subsetting
⠏ | 1880 | spectra_subsetting
⠹ | 1883 | spectra_subsetting
⠴ | 1886 | spectra_subsetting
⠧ | 1888 | spectra_subsetting
⠋ | 1891 | spectra_subsetting
⠹ | 1893 | spectra_subsetting
⠴ | 1896 | spectra_subsetting
⠇ | 1899 | spectra_subsetting
⠙ | 1902 | spectra_subsetting
⠼ | 1905 | spectra_subsetting
⠧ | 1908 | spectra_subsetting
⠋ | 1911 | spectra_subsetting
⠸ | 1914 | spectra_subsetting
⠦ | 1917 | spectra_subsetting
⠏ | 1920 | spectra_subsetting
⠹ | 1923 | spectra_subsetting
⠴ | 1926 | spectra_subsetting
⠇ | 1929 | spectra_subsetting
⠙ | 1932 | spectra_subsetting
⠼ | 1935 | spectra_subsetting
⠧ | 1938 | spectra_subsetting
⠋ | 1941 | spectra_subsetting
⠸ | 1944 | spectra_subsetting
⠦ | 1947 | spectra_subsetting
⠏ | 1950 | spectra_subsetting
⠹ | 1953 | spectra_subsetting
⠴ | 1956 | spectra_subsetting
⠇ | 1959 | spectra_subsetting
⠙ | 1962 | spectra_subsetting
⠼ | 1965 | spectra_subsetting
⠧ | 1968 | spectra_subsetting
⠋ | 1971 | spectra_subsetting
⠸ | 1974 | spectra_subsetting
⠦ | 1977 | spectra_subsetting
⠏ | 1980 | spectra_subsetting
⠹ | 1983 | spectra_subsetting
⠴ | 1986 | spectra_subsetting
⠇ | 1989 | spectra_subsetting
⠙ | 1992 | spectra_subsetting
⠼ | 1995 | spectra_subsetting
⠧ | 1998 | spectra_subsetting
⠋ | 2001 | spectra_subsetting
⠸ | 2004 | spectra_subsetting
⠦ | 2007 | spectra_subsetting
⠏ | 2010 | spectra_subsetting
⠹ | 2013 | spectra_subsetting
⠴ | 2016 | spectra_subsetting
⠇ | 2019 | spectra_subsetting
⠙ | 2022 | spectra_subsetting
⠸ | 2024 | spectra_subsetting
⠦ | 2027 | spectra_subsetting
⠏ | 2030 | spectra_subsetting
⠹ | 2033 | spectra_subsetting
⠴ | 2036 | spectra_subsetting
⠇ | 2039 | spectra_subsetting
⠙ | 2042 | spectra_subsetting
⠼ | 2045 | spectra_subsetting
⠧ | 2048 | spectra_subsetting
⠋ | 2051 | spectra_subsetting
⠸ | 2054 | spectra_subsetting
⠦ | 2057 | spectra_subsetting
⠏ | 2060 | spectra_subsetting
⠙ | 2062 | spectra_subsetting
⠸ | 2064 | spectra_subsetting
⠦ | 2067 | spectra_subsetting
⠏ | 2070 | spectra_subsetting
⠹ | 2073 | spectra_subsetting
⠴ | 2076 | spectra_subsetting
⠇ | 2079 | spectra_subsetting
⠙ | 2082 | spectra_subsetting
⠼ | 2085 | spectra_subsetting
⠦ | 2087 | spectra_subsetting
⠏ | 2090 | spectra_subsetting
⠹ | 2093 | spectra_subsetting
⠴ | 2096 | spectra_subsetting
⠇ | 2099 | spectra_subsetting
⠋ | 2101 | spectra_subsetting
⠸ | 2104 | spectra_subsetting
⠦ | 2107 | spectra_subsetting
⠏ | 2110 | spectra_subsetting
⠹ | 2113 | spectra_subsetting
⠴ | 2116 | spectra_subsetting
⠇ | 2119 | spectra_subsetting
⠙ | 2122 | spectra_subsetting
⠼ | 2125 | spectra_subsetting
⠧ | 2128 | spectra_subsetting
⠋ | 2131 | spectra_subsetting
⠸ | 2134 | spectra_subsetting
⠦ | 2137 | spectra_subsetting
⠏ | 2140 | spectra_subsetting
⠹ | 2143 | spectra_subsetting
⠴ | 2146 | spectra_subsetting
⠇ | 2149 | spectra_subsetting
⠙ | 2152 | spectra_subsetting
⠼ | 2155 | spectra_subsetting
⠧ | 2158 | spectra_subsetting
⠋ | 2161 | spectra_subsetting
⠸ | 2164 | spectra_subsetting
⠦ | 2167 | spectra_subsetting
⠏ | 2170 | spectra_subsetting
⠹ | 2173 | spectra_subsetting
⠴ | 2176 | spectra_subsetting
⠇ | 2179 | spectra_subsetting
⠙ | 2182 | spectra_subsetting
⠼ | 2185 | spectra_subsetting
⠧ | 2188 | spectra_subsetting
⠋ | 2191 | spectra_subsetting
⠸ | 2194 | spectra_subsetting
⠦ | 2197 | spectra_subsetting
⠏ | 2200 | spectra_subsetting
⠹ | 2203 | spectra_subsetting
⠴ | 2206 | spectra_subsetting
⠇ | 2209 | spectra_subsetting
⠙ | 2212 | spectra_subsetting
⠼ | 2215 | spectra_subsetting
⠧ | 2218 | spectra_subsetting
⠋ | 2221 | spectra_subsetting
⠸ | 2224 | spectra_subsetting
⠦ | 2227 | spectra_subsetting
⠏ | 2230 | spectra_subsetting
⠹ | 2233 | spectra_subsetting
⠴ | 2236 | spectra_subsetting
⠇ | 2239 | spectra_subsetting
⠙ | 2242 | spectra_subsetting
⠼ | 2245 | spectra_subsetting
⠧ | 2248 | spectra_subsetting
⠋ | 2251 | spectra_subsetting
⠸ | 2254 | spectra_subsetting
⠦ | 2257 | spectra_subsetting
⠏ | 2260 | spectra_subsetting
⠹ | 2263 | spectra_subsetting
⠴ | 2266 | spectra_subsetting
⠇ | 2269 | spectra_subsetting
⠙ | 2272 | spectra_subsetting
⠼ | 2275 | spectra_subsetting
⠧ | 2278 | spectra_subsetting
⠋ | 2281 | spectra_subsetting
⠸ | 2284 | spectra_subsetting
⠦ | 2287 | spectra_subsetting
⠏ | 2290 | spectra_subsetting
⠹ | 2293 | spectra_subsetting
⠼ | 2295 | spectra_subsetting
⠦ | 2297 | spectra_subsetting
⠇ | 2299 | spectra_subsetting
⠹ | 2303 | spectra_subsetting
⠙ | 2312 | spectra_subsetting
⠇ | 2319 | spectra_subsetting
⠇ | 2329 | spectra_subsetting
⠸ | 2334 | spectra_subsetting
✔ | 2342 | spectra_subsetting [41.5s]
⠏ | 0 | spectra_variables
⠙ | 12 | spectra_variables
⠸ | 14 | spectra_variables
⠴ | 16 | spectra_variables
⠦ | 27 | spectra_variables
⠇ | 29 | spectra_variables
⠋ | 31 | spectra_variables
⠹ | 43 | spectra_variables
⠋ | 1 60 | spectra_variables
✔ | 1 62 | spectra_variables [13.7s]
══ Results ═════════════════════════════════════════════════════════════════════
Duration: 58.9 s
── Skipped tests (1) ───────────────────────────────────────────────────────────
• empty test (1): 'test_spectra_variables.R:262:1'
[ FAIL 0 | WARN 0 | SKIP 1 | PASS 2408 ]
>
> proc.time()
user system elapsed
80.662 8.013 90.957
MsBackendRawFileReader.Rcheck/MsBackendRawFileReader-Ex.timings
| name | user | system | elapsed | |
| MsBackendRawFileReader-class | 3.168 | 0.839 | 4.345 | |
| MsBackendRawFileReader | 6.325 | 2.151 | 9.056 | |
| hidden_aliases | 2.081 | 0.677 | 2.945 | |
| ioBenchmark | 30.437 | 6.198 | 11.999 | |