Back to Multiple platform build/check report for BioC 3.22:   simplified   long
ABCDEFGHIJKL[M]NOPQRSTUVWXYZ

This page was generated on 2025-10-24 12:05 -0400 (Fri, 24 Oct 2025).

HostnameOSArch (*)R versionInstalled pkgs
nebbiolo2Linux (Ubuntu 24.04.3 LTS)x86_644.5.1 Patched (2025-08-23 r88802) -- "Great Square Root" 4898
lconwaymacOS 12.7.6 Montereyx86_644.5.1 Patched (2025-09-10 r88807) -- "Great Square Root" 4688
kjohnson3macOS 13.7.7 Venturaarm644.5.1 Patched (2025-09-10 r88807) -- "Great Square Root" 4634
taishanLinux (openEuler 24.03 LTS)aarch644.5.0 (2025-04-11) -- "How About a Twenty-Six" 4658
Click on any hostname to see more info about the system (e.g. compilers)      (*) as reported by 'uname -p', except on Windows and Mac OS X

Package 1377/2359HostnameOS / ArchINSTALLBUILDCHECKBUILD BIN
MsBackendRawFileReader 1.15.1  (landing page)
Christian Panse
Snapshot Date: 2025-10-23 14:17 -0400 (Thu, 23 Oct 2025)
git_url: https://git.bioconductor.org/packages/MsBackendRawFileReader
git_branch: devel
git_last_commit: 1998d81
git_last_commit_date: 2025-06-12 03:00:23 -0400 (Thu, 12 Jun 2025)
nebbiolo2Linux (Ubuntu 24.04.3 LTS) / x86_64  OK    OK    OK  UNNEEDED, same version is already published
lconwaymacOS 12.7.6 Monterey / x86_64  OK    OK    OK    OK  UNNEEDED, same version is already published
kjohnson3macOS 13.7.7 Ventura / arm64  OK    OK    OK    OK  UNNEEDED, same version is already published
taishanLinux (openEuler 24.03 LTS) / aarch64  OK    ERROR  skipped


CHECK results for MsBackendRawFileReader on lconway

To the developers/maintainers of the MsBackendRawFileReader package:
- Allow up to 24 hours (and sometimes 48 hours) for your latest push to git@git.bioconductor.org:packages/MsBackendRawFileReader.git to reflect on this report. See Troubleshooting Build Report for more information.
- Use the following Renviron settings to reproduce errors and warnings.
- If 'R CMD check' started to fail recently on the Linux builder(s) over a missing dependency, add the missing dependency to 'Suggests:' in your DESCRIPTION file. See Renviron.bioc for more information.

raw results


Summary

Package: MsBackendRawFileReader
Version: 1.15.1
Command: /Library/Frameworks/R.framework/Resources/bin/R CMD check --install=check:MsBackendRawFileReader.install-out.txt --library=/Library/Frameworks/R.framework/Resources/library --no-vignettes --timings MsBackendRawFileReader_1.15.1.tar.gz
StartedAt: 2025-10-23 22:37:18 -0400 (Thu, 23 Oct 2025)
EndedAt: 2025-10-23 22:41:03 -0400 (Thu, 23 Oct 2025)
EllapsedTime: 224.6 seconds
RetCode: 0
Status:   OK  
CheckDir: MsBackendRawFileReader.Rcheck
Warnings: 0

Command output

##############################################################################
##############################################################################
###
### Running command:
###
###   /Library/Frameworks/R.framework/Resources/bin/R CMD check --install=check:MsBackendRawFileReader.install-out.txt --library=/Library/Frameworks/R.framework/Resources/library --no-vignettes --timings MsBackendRawFileReader_1.15.1.tar.gz
###
##############################################################################
##############################################################################


* using log directory ‘/Users/biocbuild/bbs-3.22-bioc/meat/MsBackendRawFileReader.Rcheck’
* using R version 4.5.1 Patched (2025-09-10 r88807)
* using platform: x86_64-apple-darwin20
* R was compiled by
    Apple clang version 14.0.0 (clang-1400.0.29.202)
    GNU Fortran (GCC) 14.2.0
* running under: macOS Monterey 12.7.6
* using session charset: UTF-8
* using option ‘--no-vignettes’
* checking for file ‘MsBackendRawFileReader/DESCRIPTION’ ... OK
* checking extension type ... Package
* this is package ‘MsBackendRawFileReader’ version ‘1.15.1’
* package encoding: UTF-8
* checking package namespace information ... OK
* checking package dependencies ... OK
* checking if this is a source package ... OK
* checking if there is a namespace ... OK
* checking for hidden files and directories ... OK
* checking for portable file names ... OK
* checking for sufficient/correct file permissions ... OK
* checking whether package ‘MsBackendRawFileReader’ can be installed ... OK
* checking installed package size ... OK
* checking package directory ... OK
* checking ‘build’ directory ... OK
* checking DESCRIPTION meta-information ... OK
* checking top-level files ... OK
* checking for left-over files ... OK
* checking index information ... OK
* checking package subdirectories ... OK
* checking code files for non-ASCII characters ... OK
* checking R files for syntax errors ... OK
* checking whether the package can be loaded ... OK
* checking whether the package can be loaded with stated dependencies ... OK
* checking whether the package can be unloaded cleanly ... OK
* checking whether the namespace can be loaded with stated dependencies ... OK
* checking whether the namespace can be unloaded cleanly ... OK
* checking whether startup messages can be suppressed ... OK
* checking dependencies in R code ... OK
* checking S3 generic/method consistency ... OK
* checking replacement functions ... OK
* checking foreign function calls ... OK
* checking R code for possible problems ... OK
* checking Rd files ... OK
* checking Rd metadata ... OK
* checking Rd cross-references ... OK
* checking for missing documentation entries ... OK
* checking for code/documentation mismatches ... OK
* checking Rd \usage sections ... OK
* checking Rd contents ... OK
* checking for unstated dependencies in examples ... OK
* checking files in ‘vignettes’ ... OK
* checking examples ... OK
Examples with CPU (user + system) or elapsed time > 5s
                         user system elapsed
ioBenchmark            28.302 11.525  13.192
MsBackendRawFileReader  7.784  2.921  11.300
* checking for unstated dependencies in ‘tests’ ... OK
* checking tests ...
  Running ‘testthat.R’
 OK
* checking for unstated dependencies in vignettes ... OK
* checking package vignettes ... OK
* checking running R code from vignettes ... SKIPPED
* checking re-building of vignette outputs ... SKIPPED
* checking PDF version of manual ... OK
* DONE

Status: OK


Installation output

MsBackendRawFileReader.Rcheck/00install.out

##############################################################################
##############################################################################
###
### Running command:
###
###   /Library/Frameworks/R.framework/Resources/bin/R CMD INSTALL MsBackendRawFileReader
###
##############################################################################
##############################################################################


* installing to library ‘/Library/Frameworks/R.framework/Versions/4.5-x86_64/Resources/library’
* installing *source* package ‘MsBackendRawFileReader’ ...
** this is package ‘MsBackendRawFileReader’ version ‘1.15.1’
** using staged installation
** R
** inst
** byte-compile and prepare package for lazy loading
** help
*** installing help indices
** building package indices
** installing vignettes
** testing if installed package can be loaded from temporary location
** testing if installed package can be loaded from final location
** testing if installed package keeps a record of temporary installation path
* DONE (MsBackendRawFileReader)

Tests output

MsBackendRawFileReader.Rcheck/tests/testthat.Rout


R version 4.5.1 Patched (2025-09-10 r88807) -- "Great Square Root"
Copyright (C) 2025 The R Foundation for Statistical Computing
Platform: x86_64-apple-darwin20

R is free software and comes with ABSOLUTELY NO WARRANTY.
You are welcome to redistribute it under certain conditions.
Type 'license()' or 'licence()' for distribution details.

R is a collaborative project with many contributors.
Type 'contributors()' for more information and
'citation()' on how to cite R or R packages in publications.

Type 'demo()' for some demos, 'help()' for on-line help, or
'help.start()' for an HTML browser interface to help.
Type 'q()' to quit R.

> library("testthat")
> library("MsBackendRawFileReader")
Loading required package: Spectra
Loading required package: S4Vectors
Loading required package: stats4
Loading required package: BiocGenerics
Loading required package: generics

Attaching package: 'generics'

The following objects are masked from 'package:base':

    as.difftime, as.factor, as.ordered, intersect, is.element, setdiff,
    setequal, union


Attaching package: 'BiocGenerics'

The following objects are masked from 'package:stats':

    IQR, mad, sd, var, xtabs

The following objects are masked from 'package:base':

    Filter, Find, Map, Position, Reduce, anyDuplicated, aperm, append,
    as.data.frame, basename, cbind, colnames, dirname, do.call,
    duplicated, eval, evalq, get, grep, grepl, is.unsorted, lapply,
    mapply, match, mget, order, paste, pmax, pmax.int, pmin, pmin.int,
    rank, rbind, rownames, sapply, saveRDS, table, tapply, unique,
    unsplit, which.max, which.min


Attaching package: 'S4Vectors'

The following object is masked from 'package:utils':

    findMatches

The following objects are masked from 'package:base':

    I, expand.grid, unname

Loading required package: BiocParallel
> library("Spectra")
> 
> 
> sample_raw_file <- file.path(system.file(package = "rawrr"),
+                                 'extdata', 'sample.raw')
> 
> sample_mzXML_file <- file.path(path.package(package = 'MsBackendRawFileReader'),
+                                 'extdata', 'sample.mzXML')
> 
> 
> sample_raw <-  backendInitialize(MsBackendRawFileReader::MsBackendRawFileReader(), files = sample_raw_file)
> 
> 
> #sample_mzr <-  backendInitialize(MsBackendMzR(), files = sample_mzXML_file)
> 
> 
> mgf_file <- file.path(system.file(package = "MsBackendRawFileReader"),
+                              'extdata', '3159619b11ed_4590_9594.mgf')
> 
> 
> rv <- lapply(1:2, function(x){
+   file.copy(from = sample_raw_file, to = tempfile(fileext='.raw'))})
> 
> 
> register(SnowParam(workers = 1, type = "SOCK") , default = TRUE); 
> sample_raw_2 <- backendInitialize(MsBackendRawFileReader(),
+     files = file.path(tempdir(),
+          list.files(path = tempdir(), pattern = 'raw$')))
> 
> 
> test_check("MsBackendRawFileReader")
[ FAIL 0 | WARN 1 | SKIP 2 | PASS 21 ]

══ Skipped tests (2) ═══════════════════════════════════════════════════════════
• isFALSE(file.exists(sample_mzXML_file)) is TRUE (1):
  'test_MsBackendMzR_MsBackendRawFileReader.R:1:1'
• isFALSE(require(MsBackendRawMgf)) is TRUE (1): 'test_top_n_mgf.R:1:1'

[ FAIL 0 | WARN 1 | SKIP 2 | PASS 21 ]
> 
> 
> be <- Spectra::backendInitialize(MsBackendRawFileReader::MsBackendRawFileReader(),
+                                  files = c(sample_raw_file))
> 
> ## Run the MsBackend spectra variable test suite
> 
> test_suite <- system.file("test_backends", "test_MsBackend",
+                           package = "Spectra")
> 
> #res <- test_file(paste0(test_suite, "/test_spectra_variables.R"),
> #                 reporter = check_reporter(), stop_on_failure = TRUE)
> 
> 
> ## Run the whole suite.
> res <- test_dir(test_suite, stop_on_failure = TRUE)
✔ | F W  S  OK | Context

⠏ |          0 | peaks_variables                                                
⠙ |          2 | peaks_variables                                                
⠸ |          4 | peaks_variables                                                
✔ |          4 | peaks_variables [4.4s]

⠏ |          0 | spectra_subsetting                                             
⠋ |          1 | spectra_subsetting                                             
⠹ |         13 | spectra_subsetting                                             
⠹ |         23 | spectra_subsetting                                             
⠸ |         34 | spectra_subsetting                                             
⠦ |         47 | spectra_subsetting                                             
⠧ |         58 | spectra_subsetting                                             
⠦ |         67 | spectra_subsetting                                             
⠇ |         79 | spectra_subsetting                                             
⠋ |         91 | spectra_subsetting                                             
⠹ |        103 | spectra_subsetting                                             
⠼ |        115 | spectra_subsetting                                             
⠦ |        127 | spectra_subsetting                                             
⠇ |        139 | spectra_subsetting                                             
⠋ |        151 | spectra_subsetting                                             
⠹ |        163 | spectra_subsetting                                             
⠙ |        172 | spectra_subsetting                                             
⠹ |        183 | spectra_subsetting                                             
⠹ |        193 | spectra_subsetting                                             
⠼ |        205 | spectra_subsetting                                             
⠸ |        214 | spectra_subsetting                                             
⠴ |        226 | spectra_subsetting                                             
⠧ |        238 | spectra_subsetting                                             
⠧ |        248 | spectra_subsetting                                             
⠇ |        259 | spectra_subsetting                                             
⠋ |        271 | spectra_subsetting                                             
⠹ |        283 | spectra_subsetting                                             
⠼ |        295 | spectra_subsetting                                             
⠦ |        307 | spectra_subsetting                                             
⠇ |        319 | spectra_subsetting                                             
⠋ |        331 | spectra_subsetting                                             
⠸ |        344 | spectra_subsetting                                             
⠼ |        355 | spectra_subsetting                                             
⠦ |        367 | spectra_subsetting                                             
⠙ |        382 | spectra_subsetting                                             
⠸ |        394 | spectra_subsetting                                             
⠴ |        406 | spectra_subsetting                                             
⠇ |        419 | spectra_subsetting                                             
⠏ |        430 | spectra_subsetting                                             
⠙ |        442 | spectra_subsetting                                             
⠼ |        455 | spectra_subsetting                                             
⠴ |        466 | spectra_subsetting                                             
⠧ |        478 | spectra_subsetting                                             
⠋ |        491 | spectra_subsetting                                             
⠙ |        502 | spectra_subsetting                                             
⠸ |        514 | spectra_subsetting                                             
⠴ |        526 | spectra_subsetting                                             
⠧ |        538 | spectra_subsetting                                             
⠏ |        550 | spectra_subsetting                                             
⠹ |        563 | spectra_subsetting                                             
⠸ |        574 | spectra_subsetting                                             
⠼ |        585 | spectra_subsetting                                             
⠴ |        596 | spectra_subsetting                                             
⠧ |        608 | spectra_subsetting                                             
⠇ |        619 | spectra_subsetting                                             
⠋ |        631 | spectra_subsetting                                             
⠹ |        643 | spectra_subsetting                                             
⠹ |        653 | spectra_subsetting                                             
⠸ |        664 | spectra_subsetting                                             
⠴ |        676 | spectra_subsetting                                             
⠦ |        687 | spectra_subsetting                                             
⠦ |        697 | spectra_subsetting                                             
⠇ |        709 | spectra_subsetting                                             
⠋ |        721 | spectra_subsetting                                             
⠏ |        730 | spectra_subsetting                                             
⠙ |        742 | spectra_subsetting                                             
⠸ |        754 | spectra_subsetting                                             
⠴ |        766 | spectra_subsetting                                             
⠇ |        779 | spectra_subsetting                                             
⠋ |        791 | spectra_subsetting                                             
⠙ |        802 | spectra_subsetting                                             
⠦ |        817 | spectra_subsetting                                             
⠇ |        829 | spectra_subsetting                                             
⠇ |        839 | spectra_subsetting                                             
⠋ |        851 | spectra_subsetting                                             
⠹ |        863 | spectra_subsetting                                             
⠸ |        874 | spectra_subsetting                                             
⠴ |        886 | spectra_subsetting                                             
⠧ |        898 | spectra_subsetting                                             
⠇ |        909 | spectra_subsetting                                             
⠏ |        920 | spectra_subsetting                                             
⠋ |        931 | spectra_subsetting                                             
⠋ |        941 | spectra_subsetting                                             
⠏ |        950 | spectra_subsetting                                             
⠋ |        961 | spectra_subsetting                                             
⠹ |        973 | spectra_subsetting                                             
⠸ |        984 | spectra_subsetting                                             
⠸ |        994 | spectra_subsetting                                             
⠴ |        1006 | spectra_subsetting                                            
⠼ |        1015 | spectra_subsetting                                            
⠼ |        1025 | spectra_subsetting                                            
⠦ |        1037 | spectra_subsetting                                            
⠇ |        1049 | spectra_subsetting                                            
⠏ |        1060 | spectra_subsetting                                            
⠙ |        1072 | spectra_subsetting                                            
⠸ |        1084 | spectra_subsetting                                            
⠹ |        1093 | spectra_subsetting                                            
⠼ |        1105 | spectra_subsetting                                            
⠦ |        1117 | spectra_subsetting                                            
⠇ |        1129 | spectra_subsetting                                            
⠋ |        1141 | spectra_subsetting                                            
⠹ |        1153 | spectra_subsetting                                            
⠹ |        1163 | spectra_subsetting                                            
⠸ |        1174 | spectra_subsetting                                            
⠦ |        1187 | spectra_subsetting                                            
⠧ |        1198 | spectra_subsetting                                            
⠏ |        1210 | spectra_subsetting                                            
⠼ |        1225 | spectra_subsetting                                            
⠦ |        1237 | spectra_subsetting                                            
⠇ |        1249 | spectra_subsetting                                            
⠋ |        1261 | spectra_subsetting                                            
⠹ |        1273 | spectra_subsetting                                            
⠼ |        1285 | spectra_subsetting                                            
⠦ |        1297 | spectra_subsetting                                            
⠇ |        1309 | spectra_subsetting                                            
⠋ |        1321 | spectra_subsetting                                            
⠸ |        1334 | spectra_subsetting                                            
⠼ |        1345 | spectra_subsetting                                            
⠦ |        1357 | spectra_subsetting                                            
⠇ |        1369 | spectra_subsetting                                            
⠋ |        1381 | spectra_subsetting                                            
⠹ |        1393 | spectra_subsetting                                            
⠴ |        1406 | spectra_subsetting                                            
⠦ |        1417 | spectra_subsetting                                            
⠇ |        1429 | spectra_subsetting                                            
⠙ |        1442 | spectra_subsetting                                            
⠹ |        1453 | spectra_subsetting                                            
⠼ |        1465 | spectra_subsetting                                            
⠦ |        1477 | spectra_subsetting                                            
⠇ |        1489 | spectra_subsetting                                            
⠋ |        1501 | spectra_subsetting                                            
⠹ |        1513 | spectra_subsetting                                            
⠼ |        1525 | spectra_subsetting                                            
⠦ |        1537 | spectra_subsetting                                            
⠇ |        1549 | spectra_subsetting                                            
⠋ |        1561 | spectra_subsetting                                            
⠹ |        1573 | spectra_subsetting                                            
⠼ |        1585 | spectra_subsetting                                            
⠦ |        1597 | spectra_subsetting                                            
⠇ |        1609 | spectra_subsetting                                            
⠙ |        1622 | spectra_subsetting                                            
⠹ |        1633 | spectra_subsetting                                            
⠙ |        1642 | spectra_subsetting                                            
⠸ |        1654 | spectra_subsetting                                            
⠴ |        1666 | spectra_subsetting                                            
⠧ |        1678 | spectra_subsetting                                            
⠏ |        1690 | spectra_subsetting                                            
⠙ |        1702 | spectra_subsetting                                            
⠙ |        1712 | spectra_subsetting                                            
⠹ |        1723 | spectra_subsetting                                            
⠦ |        1727 | spectra_subsetting                                            
⠇ |        1729 | spectra_subsetting                                            
⠙ |        1732 | spectra_subsetting                                            
⠸ |        1734 | spectra_subsetting                                            
⠴ |        1736 | spectra_subsetting                                            
⠧ |        1738 | spectra_subsetting                                            
⠏ |        1740 | spectra_subsetting                                            
⠙ |        1742 | spectra_subsetting                                            
⠼ |        1745 | spectra_subsetting                                            
⠦ |        1747 | spectra_subsetting                                            
⠇ |        1749 | spectra_subsetting                                            
⠋ |        1751 | spectra_subsetting                                            
⠹ |        1753 | spectra_subsetting                                            
⠼ |        1755 | spectra_subsetting                                            
⠦ |        1757 | spectra_subsetting                                            
⠇ |        1759 | spectra_subsetting                                            
⠋ |        1761 | spectra_subsetting                                            
⠹ |        1763 | spectra_subsetting                                            
⠼ |        1765 | spectra_subsetting                                            
⠦ |        1767 | spectra_subsetting                                            
⠇ |        1769 | spectra_subsetting                                            
⠙ |        1772 | spectra_subsetting                                            
⠸ |        1774 | spectra_subsetting                                            
⠴ |        1776 | spectra_subsetting                                            
⠧ |        1778 | spectra_subsetting                                            
⠏ |        1780 | spectra_subsetting                                            
⠙ |        1782 | spectra_subsetting                                            
⠼ |        1785 | spectra_subsetting                                            
⠦ |        1787 | spectra_subsetting                                            
⠇ |        1789 | spectra_subsetting                                            
⠋ |        1791 | spectra_subsetting                                            
⠹ |        1793 | spectra_subsetting                                            
⠼ |        1795 | spectra_subsetting                                            
⠧ |        1798 | spectra_subsetting                                            
⠏ |        1800 | spectra_subsetting                                            
⠙ |        1802 | spectra_subsetting                                            
⠸ |        1804 | spectra_subsetting                                            
⠴ |        1806 | spectra_subsetting                                            
⠧ |        1808 | spectra_subsetting                                            
⠏ |        1810 | spectra_subsetting                                            
⠙ |        1812 | spectra_subsetting                                            
⠸ |        1814 | spectra_subsetting                                            
⠴ |        1816 | spectra_subsetting                                            
⠧ |        1818 | spectra_subsetting                                            
⠏ |        1820 | spectra_subsetting                                            
⠙ |        1822 | spectra_subsetting                                            
⠸ |        1824 | spectra_subsetting                                            
⠴ |        1826 | spectra_subsetting                                            
⠧ |        1828 | spectra_subsetting                                            
⠏ |        1830 | spectra_subsetting                                            
⠙ |        1832 | spectra_subsetting                                            
⠸ |        1834 | spectra_subsetting                                            
⠴ |        1836 | spectra_subsetting                                            
⠧ |        1838 | spectra_subsetting                                            
⠏ |        1840 | spectra_subsetting                                            
⠙ |        1842 | spectra_subsetting                                            
⠸ |        1844 | spectra_subsetting                                            
⠴ |        1846 | spectra_subsetting                                            
⠧ |        1848 | spectra_subsetting                                            
⠏ |        1850 | spectra_subsetting                                            
⠙ |        1852 | spectra_subsetting                                            
⠸ |        1854 | spectra_subsetting                                            
⠴ |        1856 | spectra_subsetting                                            
⠧ |        1858 | spectra_subsetting                                            
⠋ |        1861 | spectra_subsetting                                            
⠹ |        1863 | spectra_subsetting                                            
⠼ |        1865 | spectra_subsetting                                            
⠦ |        1867 | spectra_subsetting                                            
⠇ |        1869 | spectra_subsetting                                            
⠋ |        1871 | spectra_subsetting                                            
⠹ |        1873 | spectra_subsetting                                            
⠼ |        1875 | spectra_subsetting                                            
⠦ |        1877 | spectra_subsetting                                            
⠇ |        1879 | spectra_subsetting                                            
⠋ |        1881 | spectra_subsetting                                            
⠹ |        1883 | spectra_subsetting                                            
⠼ |        1885 | spectra_subsetting                                            
⠦ |        1887 | spectra_subsetting                                            
⠇ |        1889 | spectra_subsetting                                            
⠋ |        1891 | spectra_subsetting                                            
⠹ |        1893 | spectra_subsetting                                            
⠼ |        1895 | spectra_subsetting                                            
⠴ |        1896 | spectra_subsetting                                            
⠧ |        1898 | spectra_subsetting                                            
⠏ |        1900 | spectra_subsetting                                            
⠙ |        1902 | spectra_subsetting                                            
⠼ |        1905 | spectra_subsetting                                            
⠧ |        1908 | spectra_subsetting                                            
⠏ |        1910 | spectra_subsetting                                            
⠙ |        1912 | spectra_subsetting                                            
⠸ |        1914 | spectra_subsetting                                            
⠴ |        1916 | spectra_subsetting                                            
⠧ |        1918 | spectra_subsetting                                            
⠏ |        1920 | spectra_subsetting                                            
⠙ |        1922 | spectra_subsetting                                            
⠸ |        1924 | spectra_subsetting                                            
⠴ |        1926 | spectra_subsetting                                            
⠧ |        1928 | spectra_subsetting                                            
⠏ |        1930 | spectra_subsetting                                            
⠙ |        1932 | spectra_subsetting                                            
⠸ |        1934 | spectra_subsetting                                            
⠴ |        1936 | spectra_subsetting                                            
⠧ |        1938 | spectra_subsetting                                            
⠏ |        1940 | spectra_subsetting                                            
⠙ |        1942 | spectra_subsetting                                            
⠸ |        1944 | spectra_subsetting                                            
⠴ |        1946 | spectra_subsetting                                            
⠧ |        1948 | spectra_subsetting                                            
⠏ |        1950 | spectra_subsetting                                            
⠙ |        1952 | spectra_subsetting                                            
⠸ |        1954 | spectra_subsetting                                            
⠴ |        1956 | spectra_subsetting                                            
⠧ |        1958 | spectra_subsetting                                            
⠏ |        1960 | spectra_subsetting                                            
⠙ |        1962 | spectra_subsetting                                            
⠸ |        1964 | spectra_subsetting                                            
⠴ |        1966 | spectra_subsetting                                            
⠧ |        1968 | spectra_subsetting                                            
⠏ |        1970 | spectra_subsetting                                            
⠙ |        1972 | spectra_subsetting                                            
⠸ |        1974 | spectra_subsetting                                            
⠴ |        1976 | spectra_subsetting                                            
⠧ |        1978 | spectra_subsetting                                            
⠏ |        1980 | spectra_subsetting                                            
⠙ |        1982 | spectra_subsetting                                            
⠸ |        1984 | spectra_subsetting                                            
⠴ |        1986 | spectra_subsetting                                            
⠧ |        1988 | spectra_subsetting                                            
⠏ |        1990 | spectra_subsetting                                            
⠙ |        1992 | spectra_subsetting                                            
⠸ |        1994 | spectra_subsetting                                            
⠴ |        1996 | spectra_subsetting                                            
⠧ |        1998 | spectra_subsetting                                            
⠏ |        2000 | spectra_subsetting                                            
⠙ |        2002 | spectra_subsetting                                            
⠸ |        2004 | spectra_subsetting                                            
⠴ |        2006 | spectra_subsetting                                            
⠧ |        2008 | spectra_subsetting                                            
⠏ |        2010 | spectra_subsetting                                            
⠙ |        2012 | spectra_subsetting                                            
⠸ |        2014 | spectra_subsetting                                            
⠴ |        2016 | spectra_subsetting                                            
⠧ |        2018 | spectra_subsetting                                            
⠏ |        2020 | spectra_subsetting                                            
⠙ |        2022 | spectra_subsetting                                            
⠸ |        2024 | spectra_subsetting                                            
⠴ |        2026 | spectra_subsetting                                            
⠧ |        2028 | spectra_subsetting                                            
⠏ |        2030 | spectra_subsetting                                            
⠙ |        2032 | spectra_subsetting                                            
⠸ |        2034 | spectra_subsetting                                            
⠴ |        2036 | spectra_subsetting                                            
⠧ |        2038 | spectra_subsetting                                            
⠏ |        2040 | spectra_subsetting                                            
⠙ |        2042 | spectra_subsetting                                            
⠸ |        2044 | spectra_subsetting                                            
⠴ |        2046 | spectra_subsetting                                            
⠧ |        2048 | spectra_subsetting                                            
⠏ |        2050 | spectra_subsetting                                            
⠙ |        2052 | spectra_subsetting                                            
⠸ |        2054 | spectra_subsetting                                            
⠴ |        2056 | spectra_subsetting                                            
⠧ |        2058 | spectra_subsetting                                            
⠏ |        2060 | spectra_subsetting                                            
⠙ |        2062 | spectra_subsetting                                            
⠸ |        2064 | spectra_subsetting                                            
⠴ |        2066 | spectra_subsetting                                            
⠧ |        2068 | spectra_subsetting                                            
⠏ |        2070 | spectra_subsetting                                            
⠙ |        2072 | spectra_subsetting                                            
⠸ |        2074 | spectra_subsetting                                            
⠴ |        2076 | spectra_subsetting                                            
⠧ |        2078 | spectra_subsetting                                            
⠏ |        2080 | spectra_subsetting                                            
⠙ |        2082 | spectra_subsetting                                            
⠸ |        2084 | spectra_subsetting                                            
⠴ |        2086 | spectra_subsetting                                            
⠧ |        2088 | spectra_subsetting                                            
⠏ |        2090 | spectra_subsetting                                            
⠙ |        2092 | spectra_subsetting                                            
⠼ |        2095 | spectra_subsetting                                            
⠦ |        2097 | spectra_subsetting                                            
⠏ |        2100 | spectra_subsetting                                            
⠙ |        2102 | spectra_subsetting                                            
⠸ |        2104 | spectra_subsetting                                            
⠴ |        2106 | spectra_subsetting                                            
⠧ |        2108 | spectra_subsetting                                            
⠏ |        2110 | spectra_subsetting                                            
⠹ |        2113 | spectra_subsetting                                            
⠴ |        2116 | spectra_subsetting                                            
⠇ |        2119 | spectra_subsetting                                            
⠙ |        2122 | spectra_subsetting                                            
⠸ |        2124 | spectra_subsetting                                            
⠴ |        2126 | spectra_subsetting                                            
⠧ |        2128 | spectra_subsetting                                            
⠏ |        2130 | spectra_subsetting                                            
⠙ |        2132 | spectra_subsetting                                            
⠸ |        2134 | spectra_subsetting                                            
⠴ |        2136 | spectra_subsetting                                            
⠧ |        2138 | spectra_subsetting                                            
⠏ |        2140 | spectra_subsetting                                            
⠙ |        2142 | spectra_subsetting                                            
⠼ |        2145 | spectra_subsetting                                            
⠦ |        2147 | spectra_subsetting                                            
⠇ |        2149 | spectra_subsetting                                            
⠋ |        2151 | spectra_subsetting                                            
⠹ |        2153 | spectra_subsetting                                            
⠴ |        2156 | spectra_subsetting                                            
⠧ |        2158 | spectra_subsetting                                            
⠏ |        2160 | spectra_subsetting                                            
⠙ |        2162 | spectra_subsetting                                            
⠸ |        2164 | spectra_subsetting                                            
⠴ |        2166 | spectra_subsetting                                            
⠧ |        2168 | spectra_subsetting                                            
⠏ |        2170 | spectra_subsetting                                            
⠙ |        2172 | spectra_subsetting                                            
⠼ |        2175 | spectra_subsetting                                            
⠦ |        2177 | spectra_subsetting                                            
⠇ |        2179 | spectra_subsetting                                            
⠋ |        2181 | spectra_subsetting                                            
⠹ |        2183 | spectra_subsetting                                            
⠼ |        2185 | spectra_subsetting                                            
⠦ |        2187 | spectra_subsetting                                            
⠏ |        2190 | spectra_subsetting                                            
⠙ |        2192 | spectra_subsetting                                            
⠼ |        2195 | spectra_subsetting                                            
⠧ |        2198 | spectra_subsetting                                            
⠋ |        2201 | spectra_subsetting                                            
⠸ |        2204 | spectra_subsetting                                            
⠴ |        2206 | spectra_subsetting                                            
⠇ |        2209 | spectra_subsetting                                            
⠋ |        2211 | spectra_subsetting                                            
⠹ |        2213 | spectra_subsetting                                            
⠼ |        2215 | spectra_subsetting                                            
⠦ |        2217 | spectra_subsetting                                            
⠇ |        2219 | spectra_subsetting                                            
⠙ |        2222 | spectra_subsetting                                            
⠸ |        2224 | spectra_subsetting                                            
⠴ |        2226 | spectra_subsetting                                            
⠧ |        2228 | spectra_subsetting                                            
⠏ |        2230 | spectra_subsetting                                            
⠙ |        2232 | spectra_subsetting                                            
⠸ |        2234 | spectra_subsetting                                            
⠴ |        2236 | spectra_subsetting                                            
⠧ |        2238 | spectra_subsetting                                            
⠏ |        2240 | spectra_subsetting                                            
⠙ |        2242 | spectra_subsetting                                            
⠸ |        2244 | spectra_subsetting                                            
⠴ |        2246 | spectra_subsetting                                            
⠧ |        2248 | spectra_subsetting                                            
⠏ |        2250 | spectra_subsetting                                            
⠙ |        2252 | spectra_subsetting                                            
⠸ |        2254 | spectra_subsetting                                            
⠴ |        2256 | spectra_subsetting                                            
⠧ |        2258 | spectra_subsetting                                            
⠏ |        2260 | spectra_subsetting                                            
⠹ |        2263 | spectra_subsetting                                            
⠼ |        2265 | spectra_subsetting                                            
⠦ |        2267 | spectra_subsetting                                            
⠇ |        2269 | spectra_subsetting                                            
⠋ |        2271 | spectra_subsetting                                            
⠹ |        2273 | spectra_subsetting                                            
⠼ |        2275 | spectra_subsetting                                            
⠦ |        2277 | spectra_subsetting                                            
⠇ |        2279 | spectra_subsetting                                            
⠋ |        2281 | spectra_subsetting                                            
⠹ |        2283 | spectra_subsetting                                            
⠼ |        2285 | spectra_subsetting                                            
⠦ |        2287 | spectra_subsetting                                            
⠇ |        2289 | spectra_subsetting                                            
⠋ |        2291 | spectra_subsetting                                            
⠹ |        2293 | spectra_subsetting                                            
⠼ |        2295 | spectra_subsetting                                            
⠦ |        2297 | spectra_subsetting                                            
⠇ |        2299 | spectra_subsetting                                            
⠹ |        2303 | spectra_subsetting                                            
⠇ |        2309 | spectra_subsetting                                            
⠹ |        2313 | spectra_subsetting                                            
⠏ |        2320 | spectra_subsetting                                            
⠦ |        2327 | spectra_subsetting                                            
⠸ |        2334 | spectra_subsetting                                            
✔ |        2342 | spectra_subsetting [50.3s]

⠏ |          0 | spectra_variables                                              
⠙ |         12 | spectra_variables                                              
⠸ |         14 | spectra_variables                                              
⠴ |         16 | spectra_variables                                              
⠦ |         27 | spectra_variables                                              
⠇ |         29 | spectra_variables                                              
⠋ |         31 | spectra_variables                                              
⠹ |         43 | spectra_variables                                              
⠴ |      1  55 | spectra_variables                                              
✔ |      1  62 | spectra_variables [19.2s]

══ Results ═════════════════════════════════════════════════════════════════════
Duration: 74.0 s

── Skipped tests (1) ───────────────────────────────────────────────────────────
• empty test (1): 'test_spectra_variables.R:262:1'

[ FAIL 0 | WARN 0 | SKIP 1 | PASS 2408 ]
> 
> proc.time()
   user  system elapsed 
 95.282  12.992 111.574 

Example timings

MsBackendRawFileReader.Rcheck/MsBackendRawFileReader-Ex.timings

nameusersystemelapsed
MsBackendRawFileReader-class3.4911.0154.841
MsBackendRawFileReader 7.784 2.92111.300
hidden_aliases2.5530.9663.630
ioBenchmark28.30211.52513.192