| Back to Multiple platform build/check report for BioC 3.22: simplified long |
|
This page was generated on 2025-10-25 12:04 -0400 (Sat, 25 Oct 2025).
| Hostname | OS | Arch (*) | R version | Installed pkgs |
|---|---|---|---|---|
| nebbiolo2 | Linux (Ubuntu 24.04.3 LTS) | x86_64 | 4.5.1 Patched (2025-08-23 r88802) -- "Great Square Root" | 4901 |
| lconway | macOS 12.7.6 Monterey | x86_64 | 4.5.1 Patched (2025-09-10 r88807) -- "Great Square Root" | 4691 |
| kjohnson3 | macOS 13.7.7 Ventura | arm64 | 4.5.1 Patched (2025-09-10 r88807) -- "Great Square Root" | 4637 |
| taishan | Linux (openEuler 24.03 LTS) | aarch64 | 4.5.0 (2025-04-11) -- "How About a Twenty-Six" | 4658 |
| Click on any hostname to see more info about the system (e.g. compilers) (*) as reported by 'uname -p', except on Windows and Mac OS X | ||||
| Package 978/2361 | Hostname | OS / Arch | INSTALL | BUILD | CHECK | BUILD BIN | ||||||||
| HiCBricks 1.27.1 (landing page) Koustav Pal
| nebbiolo2 | Linux (Ubuntu 24.04.3 LTS) / x86_64 | OK | OK | OK | |||||||||
| lconway | macOS 12.7.6 Monterey / x86_64 | OK | OK | OK | OK | |||||||||
| kjohnson3 | macOS 13.7.7 Ventura / arm64 | OK | OK | OK | OK | |||||||||
| taishan | Linux (openEuler 24.03 LTS) / aarch64 | OK | NA | NA | ||||||||||
|
To the developers/maintainers of the HiCBricks package: - Allow up to 24 hours (and sometimes 48 hours) for your latest push to git@git.bioconductor.org:packages/HiCBricks.git to reflect on this report. See Troubleshooting Build Report for more information. - Use the following Renviron settings to reproduce errors and warnings. - If 'R CMD check' started to fail recently on the Linux builder(s) over a missing dependency, add the missing dependency to 'Suggests:' in your DESCRIPTION file. See Renviron.bioc for more information. |
| Package: HiCBricks |
| Version: 1.27.1 |
| Command: /Library/Frameworks/R.framework/Resources/bin/R CMD check --install=check:HiCBricks.install-out.txt --library=/Library/Frameworks/R.framework/Resources/library --no-vignettes --timings HiCBricks_1.27.1.tar.gz |
| StartedAt: 2025-10-24 21:46:57 -0400 (Fri, 24 Oct 2025) |
| EndedAt: 2025-10-24 21:49:59 -0400 (Fri, 24 Oct 2025) |
| EllapsedTime: 182.1 seconds |
| RetCode: 0 |
| Status: OK |
| CheckDir: HiCBricks.Rcheck |
| Warnings: 0 |
##############################################################################
##############################################################################
###
### Running command:
###
### /Library/Frameworks/R.framework/Resources/bin/R CMD check --install=check:HiCBricks.install-out.txt --library=/Library/Frameworks/R.framework/Resources/library --no-vignettes --timings HiCBricks_1.27.1.tar.gz
###
##############################################################################
##############################################################################
* using log directory ‘/Users/biocbuild/bbs-3.22-bioc/meat/HiCBricks.Rcheck’
* using R version 4.5.1 Patched (2025-09-10 r88807)
* using platform: x86_64-apple-darwin20
* R was compiled by
Apple clang version 14.0.0 (clang-1400.0.29.202)
GNU Fortran (GCC) 14.2.0
* running under: macOS Monterey 12.7.6
* using session charset: UTF-8
* using option ‘--no-vignettes’
* checking for file ‘HiCBricks/DESCRIPTION’ ... OK
* checking extension type ... Package
* this is package ‘HiCBricks’ version ‘1.27.1’
* package encoding: UTF-8
* checking package namespace information ... OK
* checking package dependencies ... OK
* checking if this is a source package ... OK
* checking if there is a namespace ... OK
* checking for hidden files and directories ... OK
* checking for portable file names ... OK
* checking for sufficient/correct file permissions ... OK
* checking whether package ‘HiCBricks’ can be installed ... OK
* checking installed package size ... OK
* checking package directory ... OK
* checking ‘build’ directory ... OK
* checking DESCRIPTION meta-information ... OK
* checking top-level files ... OK
* checking for left-over files ... OK
* checking index information ... OK
* checking package subdirectories ... OK
* checking code files for non-ASCII characters ... OK
* checking R files for syntax errors ... OK
* checking whether the package can be loaded ... OK
* checking whether the package can be loaded with stated dependencies ... OK
* checking whether the package can be unloaded cleanly ... OK
* checking whether the namespace can be loaded with stated dependencies ... OK
* checking whether the namespace can be unloaded cleanly ... OK
* checking dependencies in R code ... OK
* checking S3 generic/method consistency ... OK
* checking replacement functions ... OK
* checking foreign function calls ... OK
* checking R code for possible problems ... OK
* checking Rd files ... OK
* checking Rd metadata ... OK
* checking Rd cross-references ... OK
* checking for missing documentation entries ... OK
* checking for code/documentation mismatches ... OK
* checking Rd \usage sections ... OK
* checking Rd contents ... OK
* checking for unstated dependencies in examples ... OK
* checking files in ‘vignettes’ ... OK
* checking examples ... OK
* checking for unstated dependencies in vignettes ... OK
* checking package vignettes ... OK
* checking running R code from vignettes ... SKIPPED
* checking re-building of vignette outputs ... SKIPPED
* checking PDF version of manual ... OK
* DONE
Status: OK
HiCBricks.Rcheck/00install.out
############################################################################## ############################################################################## ### ### Running command: ### ### /Library/Frameworks/R.framework/Resources/bin/R CMD INSTALL HiCBricks ### ############################################################################## ############################################################################## * installing to library ‘/Library/Frameworks/R.framework/Versions/4.5-x86_64/Resources/library’ * installing *source* package ‘HiCBricks’ ... ** this is package ‘HiCBricks’ version ‘1.27.1’ ** using staged installation ** R ** inst ** byte-compile and prepare package for lazy loading ** help *** installing help indices ** building package indices ** installing vignettes ** testing if installed package can be loaded from temporary location ** testing if installed package can be loaded from final location ** testing if installed package keeps a record of temporary installation path * DONE (HiCBricks)
HiCBricks.Rcheck/HiCBricks-Ex.timings
| name | user | system | elapsed | |
| BrickContainer_change_experiment_name | 1.201 | 0.117 | 1.334 | |
| BrickContainer_change_output_directory | 1.011 | 0.089 | 1.102 | |
| BrickContainer_get_path_to_file | 0.850 | 0.074 | 0.933 | |
| BrickContainer_list_chromosomes | 0.881 | 0.079 | 0.969 | |
| BrickContainer_list_experiment_name | 0.847 | 0.077 | 0.929 | |
| BrickContainer_list_files | 0.877 | 0.080 | 0.967 | |
| BrickContainer_list_output_directory | 0.813 | 0.073 | 0.891 | |
| BrickContainer_list_resolutions | 0.830 | 0.078 | 0.924 | |
| BrickContainer_unlink_resolution | 1.815 | 0.163 | 1.990 | |
| Brick_add_ranges | 1.924 | 0.112 | 2.047 | |
| Brick_call_compartments | 1.426 | 0.252 | 1.697 | |
| Brick_export_to_sparse | 2.538 | 0.238 | 2.791 | |
| Brick_fetch_range_index | 0.982 | 0.075 | 1.066 | |
| Brick_fetch_row_vector | 1.536 | 0.291 | 1.841 | |
| Brick_get_bintable | 1.197 | 0.081 | 1.285 | |
| Brick_get_chrominfo | 0.816 | 0.078 | 0.902 | |
| Brick_get_entire_matrix | 1.216 | 0.270 | 1.500 | |
| Brick_get_matrix | 1.183 | 0.179 | 1.372 | |
| Brick_get_matrix_mcols | 1.168 | 0.245 | 1.431 | |
| Brick_get_matrix_within_coords | 1.724 | 0.237 | 2.006 | |
| Brick_get_ranges | 0.847 | 0.079 | 0.931 | |
| Brick_get_values_by_distance | 1.338 | 0.306 | 1.660 | |
| Brick_get_vector_values | 1.216 | 0.235 | 1.468 | |
| Brick_list_matrices | 0.806 | 0.079 | 0.893 | |
| Brick_list_matrix_mcols | 0.799 | 0.075 | 0.882 | |
| Brick_list_mcool_normalisations | 0 | 0 | 0 | |
| Brick_list_mcool_resolutions | 0.000 | 0.001 | 0.000 | |
| Brick_list_rangekeys | 0.767 | 0.076 | 0.851 | |
| Brick_list_ranges_mcols | 0.808 | 0.077 | 0.890 | |
| Brick_load_cis_matrix_till_distance | 1.038 | 0.203 | 1.258 | |
| Brick_load_data_from_mcool | 0 | 0 | 0 | |
| Brick_load_data_from_sparse | 0.001 | 0.000 | 0.000 | |
| Brick_load_matrix | 1.190 | 0.196 | 1.404 | |
| Brick_local_score_differentiator | 1.882 | 0.345 | 2.260 | |
| Brick_make_ranges | 0.012 | 0.000 | 0.013 | |
| Brick_matrix_dimensions | 1.198 | 0.223 | 1.442 | |
| Brick_matrix_exists | 1.180 | 0.258 | 1.459 | |
| Brick_matrix_filename | 1.184 | 0.300 | 1.500 | |
| Brick_matrix_isdone | 1.191 | 0.262 | 1.473 | |
| Brick_matrix_issparse | 1.192 | 0.240 | 1.450 | |
| Brick_matrix_maxdist | 1.154 | 0.256 | 1.421 | |
| Brick_matrix_minmax | 1.188 | 0.286 | 1.488 | |
| Brick_mcool_normalisation_exists | 0.000 | 0.001 | 0.001 | |
| Brick_rangekey_exists | 0.838 | 0.078 | 0.921 | |
| Brick_return_region_position | 0.961 | 0.087 | 1.058 | |
| Brick_vizart_plot_heatmap | 2.432 | 0.336 | 2.792 | |
| Create_many_Bricks | 0.896 | 0.089 | 1.058 | |
| Create_many_Bricks_from_mcool | 0 | 0 | 0 | |
| load_BrickContainer | 0.977 | 0.093 | 1.080 | |