| Back to Multiple platform build/check report for BioC 3.22: simplified long |
|
This page was generated on 2025-11-15 11:58 -0500 (Sat, 15 Nov 2025).
| Hostname | OS | Arch (*) | R version | Installed pkgs |
|---|---|---|---|---|
| nebbiolo2 | Linux (Ubuntu 24.04.3 LTS) | x86_64 | 4.5.1 Patched (2025-08-23 r88802) -- "Great Square Root" | 4903 |
| taishan | Linux (openEuler 24.03 LTS) | aarch64 | 4.5.0 (2025-04-11) -- "How About a Twenty-Six" | 4668 |
| Click on any hostname to see more info about the system (e.g. compilers) (*) as reported by 'uname -p', except on Windows and Mac OS X | ||||
| Package 978/2361 | Hostname | OS / Arch | INSTALL | BUILD | CHECK | BUILD BIN | ||||||||
| HiCBricks 1.28.0 (landing page) Koustav Pal
| nebbiolo2 | Linux (Ubuntu 24.04.3 LTS) / x86_64 | OK | OK | OK | |||||||||
| taishan | Linux (openEuler 24.03 LTS) / aarch64 | OK | OK | OK | ||||||||||
|
To the developers/maintainers of the HiCBricks package: - Allow up to 24 hours (and sometimes 48 hours) for your latest push to git@git.bioconductor.org:packages/HiCBricks.git to reflect on this report. See Troubleshooting Build Report for more information. - Use the following Renviron settings to reproduce errors and warnings. - If 'R CMD check' started to fail recently on the Linux builder(s) over a missing dependency, add the missing dependency to 'Suggests:' in your DESCRIPTION file. See Renviron.bioc for more information. |
| Package: HiCBricks |
| Version: 1.28.0 |
| Command: /home/biocbuild/bbs-3.22-bioc/R/bin/R CMD check --install=check:HiCBricks.install-out.txt --library=/home/biocbuild/bbs-3.22-bioc/R/site-library --timings HiCBricks_1.28.0.tar.gz |
| StartedAt: 2025-11-15 00:35:19 -0500 (Sat, 15 Nov 2025) |
| EndedAt: 2025-11-15 00:38:45 -0500 (Sat, 15 Nov 2025) |
| EllapsedTime: 206.2 seconds |
| RetCode: 0 |
| Status: OK |
| CheckDir: HiCBricks.Rcheck |
| Warnings: 0 |
##############################################################################
##############################################################################
###
### Running command:
###
### /home/biocbuild/bbs-3.22-bioc/R/bin/R CMD check --install=check:HiCBricks.install-out.txt --library=/home/biocbuild/bbs-3.22-bioc/R/site-library --timings HiCBricks_1.28.0.tar.gz
###
##############################################################################
##############################################################################
* using log directory ‘/home/biocbuild/bbs-3.22-bioc/meat/HiCBricks.Rcheck’
* using R version 4.5.1 Patched (2025-08-23 r88802)
* using platform: x86_64-pc-linux-gnu
* R was compiled by
gcc (Ubuntu 13.3.0-6ubuntu2~24.04) 13.3.0
GNU Fortran (Ubuntu 13.3.0-6ubuntu2~24.04) 13.3.0
* running under: Ubuntu 24.04.3 LTS
* using session charset: UTF-8
* checking for file ‘HiCBricks/DESCRIPTION’ ... OK
* checking extension type ... Package
* this is package ‘HiCBricks’ version ‘1.28.0’
* package encoding: UTF-8
* checking package namespace information ... OK
* checking package dependencies ... OK
* checking if this is a source package ... OK
* checking if there is a namespace ... OK
* checking for hidden files and directories ... OK
* checking for portable file names ... OK
* checking for sufficient/correct file permissions ... OK
* checking whether package ‘HiCBricks’ can be installed ... OK
* checking installed package size ... OK
* checking package directory ... OK
* checking ‘build’ directory ... OK
* checking DESCRIPTION meta-information ... OK
* checking top-level files ... OK
* checking for left-over files ... OK
* checking index information ... OK
* checking package subdirectories ... OK
* checking code files for non-ASCII characters ... OK
* checking R files for syntax errors ... OK
* checking whether the package can be loaded ... OK
* checking whether the package can be loaded with stated dependencies ... OK
* checking whether the package can be unloaded cleanly ... OK
* checking whether the namespace can be loaded with stated dependencies ... OK
* checking whether the namespace can be unloaded cleanly ... OK
* checking loading without being on the library search path ... OK
* checking dependencies in R code ... OK
* checking S3 generic/method consistency ... OK
* checking replacement functions ... OK
* checking foreign function calls ... OK
* checking R code for possible problems ... OK
* checking Rd files ... OK
* checking Rd metadata ... OK
* checking Rd cross-references ... OK
* checking for missing documentation entries ... OK
* checking for code/documentation mismatches ... OK
* checking Rd \usage sections ... OK
* checking Rd contents ... OK
* checking for unstated dependencies in examples ... OK
* checking files in ‘vignettes’ ... OK
* checking examples ... OK
* checking for unstated dependencies in vignettes ... OK
* checking package vignettes ... OK
* checking re-building of vignette outputs ... OK
* checking PDF version of manual ... OK
* DONE
Status: OK
HiCBricks.Rcheck/00install.out
############################################################################## ############################################################################## ### ### Running command: ### ### /home/biocbuild/bbs-3.22-bioc/R/bin/R CMD INSTALL HiCBricks ### ############################################################################## ############################################################################## * installing to library ‘/home/biocbuild/bbs-3.22-bioc/R/site-library’ * installing *source* package ‘HiCBricks’ ... ** this is package ‘HiCBricks’ version ‘1.28.0’ ** using staged installation ** R ** inst ** byte-compile and prepare package for lazy loading ** help *** installing help indices ** building package indices ** installing vignettes ** testing if installed package can be loaded from temporary location ** testing if installed package can be loaded from final location ** testing if installed package keeps a record of temporary installation path * DONE (HiCBricks)
HiCBricks.Rcheck/HiCBricks-Ex.timings
| name | user | system | elapsed | |
| BrickContainer_change_experiment_name | 1.232 | 0.028 | 1.266 | |
| BrickContainer_change_output_directory | 0.933 | 0.018 | 0.954 | |
| BrickContainer_get_path_to_file | 0.855 | 0.011 | 0.869 | |
| BrickContainer_list_chromosomes | 0.860 | 0.050 | 0.911 | |
| BrickContainer_list_experiment_name | 0.854 | 0.010 | 0.867 | |
| BrickContainer_list_files | 0.908 | 0.022 | 0.990 | |
| BrickContainer_list_output_directory | 0.786 | 0.017 | 0.805 | |
| BrickContainer_list_resolutions | 0.843 | 0.061 | 0.907 | |
| BrickContainer_unlink_resolution | 1.908 | 0.079 | 1.992 | |
| Brick_add_ranges | 2.087 | 0.065 | 2.155 | |
| Brick_call_compartments | 1.345 | 0.102 | 1.464 | |
| Brick_export_to_sparse | 2.240 | 0.098 | 2.341 | |
| Brick_fetch_range_index | 1.222 | 0.052 | 1.277 | |
| Brick_fetch_row_vector | 1.381 | 0.075 | 1.485 | |
| Brick_get_bintable | 0.940 | 0.011 | 1.039 | |
| Brick_get_chrominfo | 0.739 | 0.014 | 0.755 | |
| Brick_get_entire_matrix | 1.077 | 0.020 | 1.101 | |
| Brick_get_matrix | 1.113 | 0.057 | 1.173 | |
| Brick_get_matrix_mcols | 1.033 | 0.044 | 1.081 | |
| Brick_get_matrix_within_coords | 1.522 | 0.078 | 1.664 | |
| Brick_get_ranges | 0.779 | 0.012 | 0.792 | |
| Brick_get_values_by_distance | 1.161 | 0.077 | 1.240 | |
| Brick_get_vector_values | 1.027 | 0.029 | 1.059 | |
| Brick_list_matrices | 0.759 | 0.031 | 0.791 | |
| Brick_list_matrix_mcols | 0.756 | 0.029 | 0.787 | |
| Brick_list_mcool_normalisations | 0 | 0 | 0 | |
| Brick_list_mcool_resolutions | 0.000 | 0.000 | 0.001 | |
| Brick_list_rangekeys | 0.734 | 0.017 | 0.753 | |
| Brick_list_ranges_mcols | 0.906 | 0.013 | 0.973 | |
| Brick_load_cis_matrix_till_distance | 0.928 | 0.031 | 0.962 | |
| Brick_load_data_from_mcool | 0 | 0 | 0 | |
| Brick_load_data_from_sparse | 0 | 0 | 0 | |
| Brick_load_matrix | 1.012 | 0.024 | 1.042 | |
| Brick_local_score_differentiator | 1.566 | 0.042 | 1.615 | |
| Brick_make_ranges | 0.009 | 0.000 | 0.009 | |
| Brick_matrix_dimensions | 1.144 | 0.093 | 1.239 | |
| Brick_matrix_exists | 0.966 | 0.050 | 1.019 | |
| Brick_matrix_filename | 0.991 | 0.048 | 1.042 | |
| Brick_matrix_isdone | 1.033 | 0.058 | 1.094 | |
| Brick_matrix_issparse | 0.998 | 0.022 | 1.023 | |
| Brick_matrix_maxdist | 1.083 | 0.053 | 1.217 | |
| Brick_matrix_minmax | 1.051 | 0.059 | 1.112 | |
| Brick_mcool_normalisation_exists | 0 | 0 | 0 | |
| Brick_rangekey_exists | 0.743 | 0.037 | 0.784 | |
| Brick_return_region_position | 0.803 | 0.015 | 0.821 | |
| Brick_vizart_plot_heatmap | 2.055 | 0.080 | 2.191 | |
| Create_many_Bricks | 0.745 | 0.019 | 0.766 | |
| Create_many_Bricks_from_mcool | 0 | 0 | 0 | |
| load_BrickContainer | 0.787 | 0.059 | 0.848 | |