| Back to Multiple platform build/check report for BioC 3.22: simplified long |
|
This page was generated on 2025-10-25 12:06 -0400 (Sat, 25 Oct 2025).
| Hostname | OS | Arch (*) | R version | Installed pkgs |
|---|---|---|---|---|
| nebbiolo2 | Linux (Ubuntu 24.04.3 LTS) | x86_64 | 4.5.1 Patched (2025-08-23 r88802) -- "Great Square Root" | 4901 |
| lconway | macOS 12.7.6 Monterey | x86_64 | 4.5.1 Patched (2025-09-10 r88807) -- "Great Square Root" | 4691 |
| kjohnson3 | macOS 13.7.7 Ventura | arm64 | 4.5.1 Patched (2025-09-10 r88807) -- "Great Square Root" | 4637 |
| taishan | Linux (openEuler 24.03 LTS) | aarch64 | 4.5.0 (2025-04-11) -- "How About a Twenty-Six" | 4658 |
| Click on any hostname to see more info about the system (e.g. compilers) (*) as reported by 'uname -p', except on Windows and Mac OS X | ||||
| Package 978/2361 | Hostname | OS / Arch | INSTALL | BUILD | CHECK | BUILD BIN | ||||||||
| HiCBricks 1.27.1 (landing page) Koustav Pal
| nebbiolo2 | Linux (Ubuntu 24.04.3 LTS) / x86_64 | OK | OK | OK | |||||||||
| lconway | macOS 12.7.6 Monterey / x86_64 | OK | OK | OK | OK | |||||||||
| kjohnson3 | macOS 13.7.7 Ventura / arm64 | OK | OK | OK | OK | |||||||||
| taishan | Linux (openEuler 24.03 LTS) / aarch64 | OK | NA | NA | ||||||||||
|
To the developers/maintainers of the HiCBricks package: - Allow up to 24 hours (and sometimes 48 hours) for your latest push to git@git.bioconductor.org:packages/HiCBricks.git to reflect on this report. See Troubleshooting Build Report for more information. - Use the following Renviron settings to reproduce errors and warnings. - If 'R CMD check' started to fail recently on the Linux builder(s) over a missing dependency, add the missing dependency to 'Suggests:' in your DESCRIPTION file. See Renviron.bioc for more information. |
| Package: HiCBricks |
| Version: 1.27.1 |
| Command: /Library/Frameworks/R.framework/Resources/bin/R CMD check --install=check:HiCBricks.install-out.txt --library=/Library/Frameworks/R.framework/Resources/library --no-vignettes --timings HiCBricks_1.27.1.tar.gz |
| StartedAt: 2025-10-24 20:10:57 -0400 (Fri, 24 Oct 2025) |
| EndedAt: 2025-10-24 20:11:59 -0400 (Fri, 24 Oct 2025) |
| EllapsedTime: 61.7 seconds |
| RetCode: 0 |
| Status: OK |
| CheckDir: HiCBricks.Rcheck |
| Warnings: 0 |
##############################################################################
##############################################################################
###
### Running command:
###
### /Library/Frameworks/R.framework/Resources/bin/R CMD check --install=check:HiCBricks.install-out.txt --library=/Library/Frameworks/R.framework/Resources/library --no-vignettes --timings HiCBricks_1.27.1.tar.gz
###
##############################################################################
##############################################################################
* using log directory ‘/Users/biocbuild/bbs-3.22-bioc/meat/HiCBricks.Rcheck’
* using R version 4.5.1 Patched (2025-09-10 r88807)
* using platform: aarch64-apple-darwin20
* R was compiled by
Apple clang version 16.0.0 (clang-1600.0.26.6)
GNU Fortran (GCC) 14.2.0
* running under: macOS Ventura 13.7.7
* using session charset: UTF-8
* using option ‘--no-vignettes’
* checking for file ‘HiCBricks/DESCRIPTION’ ... OK
* checking extension type ... Package
* this is package ‘HiCBricks’ version ‘1.27.1’
* package encoding: UTF-8
* checking package namespace information ... OK
* checking package dependencies ... OK
* checking if this is a source package ... OK
* checking if there is a namespace ... OK
* checking for hidden files and directories ... OK
* checking for portable file names ... OK
* checking for sufficient/correct file permissions ... OK
* checking whether package ‘HiCBricks’ can be installed ... OK
* checking installed package size ... OK
* checking package directory ... OK
* checking ‘build’ directory ... OK
* checking DESCRIPTION meta-information ... OK
* checking top-level files ... OK
* checking for left-over files ... OK
* checking index information ... OK
* checking package subdirectories ... OK
* checking code files for non-ASCII characters ... OK
* checking R files for syntax errors ... OK
* checking whether the package can be loaded ... OK
* checking whether the package can be loaded with stated dependencies ... OK
* checking whether the package can be unloaded cleanly ... OK
* checking whether the namespace can be loaded with stated dependencies ... OK
* checking whether the namespace can be unloaded cleanly ... OK
* checking dependencies in R code ... OK
* checking S3 generic/method consistency ... OK
* checking replacement functions ... OK
* checking foreign function calls ... OK
* checking R code for possible problems ... OK
* checking Rd files ... OK
* checking Rd metadata ... OK
* checking Rd cross-references ... OK
* checking for missing documentation entries ... OK
* checking for code/documentation mismatches ... OK
* checking Rd \usage sections ... OK
* checking Rd contents ... OK
* checking for unstated dependencies in examples ... OK
* checking files in ‘vignettes’ ... OK
* checking examples ... OK
* checking for unstated dependencies in vignettes ... OK
* checking package vignettes ... OK
* checking running R code from vignettes ... SKIPPED
* checking re-building of vignette outputs ... SKIPPED
* checking PDF version of manual ... OK
* DONE
Status: OK
HiCBricks.Rcheck/00install.out
############################################################################## ############################################################################## ### ### Running command: ### ### /Library/Frameworks/R.framework/Resources/bin/R CMD INSTALL HiCBricks ### ############################################################################## ############################################################################## * installing to library ‘/Library/Frameworks/R.framework/Versions/4.5-arm64/Resources/library’ * installing *source* package ‘HiCBricks’ ... ** this is package ‘HiCBricks’ version ‘1.27.1’ ** using staged installation ** R ** inst ** byte-compile and prepare package for lazy loading ** help *** installing help indices ** building package indices ** installing vignettes ** testing if installed package can be loaded from temporary location ** testing if installed package can be loaded from final location ** testing if installed package keeps a record of temporary installation path * DONE (HiCBricks)
HiCBricks.Rcheck/HiCBricks-Ex.timings
| name | user | system | elapsed | |
| BrickContainer_change_experiment_name | 0.343 | 0.047 | 0.714 | |
| BrickContainer_change_output_directory | 0.280 | 0.035 | 0.629 | |
| BrickContainer_get_path_to_file | 0.220 | 0.030 | 0.515 | |
| BrickContainer_list_chromosomes | 0.215 | 0.032 | 0.389 | |
| BrickContainer_list_experiment_name | 0.218 | 0.036 | 0.412 | |
| BrickContainer_list_files | 0.222 | 0.034 | 0.402 | |
| BrickContainer_list_output_directory | 0.216 | 0.037 | 0.350 | |
| BrickContainer_list_resolutions | 0.214 | 0.032 | 0.353 | |
| BrickContainer_unlink_resolution | 0.467 | 0.067 | 0.791 | |
| Brick_add_ranges | 0.563 | 0.048 | 0.670 | |
| Brick_call_compartments | 0.404 | 0.055 | 0.468 | |
| Brick_export_to_sparse | 0.694 | 0.076 | 0.970 | |
| Brick_fetch_range_index | 0.268 | 0.032 | 0.404 | |
| Brick_fetch_row_vector | 0.491 | 0.085 | 0.851 | |
| Brick_get_bintable | 0.414 | 0.038 | 0.689 | |
| Brick_get_chrominfo | 0.236 | 0.040 | 0.459 | |
| Brick_get_entire_matrix | 0.391 | 0.069 | 0.720 | |
| Brick_get_matrix | 0.331 | 0.049 | 0.389 | |
| Brick_get_matrix_mcols | 0.333 | 0.096 | 0.451 | |
| Brick_get_matrix_within_coords | 0.463 | 0.055 | 0.520 | |
| Brick_get_ranges | 0.218 | 0.034 | 0.256 | |
| Brick_get_values_by_distance | 0.368 | 0.077 | 0.446 | |
| Brick_get_vector_values | 0.347 | 0.060 | 0.433 | |
| Brick_list_matrices | 0.203 | 0.027 | 0.289 | |
| Brick_list_matrix_mcols | 0.206 | 0.029 | 0.236 | |
| Brick_list_mcool_normalisations | 0.000 | 0.001 | 0.000 | |
| Brick_list_mcool_resolutions | 0 | 0 | 0 | |
| Brick_list_rangekeys | 0.204 | 0.031 | 0.240 | |
| Brick_list_ranges_mcols | 0.213 | 0.032 | 0.253 | |
| Brick_load_cis_matrix_till_distance | 0.291 | 0.051 | 0.353 | |
| Brick_load_data_from_mcool | 0 | 0 | 0 | |
| Brick_load_data_from_sparse | 0 | 0 | 0 | |
| Brick_load_matrix | 0.336 | 0.064 | 0.400 | |
| Brick_local_score_differentiator | 0.521 | 0.100 | 0.623 | |
| Brick_make_ranges | 0.002 | 0.000 | 0.002 | |
| Brick_matrix_dimensions | 0.325 | 0.055 | 0.381 | |
| Brick_matrix_exists | 0.329 | 0.050 | 0.380 | |
| Brick_matrix_filename | 0.327 | 0.047 | 0.416 | |
| Brick_matrix_isdone | 0.317 | 0.047 | 0.417 | |
| Brick_matrix_issparse | 0.320 | 0.057 | 0.379 | |
| Brick_matrix_maxdist | 0.325 | 0.054 | 0.384 | |
| Brick_matrix_minmax | 0.324 | 0.052 | 0.380 | |
| Brick_mcool_normalisation_exists | 0 | 0 | 0 | |
| Brick_rangekey_exists | 0.204 | 0.035 | 0.251 | |
| Brick_return_region_position | 0.228 | 0.032 | 0.264 | |
| Brick_vizart_plot_heatmap | 0.675 | 0.080 | 0.788 | |
| Create_many_Bricks | 0.214 | 0.030 | 0.312 | |
| Create_many_Bricks_from_mcool | 0.000 | 0.000 | 0.001 | |
| load_BrickContainer | 0.223 | 0.028 | 0.250 | |