| Back to Multiple platform build/check report for BioC 3.22: simplified long |
|
This page was generated on 2025-10-25 12:04 -0400 (Sat, 25 Oct 2025).
| Hostname | OS | Arch (*) | R version | Installed pkgs |
|---|---|---|---|---|
| nebbiolo2 | Linux (Ubuntu 24.04.3 LTS) | x86_64 | 4.5.1 Patched (2025-08-23 r88802) -- "Great Square Root" | 4901 |
| lconway | macOS 12.7.6 Monterey | x86_64 | 4.5.1 Patched (2025-09-10 r88807) -- "Great Square Root" | 4691 |
| kjohnson3 | macOS 13.7.7 Ventura | arm64 | 4.5.1 Patched (2025-09-10 r88807) -- "Great Square Root" | 4637 |
| taishan | Linux (openEuler 24.03 LTS) | aarch64 | 4.5.0 (2025-04-11) -- "How About a Twenty-Six" | 4658 |
| Click on any hostname to see more info about the system (e.g. compilers) (*) as reported by 'uname -p', except on Windows and Mac OS X | ||||
| Package 831/2361 | Hostname | OS / Arch | INSTALL | BUILD | CHECK | BUILD BIN | ||||||||
| GeneStructureTools 1.29.0 (landing page) Beth Signal
| nebbiolo2 | Linux (Ubuntu 24.04.3 LTS) / x86_64 | OK | OK | OK | |||||||||
| lconway | macOS 12.7.6 Monterey / x86_64 | OK | OK | OK | OK | |||||||||
| kjohnson3 | macOS 13.7.7 Ventura / arm64 | OK | OK | OK | OK | |||||||||
| taishan | Linux (openEuler 24.03 LTS) / aarch64 | ERROR | NA | NA | ||||||||||
|
To the developers/maintainers of the GeneStructureTools package: - Allow up to 24 hours (and sometimes 48 hours) for your latest push to git@git.bioconductor.org:packages/GeneStructureTools.git to reflect on this report. See Troubleshooting Build Report for more information. - Use the following Renviron settings to reproduce errors and warnings. - If 'R CMD check' started to fail recently on the Linux builder(s) over a missing dependency, add the missing dependency to 'Suggests:' in your DESCRIPTION file. See Renviron.bioc for more information. |
| Package: GeneStructureTools |
| Version: 1.29.0 |
| Command: /Library/Frameworks/R.framework/Resources/bin/R CMD check --install=check:GeneStructureTools.install-out.txt --library=/Library/Frameworks/R.framework/Resources/library --no-vignettes --timings GeneStructureTools_1.29.0.tar.gz |
| StartedAt: 2025-10-24 21:25:18 -0400 (Fri, 24 Oct 2025) |
| EndedAt: 2025-10-24 21:32:55 -0400 (Fri, 24 Oct 2025) |
| EllapsedTime: 456.8 seconds |
| RetCode: 0 |
| Status: OK |
| CheckDir: GeneStructureTools.Rcheck |
| Warnings: 0 |
##############################################################################
##############################################################################
###
### Running command:
###
### /Library/Frameworks/R.framework/Resources/bin/R CMD check --install=check:GeneStructureTools.install-out.txt --library=/Library/Frameworks/R.framework/Resources/library --no-vignettes --timings GeneStructureTools_1.29.0.tar.gz
###
##############################################################################
##############################################################################
* using log directory ‘/Users/biocbuild/bbs-3.22-bioc/meat/GeneStructureTools.Rcheck’
* using R version 4.5.1 Patched (2025-09-10 r88807)
* using platform: x86_64-apple-darwin20
* R was compiled by
Apple clang version 14.0.0 (clang-1400.0.29.202)
GNU Fortran (GCC) 14.2.0
* running under: macOS Monterey 12.7.6
* using session charset: UTF-8
* using option ‘--no-vignettes’
* checking for file ‘GeneStructureTools/DESCRIPTION’ ... OK
* checking extension type ... Package
* this is package ‘GeneStructureTools’ version ‘1.29.0’
* package encoding: UTF-8
* checking package namespace information ... OK
* checking package dependencies ... OK
* checking if this is a source package ... OK
* checking if there is a namespace ... OK
* checking for hidden files and directories ... OK
* checking for portable file names ... OK
* checking for sufficient/correct file permissions ... OK
* checking whether package ‘GeneStructureTools’ can be installed ... OK
* checking installed package size ... OK
* checking package directory ... OK
* checking ‘build’ directory ... OK
* checking DESCRIPTION meta-information ... OK
* checking top-level files ... OK
* checking for left-over files ... OK
* checking index information ... OK
* checking package subdirectories ... OK
* checking code files for non-ASCII characters ... OK
* checking R files for syntax errors ... OK
* checking whether the package can be loaded ... OK
* checking whether the package can be loaded with stated dependencies ... OK
* checking whether the package can be unloaded cleanly ... OK
* checking whether the namespace can be loaded with stated dependencies ... OK
* checking whether the namespace can be unloaded cleanly ... OK
* checking dependencies in R code ... OK
* checking S3 generic/method consistency ... OK
* checking replacement functions ... OK
* checking foreign function calls ... OK
* checking R code for possible problems ... OK
* checking Rd files ... OK
* checking Rd metadata ... OK
* checking Rd cross-references ... OK
* checking for missing documentation entries ... OK
* checking for code/documentation mismatches ... OK
* checking Rd \usage sections ... OK
* checking Rd contents ... OK
* checking for unstated dependencies in examples ... OK
* checking files in ‘vignettes’ ... OK
* checking examples ... OK
Examples with CPU (user + system) or elapsed time > 5s
user system elapsed
leafcutterTranscriptChangeSummary 25.935 1.206 27.330
whippetTranscriptChangeSummary 14.351 0.271 14.844
alternativeIntronUsage 4.970 0.032 5.023
* checking for unstated dependencies in vignettes ... OK
* checking package vignettes ... OK
* checking running R code from vignettes ... SKIPPED
* checking re-building of vignette outputs ... SKIPPED
* checking PDF version of manual ... OK
* DONE
Status: OK
GeneStructureTools.Rcheck/00install.out
############################################################################## ############################################################################## ### ### Running command: ### ### /Library/Frameworks/R.framework/Resources/bin/R CMD INSTALL GeneStructureTools ### ############################################################################## ############################################################################## * installing to library ‘/Library/Frameworks/R.framework/Versions/4.5-x86_64/Resources/library’ * installing *source* package ‘GeneStructureTools’ ... ** this is package ‘GeneStructureTools’ version ‘1.29.0’ ** using staged installation ** R ** inst ** byte-compile and prepare package for lazy loading ** help *** installing help indices ** building package indices ** installing vignettes ** testing if installed package can be loaded from temporary location ** testing if installed package can be loaded from final location ** testing if installed package keeps a record of temporary installation path * DONE (GeneStructureTools)
GeneStructureTools.Rcheck/GeneStructureTools-Ex.timings
| name | user | system | elapsed | |
| DEXSeqIdsToGeneIds | 0.003 | 0.001 | 0.005 | |
| UTR2UTR53 | 2.684 | 0.100 | 2.798 | |
| addBroadTypes | 0.190 | 0.005 | 0.196 | |
| addIntronInTranscript | 2.086 | 0.097 | 2.298 | |
| alternativeIntronUsage | 4.970 | 0.032 | 5.023 | |
| annotateGeneModel | 0.945 | 0.015 | 0.966 | |
| attrChangeAltSpliced | 2.532 | 0.105 | 2.772 | |
| coordinates-methods | 0.078 | 0.077 | 0.260 | |
| diffSplicingResults-methods | 0.078 | 0.081 | 0.268 | |
| exonsToTranscripts | 0.268 | 0.012 | 0.284 | |
| filterGtfOverlap | 0.287 | 0.010 | 0.300 | |
| filterWhippetEvents | 0.083 | 0.068 | 0.262 | |
| findDEXexonType | 2.660 | 0.021 | 2.696 | |
| findExonContainingTranscripts | 0.471 | 0.080 | 0.655 | |
| findIntronContainingTranscripts | 0.699 | 0.080 | 0.895 | |
| findJunctionPairs | 1.423 | 0.083 | 1.617 | |
| formatWhippetEvents | 0.018 | 0.011 | 0.041 | |
| getOrfs | 0.760 | 0.014 | 0.777 | |
| getUOrfs | 0.541 | 0.011 | 0.555 | |
| junctions-methods | 0.068 | 0.073 | 0.249 | |
| leafcutterTranscriptChangeSummary | 25.935 | 1.206 | 27.330 | |
| makeGeneModel | 0.203 | 0.006 | 0.211 | |
| maxLocation | 0.003 | 0.000 | 0.004 | |
| orfDiff | 1.880 | 0.120 | 2.175 | |
| orfSimilarity | 0.000 | 0.000 | 0.001 | |
| overlapTypes | 2.719 | 0.022 | 2.757 | |
| readCounts-methods | 0.076 | 0.079 | 0.301 | |
| readWhippetDIFFfiles | 0.007 | 0.009 | 0.027 | |
| readWhippetDataSet | 0.077 | 0.080 | 0.280 | |
| readWhippetJNCfiles | 0.038 | 0.034 | 0.156 | |
| readWhippetPSIfiles | 0.021 | 0.030 | 0.102 | |
| removeDuplicateTranscripts | 0.289 | 0.008 | 0.300 | |
| removeSameExon | 0.265 | 0.007 | 0.276 | |
| removeVersion | 0.001 | 0.000 | 0.001 | |
| reorderExonNumbers | 0.213 | 0.006 | 0.231 | |
| replaceJunction | 4.473 | 0.114 | 4.764 | |
| skipExonInTranscript | 1.542 | 0.093 | 1.756 | |
| summariseExonTypes | 2.674 | 0.023 | 2.717 | |
| transcriptChangeSummary | 1.699 | 0.108 | 1.941 | |
| whippetTranscriptChangeSummary | 14.351 | 0.271 | 14.844 | |