| Back to Multiple platform build/check report for BioC 3.22: simplified long |
|
This page was generated on 2025-10-24 12:03 -0400 (Fri, 24 Oct 2025).
| Hostname | OS | Arch (*) | R version | Installed pkgs |
|---|---|---|---|---|
| nebbiolo2 | Linux (Ubuntu 24.04.3 LTS) | x86_64 | 4.5.1 Patched (2025-08-23 r88802) -- "Great Square Root" | 4898 |
| lconway | macOS 12.7.6 Monterey | x86_64 | 4.5.1 Patched (2025-09-10 r88807) -- "Great Square Root" | 4688 |
| kjohnson3 | macOS 13.7.7 Ventura | arm64 | 4.5.1 Patched (2025-09-10 r88807) -- "Great Square Root" | 4634 |
| taishan | Linux (openEuler 24.03 LTS) | aarch64 | 4.5.0 (2025-04-11) -- "How About a Twenty-Six" | 4658 |
| Click on any hostname to see more info about the system (e.g. compilers) (*) as reported by 'uname -p', except on Windows and Mac OS X | ||||
| Package 830/2359 | Hostname | OS / Arch | INSTALL | BUILD | CHECK | BUILD BIN | ||||||||
| GeneStructureTools 1.29.0 (landing page) Beth Signal
| nebbiolo2 | Linux (Ubuntu 24.04.3 LTS) / x86_64 | OK | OK | OK | |||||||||
| lconway | macOS 12.7.6 Monterey / x86_64 | OK | OK | OK | OK | |||||||||
| kjohnson3 | macOS 13.7.7 Ventura / arm64 | OK | OK | OK | OK | |||||||||
| taishan | Linux (openEuler 24.03 LTS) / aarch64 | ERROR | ERROR | skipped | ||||||||||
|
To the developers/maintainers of the GeneStructureTools package: - Allow up to 24 hours (and sometimes 48 hours) for your latest push to git@git.bioconductor.org:packages/GeneStructureTools.git to reflect on this report. See Troubleshooting Build Report for more information. - Use the following Renviron settings to reproduce errors and warnings. - If 'R CMD check' started to fail recently on the Linux builder(s) over a missing dependency, add the missing dependency to 'Suggests:' in your DESCRIPTION file. See Renviron.bioc for more information. |
| Package: GeneStructureTools |
| Version: 1.29.0 |
| Command: /home/biocbuild/bbs-3.22-bioc/R/bin/R CMD check --install=check:GeneStructureTools.install-out.txt --library=/home/biocbuild/bbs-3.22-bioc/R/site-library --timings GeneStructureTools_1.29.0.tar.gz |
| StartedAt: 2025-10-23 23:51:05 -0400 (Thu, 23 Oct 2025) |
| EndedAt: 2025-10-23 23:59:03 -0400 (Thu, 23 Oct 2025) |
| EllapsedTime: 478.4 seconds |
| RetCode: 0 |
| Status: OK |
| CheckDir: GeneStructureTools.Rcheck |
| Warnings: 0 |
##############################################################################
##############################################################################
###
### Running command:
###
### /home/biocbuild/bbs-3.22-bioc/R/bin/R CMD check --install=check:GeneStructureTools.install-out.txt --library=/home/biocbuild/bbs-3.22-bioc/R/site-library --timings GeneStructureTools_1.29.0.tar.gz
###
##############################################################################
##############################################################################
* using log directory ‘/home/biocbuild/bbs-3.22-bioc/meat/GeneStructureTools.Rcheck’
* using R version 4.5.1 Patched (2025-08-23 r88802)
* using platform: x86_64-pc-linux-gnu
* R was compiled by
gcc (Ubuntu 13.3.0-6ubuntu2~24.04) 13.3.0
GNU Fortran (Ubuntu 13.3.0-6ubuntu2~24.04) 13.3.0
* running under: Ubuntu 24.04.3 LTS
* using session charset: UTF-8
* checking for file ‘GeneStructureTools/DESCRIPTION’ ... OK
* checking extension type ... Package
* this is package ‘GeneStructureTools’ version ‘1.29.0’
* package encoding: UTF-8
* checking package namespace information ... OK
* checking package dependencies ... OK
* checking if this is a source package ... OK
* checking if there is a namespace ... OK
* checking for hidden files and directories ... OK
* checking for portable file names ... OK
* checking for sufficient/correct file permissions ... OK
* checking whether package ‘GeneStructureTools’ can be installed ... OK
* checking installed package size ... OK
* checking package directory ... OK
* checking ‘build’ directory ... OK
* checking DESCRIPTION meta-information ... OK
* checking top-level files ... OK
* checking for left-over files ... OK
* checking index information ... OK
* checking package subdirectories ... OK
* checking code files for non-ASCII characters ... OK
* checking R files for syntax errors ... OK
* checking whether the package can be loaded ... OK
* checking whether the package can be loaded with stated dependencies ... OK
* checking whether the package can be unloaded cleanly ... OK
* checking whether the namespace can be loaded with stated dependencies ... OK
* checking whether the namespace can be unloaded cleanly ... OK
* checking loading without being on the library search path ... OK
* checking dependencies in R code ... OK
* checking S3 generic/method consistency ... OK
* checking replacement functions ... OK
* checking foreign function calls ... OK
* checking R code for possible problems ... OK
* checking Rd files ... OK
* checking Rd metadata ... OK
* checking Rd cross-references ... OK
* checking for missing documentation entries ... OK
* checking for code/documentation mismatches ... OK
* checking Rd \usage sections ... OK
* checking Rd contents ... OK
* checking for unstated dependencies in examples ... OK
* checking files in ‘vignettes’ ... OK
* checking examples ... OK
Examples with CPU (user + system) or elapsed time > 5s
user system elapsed
leafcutterTranscriptChangeSummary 20.316 0.091 20.408
whippetTranscriptChangeSummary 11.146 0.088 11.235
alternativeIntronUsage 4.820 0.192 5.012
* checking for unstated dependencies in vignettes ... OK
* checking package vignettes ... OK
* checking re-building of vignette outputs ... OK
* checking PDF version of manual ... OK
* DONE
Status: OK
GeneStructureTools.Rcheck/00install.out
############################################################################## ############################################################################## ### ### Running command: ### ### /home/biocbuild/bbs-3.22-bioc/R/bin/R CMD INSTALL GeneStructureTools ### ############################################################################## ############################################################################## * installing to library ‘/home/biocbuild/bbs-3.22-bioc/R/site-library’ * installing *source* package ‘GeneStructureTools’ ... ** this is package ‘GeneStructureTools’ version ‘1.29.0’ ** using staged installation ** R ** inst ** byte-compile and prepare package for lazy loading ** help *** installing help indices ** building package indices ** installing vignettes ** testing if installed package can be loaded from temporary location ** testing if installed package can be loaded from final location ** testing if installed package keeps a record of temporary installation path * DONE (GeneStructureTools)
GeneStructureTools.Rcheck/GeneStructureTools-Ex.timings
| name | user | system | elapsed | |
| DEXSeqIdsToGeneIds | 0.003 | 0.000 | 0.002 | |
| UTR2UTR53 | 2.057 | 0.076 | 2.133 | |
| addBroadTypes | 0.155 | 0.003 | 0.157 | |
| addIntronInTranscript | 1.703 | 0.052 | 1.756 | |
| alternativeIntronUsage | 4.820 | 0.192 | 5.012 | |
| annotateGeneModel | 0.749 | 0.071 | 0.820 | |
| attrChangeAltSpliced | 1.071 | 0.046 | 1.117 | |
| coordinates-methods | 0.048 | 0.019 | 0.066 | |
| diffSplicingResults-methods | 0.040 | 0.024 | 0.064 | |
| exonsToTranscripts | 0.236 | 0.005 | 0.241 | |
| filterGtfOverlap | 0.239 | 0.011 | 0.249 | |
| filterWhippetEvents | 0.051 | 0.019 | 0.069 | |
| findDEXexonType | 2.273 | 0.052 | 2.326 | |
| findExonContainingTranscripts | 0.376 | 0.050 | 0.425 | |
| findIntronContainingTranscripts | 0.592 | 0.028 | 0.621 | |
| findJunctionPairs | 1.212 | 0.026 | 1.238 | |
| formatWhippetEvents | 0.013 | 0.003 | 0.016 | |
| getOrfs | 0.652 | 0.025 | 0.678 | |
| getUOrfs | 0.491 | 0.003 | 0.495 | |
| junctions-methods | 0.046 | 0.027 | 0.074 | |
| leafcutterTranscriptChangeSummary | 20.316 | 0.091 | 20.408 | |
| makeGeneModel | 0.134 | 0.005 | 0.140 | |
| maxLocation | 0.002 | 0.000 | 0.003 | |
| orfDiff | 1.394 | 0.047 | 1.440 | |
| orfSimilarity | 0.001 | 0.000 | 0.000 | |
| overlapTypes | 2.110 | 0.016 | 2.126 | |
| readCounts-methods | 0.042 | 0.017 | 0.060 | |
| readWhippetDIFFfiles | 0.003 | 0.000 | 0.005 | |
| readWhippetDataSet | 0.043 | 0.013 | 0.056 | |
| readWhippetJNCfiles | 0.022 | 0.006 | 0.027 | |
| readWhippetPSIfiles | 0.007 | 0.008 | 0.014 | |
| removeDuplicateTranscripts | 0.226 | 0.004 | 0.230 | |
| removeSameExon | 0.197 | 0.003 | 0.200 | |
| removeVersion | 0.001 | 0.000 | 0.000 | |
| reorderExonNumbers | 0.149 | 0.002 | 0.152 | |
| replaceJunction | 3.700 | 0.072 | 3.773 | |
| skipExonInTranscript | 1.236 | 0.016 | 1.250 | |
| summariseExonTypes | 2.282 | 0.057 | 2.339 | |
| transcriptChangeSummary | 1.305 | 0.047 | 1.352 | |
| whippetTranscriptChangeSummary | 11.146 | 0.088 | 11.235 | |