| Back to Multiple platform build/check report for BioC 3.22: simplified long |
|
This page was generated on 2025-10-24 12:06 -0400 (Fri, 24 Oct 2025).
| Hostname | OS | Arch (*) | R version | Installed pkgs |
|---|---|---|---|---|
| nebbiolo2 | Linux (Ubuntu 24.04.3 LTS) | x86_64 | 4.5.1 Patched (2025-08-23 r88802) -- "Great Square Root" | 4898 |
| lconway | macOS 12.7.6 Monterey | x86_64 | 4.5.1 Patched (2025-09-10 r88807) -- "Great Square Root" | 4688 |
| kjohnson3 | macOS 13.7.7 Ventura | arm64 | 4.5.1 Patched (2025-09-10 r88807) -- "Great Square Root" | 4634 |
| taishan | Linux (openEuler 24.03 LTS) | aarch64 | 4.5.0 (2025-04-11) -- "How About a Twenty-Six" | 4658 |
| Click on any hostname to see more info about the system (e.g. compilers) (*) as reported by 'uname -p', except on Windows and Mac OS X | ||||
| Package 830/2359 | Hostname | OS / Arch | INSTALL | BUILD | CHECK | BUILD BIN | ||||||||
| GeneStructureTools 1.29.0 (landing page) Beth Signal
| nebbiolo2 | Linux (Ubuntu 24.04.3 LTS) / x86_64 | OK | OK | OK | |||||||||
| lconway | macOS 12.7.6 Monterey / x86_64 | OK | OK | OK | OK | |||||||||
| kjohnson3 | macOS 13.7.7 Ventura / arm64 | OK | OK | OK | OK | |||||||||
| taishan | Linux (openEuler 24.03 LTS) / aarch64 | ERROR | ERROR | skipped | ||||||||||
|
To the developers/maintainers of the GeneStructureTools package: - Allow up to 24 hours (and sometimes 48 hours) for your latest push to git@git.bioconductor.org:packages/GeneStructureTools.git to reflect on this report. See Troubleshooting Build Report for more information. - Use the following Renviron settings to reproduce errors and warnings. - If 'R CMD check' started to fail recently on the Linux builder(s) over a missing dependency, add the missing dependency to 'Suggests:' in your DESCRIPTION file. See Renviron.bioc for more information. |
| Package: GeneStructureTools |
| Version: 1.29.0 |
| Command: /Library/Frameworks/R.framework/Resources/bin/R CMD check --install=check:GeneStructureTools.install-out.txt --library=/Library/Frameworks/R.framework/Resources/library --no-vignettes --timings GeneStructureTools_1.29.0.tar.gz |
| StartedAt: 2025-10-23 20:00:28 -0400 (Thu, 23 Oct 2025) |
| EndedAt: 2025-10-23 20:02:58 -0400 (Thu, 23 Oct 2025) |
| EllapsedTime: 149.8 seconds |
| RetCode: 0 |
| Status: OK |
| CheckDir: GeneStructureTools.Rcheck |
| Warnings: 0 |
##############################################################################
##############################################################################
###
### Running command:
###
### /Library/Frameworks/R.framework/Resources/bin/R CMD check --install=check:GeneStructureTools.install-out.txt --library=/Library/Frameworks/R.framework/Resources/library --no-vignettes --timings GeneStructureTools_1.29.0.tar.gz
###
##############################################################################
##############################################################################
* using log directory ‘/Users/biocbuild/bbs-3.22-bioc/meat/GeneStructureTools.Rcheck’
* using R version 4.5.1 Patched (2025-09-10 r88807)
* using platform: aarch64-apple-darwin20
* R was compiled by
Apple clang version 16.0.0 (clang-1600.0.26.6)
GNU Fortran (GCC) 14.2.0
* running under: macOS Ventura 13.7.7
* using session charset: UTF-8
* using option ‘--no-vignettes’
* checking for file ‘GeneStructureTools/DESCRIPTION’ ... OK
* checking extension type ... Package
* this is package ‘GeneStructureTools’ version ‘1.29.0’
* package encoding: UTF-8
* checking package namespace information ... OK
* checking package dependencies ... OK
* checking if this is a source package ... OK
* checking if there is a namespace ... OK
* checking for hidden files and directories ... OK
* checking for portable file names ... OK
* checking for sufficient/correct file permissions ... OK
* checking whether package ‘GeneStructureTools’ can be installed ... OK
* checking installed package size ... OK
* checking package directory ... OK
* checking ‘build’ directory ... OK
* checking DESCRIPTION meta-information ... OK
* checking top-level files ... OK
* checking for left-over files ... OK
* checking index information ... OK
* checking package subdirectories ... OK
* checking code files for non-ASCII characters ... OK
* checking R files for syntax errors ... OK
* checking whether the package can be loaded ... OK
* checking whether the package can be loaded with stated dependencies ... OK
* checking whether the package can be unloaded cleanly ... OK
* checking whether the namespace can be loaded with stated dependencies ... OK
* checking whether the namespace can be unloaded cleanly ... OK
* checking dependencies in R code ... OK
* checking S3 generic/method consistency ... OK
* checking replacement functions ... OK
* checking foreign function calls ... OK
* checking R code for possible problems ... OK
* checking Rd files ... OK
* checking Rd metadata ... OK
* checking Rd cross-references ... OK
* checking for missing documentation entries ... OK
* checking for code/documentation mismatches ... OK
* checking Rd \usage sections ... OK
* checking Rd contents ... OK
* checking for unstated dependencies in examples ... OK
* checking files in ‘vignettes’ ... OK
* checking examples ... OK
Examples with CPU (user + system) or elapsed time > 5s
user system elapsed
leafcutterTranscriptChangeSummary 6.269 0.266 6.552
* checking for unstated dependencies in vignettes ... OK
* checking package vignettes ... OK
* checking running R code from vignettes ... SKIPPED
* checking re-building of vignette outputs ... SKIPPED
* checking PDF version of manual ... OK
* DONE
Status: OK
GeneStructureTools.Rcheck/00install.out
############################################################################## ############################################################################## ### ### Running command: ### ### /Library/Frameworks/R.framework/Resources/bin/R CMD INSTALL GeneStructureTools ### ############################################################################## ############################################################################## * installing to library ‘/Library/Frameworks/R.framework/Versions/4.5-arm64/Resources/library’ * installing *source* package ‘GeneStructureTools’ ... ** this is package ‘GeneStructureTools’ version ‘1.29.0’ ** using staged installation ** R ** inst ** byte-compile and prepare package for lazy loading ** help *** installing help indices ** building package indices ** installing vignettes ** testing if installed package can be loaded from temporary location ** testing if installed package can be loaded from final location ** testing if installed package keeps a record of temporary installation path * DONE (GeneStructureTools)
GeneStructureTools.Rcheck/GeneStructureTools-Ex.timings
| name | user | system | elapsed | |
| DEXSeqIdsToGeneIds | 0.001 | 0.001 | 0.002 | |
| UTR2UTR53 | 0.680 | 0.022 | 0.702 | |
| addBroadTypes | 0.075 | 0.003 | 0.078 | |
| addIntronInTranscript | 0.583 | 0.032 | 0.632 | |
| alternativeIntronUsage | 1.271 | 0.006 | 1.278 | |
| annotateGeneModel | 0.259 | 0.004 | 0.265 | |
| attrChangeAltSpliced | 0.859 | 0.031 | 0.905 | |
| coordinates-methods | 0.022 | 0.028 | 0.063 | |
| diffSplicingResults-methods | 0.023 | 0.027 | 0.057 | |
| exonsToTranscripts | 0.094 | 0.005 | 0.099 | |
| filterGtfOverlap | 0.096 | 0.004 | 0.101 | |
| filterWhippetEvents | 0.025 | 0.031 | 0.070 | |
| findDEXexonType | 0.689 | 0.004 | 0.694 | |
| findExonContainingTranscripts | 0.147 | 0.027 | 0.180 | |
| findIntronContainingTranscripts | 0.213 | 0.037 | 0.256 | |
| findJunctionPairs | 0.388 | 0.034 | 0.429 | |
| formatWhippetEvents | 0.005 | 0.003 | 0.009 | |
| getOrfs | 0.219 | 0.006 | 0.225 | |
| getUOrfs | 0.168 | 0.005 | 0.173 | |
| junctions-methods | 0.022 | 0.026 | 0.055 | |
| leafcutterTranscriptChangeSummary | 6.269 | 0.266 | 6.552 | |
| makeGeneModel | 0.068 | 0.002 | 0.070 | |
| maxLocation | 0.001 | 0.001 | 0.001 | |
| orfDiff | 0.491 | 0.039 | 0.538 | |
| orfSimilarity | 0 | 0 | 0 | |
| overlapTypes | 0.659 | 0.004 | 0.669 | |
| readCounts-methods | 0.022 | 0.027 | 0.055 | |
| readWhippetDIFFfiles | 0.002 | 0.003 | 0.006 | |
| readWhippetDataSet | 0.023 | 0.026 | 0.057 | |
| readWhippetJNCfiles | 0.012 | 0.014 | 0.030 | |
| readWhippetPSIfiles | 0.007 | 0.011 | 0.021 | |
| removeDuplicateTranscripts | 0.100 | 0.002 | 0.103 | |
| removeSameExon | 0.085 | 0.002 | 0.087 | |
| removeVersion | 0 | 0 | 0 | |
| reorderExonNumbers | 0.071 | 0.003 | 0.074 | |
| replaceJunction | 1.135 | 0.032 | 1.174 | |
| skipExonInTranscript | 0.418 | 0.033 | 0.457 | |
| summariseExonTypes | 0.701 | 0.003 | 0.705 | |
| transcriptChangeSummary | 0.479 | 0.036 | 0.523 | |
| whippetTranscriptChangeSummary | 3.551 | 0.085 | 3.655 | |