Back to Multiple platform build/check report for BioC 3.22:   simplified   long
ABCDE[F]GHIJKLMNOPQRSTUVWXYZ

This page was generated on 2025-10-25 12:04 -0400 (Sat, 25 Oct 2025).

HostnameOSArch (*)R versionInstalled pkgs
nebbiolo2Linux (Ubuntu 24.04.3 LTS)x86_644.5.1 Patched (2025-08-23 r88802) -- "Great Square Root" 4901
lconwaymacOS 12.7.6 Montereyx86_644.5.1 Patched (2025-09-10 r88807) -- "Great Square Root" 4691
kjohnson3macOS 13.7.7 Venturaarm644.5.1 Patched (2025-09-10 r88807) -- "Great Square Root" 4637
taishanLinux (openEuler 24.03 LTS)aarch644.5.0 (2025-04-11) -- "How About a Twenty-Six" 4658
Click on any hostname to see more info about the system (e.g. compilers)      (*) as reported by 'uname -p', except on Windows and Mac OS X

Package 765/2361HostnameOS / ArchINSTALLBUILDCHECKBUILD BIN
FlowSOM 2.17.0  (landing page)
Sofie Van Gassen
Snapshot Date: 2025-10-24 13:45 -0400 (Fri, 24 Oct 2025)
git_url: https://git.bioconductor.org/packages/FlowSOM
git_branch: devel
git_last_commit: d549275
git_last_commit_date: 2025-04-15 10:36:59 -0400 (Tue, 15 Apr 2025)
nebbiolo2Linux (Ubuntu 24.04.3 LTS) / x86_64  OK    OK    OK  UNNEEDED, same version is already published
lconwaymacOS 12.7.6 Monterey / x86_64  OK    OK    OK    OK  UNNEEDED, same version is already published
kjohnson3macOS 13.7.7 Ventura / arm64  OK    OK    OK    OK  UNNEEDED, same version is already published
taishanLinux (openEuler 24.03 LTS) / aarch64  OK    NA    NA  


CHECK results for FlowSOM on lconway

To the developers/maintainers of the FlowSOM package:
- Allow up to 24 hours (and sometimes 48 hours) for your latest push to git@git.bioconductor.org:packages/FlowSOM.git to reflect on this report. See Troubleshooting Build Report for more information.
- Use the following Renviron settings to reproduce errors and warnings.
- If 'R CMD check' started to fail recently on the Linux builder(s) over a missing dependency, add the missing dependency to 'Suggests:' in your DESCRIPTION file. See Renviron.bioc for more information.

raw results


Summary

Package: FlowSOM
Version: 2.17.0
Command: /Library/Frameworks/R.framework/Resources/bin/R CMD check --install=check:FlowSOM.install-out.txt --library=/Library/Frameworks/R.framework/Resources/library --no-vignettes --timings FlowSOM_2.17.0.tar.gz
StartedAt: 2025-10-24 21:17:26 -0400 (Fri, 24 Oct 2025)
EndedAt: 2025-10-24 21:27:50 -0400 (Fri, 24 Oct 2025)
EllapsedTime: 624.8 seconds
RetCode: 0
Status:   OK  
CheckDir: FlowSOM.Rcheck
Warnings: 0

Command output

##############################################################################
##############################################################################
###
### Running command:
###
###   /Library/Frameworks/R.framework/Resources/bin/R CMD check --install=check:FlowSOM.install-out.txt --library=/Library/Frameworks/R.framework/Resources/library --no-vignettes --timings FlowSOM_2.17.0.tar.gz
###
##############################################################################
##############################################################################


* using log directory ‘/Users/biocbuild/bbs-3.22-bioc/meat/FlowSOM.Rcheck’
* using R version 4.5.1 Patched (2025-09-10 r88807)
* using platform: x86_64-apple-darwin20
* R was compiled by
    Apple clang version 14.0.0 (clang-1400.0.29.202)
    GNU Fortran (GCC) 14.2.0
* running under: macOS Monterey 12.7.6
* using session charset: UTF-8
* using option ‘--no-vignettes’
* checking for file ‘FlowSOM/DESCRIPTION’ ... OK
* this is package ‘FlowSOM’ version ‘2.17.0’
* package encoding: UTF-8
* checking package namespace information ... OK
* checking package dependencies ... OK
* checking if this is a source package ... OK
* checking if there is a namespace ... OK
* checking for hidden files and directories ... OK
* checking for portable file names ... OK
* checking for sufficient/correct file permissions ... OK
* checking whether package ‘FlowSOM’ can be installed ... OK
* used C compiler: ‘Apple clang version 14.0.0 (clang-1400.0.29.202)’
* used SDK: ‘MacOSX11.3.1.sdk’
* checking installed package size ... OK
* checking package directory ... OK
* checking ‘build’ directory ... OK
* checking DESCRIPTION meta-information ... OK
* checking top-level files ... OK
* checking for left-over files ... OK
* checking index information ... OK
* checking package subdirectories ... OK
* checking code files for non-ASCII characters ... OK
* checking R files for syntax errors ... OK
* checking whether the package can be loaded ... OK
* checking whether the package can be loaded with stated dependencies ... OK
* checking whether the package can be unloaded cleanly ... OK
* checking whether the namespace can be loaded with stated dependencies ... OK
* checking whether the namespace can be unloaded cleanly ... OK
* checking whether startup messages can be suppressed ... OK
* checking dependencies in R code ... OK
* checking S3 generic/method consistency ... OK
* checking replacement functions ... OK
* checking foreign function calls ... OK
* checking R code for possible problems ... OK
* checking Rd files ... NOTE
checkRd: (-1) PlotDimRed.Rd:55: Lost braces
    55 | of the dimred default = function(dimred){dimred$Y}.}
       |                                         ^
* checking Rd metadata ... OK
* checking Rd cross-references ... NOTE
Non-topic package-anchored link(s) in Rd file 'pipe.Rd':
  ‘[magrittr:pipe]{%>%}’

See section 'Cross-references' in the 'Writing R Extensions' manual.
* checking for missing documentation entries ... OK
* checking for code/documentation mismatches ... OK
* checking Rd \usage sections ... OK
* checking Rd contents ... OK
* checking for unstated dependencies in examples ... OK
* checking line endings in C/C++/Fortran sources/headers ... OK
* checking compiled code ... NOTE
Note: information on .o files is not available
* checking sizes of PDF files under ‘inst/doc’ ... OK
* checking files in ‘vignettes’ ... OK
* checking examples ... OK
Examples with CPU (user + system) or elapsed time > 5s
                                    user system elapsed
FlowSOMmary                       51.796  2.188  54.088
PlotDimRed                        42.989  2.528  46.052
PlotOutliers                      36.774  1.078  38.300
PlotMarker                        20.347  1.286  21.888
UpdateMetaclusters                17.516  1.224  18.943
PlotStars                         16.304  1.036  17.550
PlotGroups                        13.845  1.087  15.153
GroupStats                        13.466  0.774  14.347
FlowSOM                           12.637  1.064  13.908
Plot2DScatters                    12.169  0.812  13.161
QueryMultiple                     11.520  0.526  12.186
query_multiple                    10.884  0.478  11.507
AddAnnotation                      9.359  0.585  10.036
PlotManualBars                     9.006  0.790   9.886
PlotNode                           8.268  0.845   9.274
PlotNumbers                        8.063  0.724   8.926
PlotVariable                       7.743  0.873   8.768
GetFlowJoLabels                    7.519  0.635   8.227
QueryStarPlot                      7.774  0.358   8.222
PlotPies                           7.293  0.796   8.188
PlotFlowSOM                        6.707  0.699   7.505
PlotLabels                         6.234  0.701   7.019
CountGroups                        6.248  0.617   6.928
NMetaclusters                      5.879  0.848   6.863
UpdateNodeSize                     6.416  0.223   6.698
MetaclusterMFIs                    5.636  0.766   6.506
GetFeatures                        5.842  0.388   6.294
SaveClustersToFCS                  5.307  0.815   6.204
TestOutliers                       5.204  0.835   6.126
PlotOverview2D                     5.365  0.640   6.086
NClusters                          5.144  0.723   5.998
print.FlowSOM                      4.826  0.809   5.718
MetaclusterCVs                     4.873  0.690   5.631
GetMetaclusterPercentagesPositive  4.616  0.795   5.530
GetPercentages                     4.725  0.682   5.454
GetMFIs                            4.530  0.707   5.278
GetCounts                          4.580  0.558   5.191
GetMetaclusterCVs                  4.498  0.613   5.160
NewData                            4.544  0.554   5.182
GetMetaclusterMFIs                 4.465  0.596   5.116
GetMetaclusters                    4.470  0.546   5.053
* checking for unstated dependencies in vignettes ... OK
* checking package vignettes ... OK
* checking running R code from vignettes ... SKIPPED
* checking re-building of vignette outputs ... SKIPPED
* checking PDF version of manual ... OK
* DONE

Status: 3 NOTEs
See
  ‘/Users/biocbuild/bbs-3.22-bioc/meat/FlowSOM.Rcheck/00check.log’
for details.


Installation output

FlowSOM.Rcheck/00install.out

##############################################################################
##############################################################################
###
### Running command:
###
###   /Library/Frameworks/R.framework/Resources/bin/R CMD INSTALL FlowSOM
###
##############################################################################
##############################################################################


* installing to library ‘/Library/Frameworks/R.framework/Versions/4.5-x86_64/Resources/library’
* installing *source* package ‘FlowSOM’ ...
** this is package ‘FlowSOM’ version ‘2.17.0’
** using staged installation
** libs
using C compiler: ‘Apple clang version 14.0.0 (clang-1400.0.29.202)’
using SDK: ‘MacOSX11.3.1.sdk’
clang -arch x86_64 -I"/Library/Frameworks/R.framework/Resources/include" -DNDEBUG   -I/opt/R/x86_64/include    -fPIC  -falign-functions=64 -Wall -g -O2  -c som.c -o som.o
clang -arch x86_64 -dynamiclib -Wl,-headerpad_max_install_names -undefined dynamic_lookup -L/Library/Frameworks/R.framework/Resources/lib -L/opt/R/x86_64/lib -o FlowSOM.so som.o -F/Library/Frameworks/R.framework/.. -framework R
installing to /Library/Frameworks/R.framework/Versions/4.5-x86_64/Resources/library/00LOCK-FlowSOM/00new/FlowSOM/libs
** R
** inst
** byte-compile and prepare package for lazy loading
** help
*** installing help indices
** building package indices
** installing vignettes
** testing if installed package can be loaded from temporary location
** checking absolute paths in shared objects and dynamic libraries
** testing if installed package can be loaded from final location
** testing if installed package keeps a record of temporary installation path
* DONE (FlowSOM)

Tests output


Example timings

FlowSOM.Rcheck/FlowSOM-Ex.timings

nameusersystemelapsed
AddAnnotation 9.359 0.58510.036
AggregateFlowFrames0.0980.0080.107
BuildMST1.6140.0971.725
BuildSOM1.3210.0811.421
CountGroups6.2480.6176.928
FMeasure0.0020.0000.001
FlowSOM12.637 1.06413.908
FlowSOMSubset4.1730.4174.635
FlowSOMmary51.796 2.18854.088
GetChannels0.0410.0030.043
GetClusterMFIs4.3750.5124.936
GetClusterPercentagesPositive4.2150.4614.714
GetClusters4.2630.5584.868
GetCounts4.5800.5585.191
GetFeatures5.8420.3886.294
GetFlowJoLabels7.5190.6358.227
GetMFIs4.5300.7075.278
GetMarkers0.0440.0040.050
GetMetaclusterCVs4.4980.6135.160
GetMetaclusterMFIs4.4650.5965.116
GetMetaclusterPercentagesPositive4.6160.7955.530
GetMetaclusters4.4700.5465.053
GetPercentages4.7250.6825.454
GroupStats13.466 0.77414.347
Initialize_KWSP0.0040.0000.004
Initialize_PCA0.0010.0000.001
MetaClustering3.2370.6153.900
MetaclusterCVs4.8730.6905.631
MetaclusterMFIs5.6360.7666.506
NClusters5.1440.7235.998
NMetaclusters5.8790.8486.863
NewData4.5440.5545.182
Plot2DScatters12.169 0.81213.161
PlotCenters1.5380.1031.671
PlotClusters2D1.2580.1141.388
PlotDimRed42.989 2.52846.052
PlotFileScatters1.3850.0351.435
PlotFlowSOM6.7070.6997.505
PlotGroups13.845 1.08715.153
PlotLabels6.2340.7017.019
PlotManualBars9.0060.7909.886
PlotMarker20.347 1.28621.888
PlotNode8.2680.8459.274
PlotNumbers8.0630.7248.926
PlotOutliers36.774 1.07838.300
PlotOverview2D5.3650.6406.086
PlotPies7.2930.7968.188
PlotSD2.2930.1552.475
PlotStars16.304 1.03617.550
PlotVariable7.7430.8738.768
Purity0.0010.0000.001
QueryMultiple11.520 0.52612.186
QueryStarPlot7.7740.3588.222
ReadInput3.2560.5983.907
SaveClustersToFCS5.3070.8156.204
TestOutliers5.2040.8356.126
UpdateMetaclusters17.516 1.22418.943
UpdateNodeSize6.4160.2236.698
get_channels0.0590.0150.075
get_markers0.0390.0020.042
metaClustering_consensus2.6420.4753.183
plotStarLegend0.5790.0470.635
print.FlowSOM4.8260.8095.718
query_multiple10.884 0.47811.507