| Back to Multiple platform build/check report for BioC 3.22: simplified long |
|
This page was generated on 2025-10-25 12:06 -0400 (Sat, 25 Oct 2025).
| Hostname | OS | Arch (*) | R version | Installed pkgs |
|---|---|---|---|---|
| nebbiolo2 | Linux (Ubuntu 24.04.3 LTS) | x86_64 | 4.5.1 Patched (2025-08-23 r88802) -- "Great Square Root" | 4901 |
| lconway | macOS 12.7.6 Monterey | x86_64 | 4.5.1 Patched (2025-09-10 r88807) -- "Great Square Root" | 4691 |
| kjohnson3 | macOS 13.7.7 Ventura | arm64 | 4.5.1 Patched (2025-09-10 r88807) -- "Great Square Root" | 4637 |
| taishan | Linux (openEuler 24.03 LTS) | aarch64 | 4.5.0 (2025-04-11) -- "How About a Twenty-Six" | 4658 |
| Click on any hostname to see more info about the system (e.g. compilers) (*) as reported by 'uname -p', except on Windows and Mac OS X | ||||
| Package 765/2361 | Hostname | OS / Arch | INSTALL | BUILD | CHECK | BUILD BIN | ||||||||
| FlowSOM 2.17.0 (landing page) Sofie Van Gassen
| nebbiolo2 | Linux (Ubuntu 24.04.3 LTS) / x86_64 | OK | OK | OK | |||||||||
| lconway | macOS 12.7.6 Monterey / x86_64 | OK | OK | OK | OK | |||||||||
| kjohnson3 | macOS 13.7.7 Ventura / arm64 | OK | OK | OK | OK | |||||||||
| taishan | Linux (openEuler 24.03 LTS) / aarch64 | OK | NA | NA | ||||||||||
|
To the developers/maintainers of the FlowSOM package: - Allow up to 24 hours (and sometimes 48 hours) for your latest push to git@git.bioconductor.org:packages/FlowSOM.git to reflect on this report. See Troubleshooting Build Report for more information. - Use the following Renviron settings to reproduce errors and warnings. - If 'R CMD check' started to fail recently on the Linux builder(s) over a missing dependency, add the missing dependency to 'Suggests:' in your DESCRIPTION file. See Renviron.bioc for more information. |
| Package: FlowSOM |
| Version: 2.17.0 |
| Command: /Library/Frameworks/R.framework/Resources/bin/R CMD check --install=check:FlowSOM.install-out.txt --library=/Library/Frameworks/R.framework/Resources/library --no-vignettes --timings FlowSOM_2.17.0.tar.gz |
| StartedAt: 2025-10-24 19:48:12 -0400 (Fri, 24 Oct 2025) |
| EndedAt: 2025-10-24 19:51:47 -0400 (Fri, 24 Oct 2025) |
| EllapsedTime: 215.7 seconds |
| RetCode: 0 |
| Status: OK |
| CheckDir: FlowSOM.Rcheck |
| Warnings: 0 |
##############################################################################
##############################################################################
###
### Running command:
###
### /Library/Frameworks/R.framework/Resources/bin/R CMD check --install=check:FlowSOM.install-out.txt --library=/Library/Frameworks/R.framework/Resources/library --no-vignettes --timings FlowSOM_2.17.0.tar.gz
###
##############################################################################
##############################################################################
* using log directory ‘/Users/biocbuild/bbs-3.22-bioc/meat/FlowSOM.Rcheck’
* using R version 4.5.1 Patched (2025-09-10 r88807)
* using platform: aarch64-apple-darwin20
* R was compiled by
Apple clang version 16.0.0 (clang-1600.0.26.6)
GNU Fortran (GCC) 14.2.0
* running under: macOS Ventura 13.7.7
* using session charset: UTF-8
* using option ‘--no-vignettes’
* checking for file ‘FlowSOM/DESCRIPTION’ ... OK
* this is package ‘FlowSOM’ version ‘2.17.0’
* package encoding: UTF-8
* checking package namespace information ... OK
* checking package dependencies ... OK
* checking if this is a source package ... OK
* checking if there is a namespace ... OK
* checking for hidden files and directories ... OK
* checking for portable file names ... OK
* checking for sufficient/correct file permissions ... OK
* checking whether package ‘FlowSOM’ can be installed ... OK
* used C compiler: ‘Apple clang version 15.0.0 (clang-1500.1.0.2.5)’
* used SDK: ‘MacOSX11.3.1.sdk’
* checking installed package size ... OK
* checking package directory ... OK
* checking ‘build’ directory ... OK
* checking DESCRIPTION meta-information ... OK
* checking top-level files ... OK
* checking for left-over files ... OK
* checking index information ... OK
* checking package subdirectories ... OK
* checking code files for non-ASCII characters ... OK
* checking R files for syntax errors ... OK
* checking whether the package can be loaded ... OK
* checking whether the package can be loaded with stated dependencies ... OK
* checking whether the package can be unloaded cleanly ... OK
* checking whether the namespace can be loaded with stated dependencies ... OK
* checking whether the namespace can be unloaded cleanly ... OK
* checking whether startup messages can be suppressed ... OK
* checking dependencies in R code ... OK
* checking S3 generic/method consistency ... OK
* checking replacement functions ... OK
* checking foreign function calls ... OK
* checking R code for possible problems ... OK
* checking Rd files ... NOTE
checkRd: (-1) PlotDimRed.Rd:55: Lost braces
55 | of the dimred default = function(dimred){dimred$Y}.}
| ^
* checking Rd metadata ... OK
* checking Rd cross-references ... NOTE
Non-topic package-anchored link(s) in Rd file 'pipe.Rd':
‘[magrittr:pipe]{%>%}’
See section 'Cross-references' in the 'Writing R Extensions' manual.
* checking for missing documentation entries ... OK
* checking for code/documentation mismatches ... OK
* checking Rd \usage sections ... OK
* checking Rd contents ... OK
* checking for unstated dependencies in examples ... OK
* checking line endings in C/C++/Fortran sources/headers ... OK
* checking compiled code ... NOTE
Note: information on .o files is not available
* checking sizes of PDF files under ‘inst/doc’ ... OK
* checking files in ‘vignettes’ ... OK
* checking examples ... OK
Examples with CPU (user + system) or elapsed time > 5s
user system elapsed
FlowSOMmary 19.308 1.036 20.352
PlotDimRed 16.838 1.529 18.575
PlotOutliers 9.489 0.275 9.779
PlotMarker 6.242 0.397 6.672
UpdateMetaclusters 5.782 0.619 6.455
PlotStars 5.055 0.531 5.706
* checking for unstated dependencies in vignettes ... OK
* checking package vignettes ... OK
* checking running R code from vignettes ... SKIPPED
* checking re-building of vignette outputs ... SKIPPED
* checking PDF version of manual ... OK
* DONE
Status: 3 NOTEs
See
‘/Users/biocbuild/bbs-3.22-bioc/meat/FlowSOM.Rcheck/00check.log’
for details.
FlowSOM.Rcheck/00install.out
############################################################################## ############################################################################## ### ### Running command: ### ### /Library/Frameworks/R.framework/Resources/bin/R CMD INSTALL FlowSOM ### ############################################################################## ############################################################################## * installing to library ‘/Library/Frameworks/R.framework/Versions/4.5-arm64/Resources/library’ * installing *source* package ‘FlowSOM’ ... ** this is package ‘FlowSOM’ version ‘2.17.0’ ** using staged installation ** libs using C compiler: ‘Apple clang version 15.0.0 (clang-1500.1.0.2.5)’ using SDK: ‘MacOSX11.3.1.sdk’ clang -arch arm64 -std=gnu2x -I"/Library/Frameworks/R.framework/Resources/include" -DNDEBUG -I/opt/R/arm64/include -fPIC -falign-functions=64 -Wall -g -O2 -c som.c -o som.o clang -arch arm64 -std=gnu2x -dynamiclib -Wl,-headerpad_max_install_names -undefined dynamic_lookup -L/Library/Frameworks/R.framework/Resources/lib -L/opt/R/arm64/lib -o FlowSOM.so som.o -F/Library/Frameworks/R.framework/.. -framework R installing to /Library/Frameworks/R.framework/Versions/4.5-arm64/Resources/library/00LOCK-FlowSOM/00new/FlowSOM/libs ** R ** inst ** byte-compile and prepare package for lazy loading ** help *** installing help indices ** building package indices ** installing vignettes ** testing if installed package can be loaded from temporary location ** checking absolute paths in shared objects and dynamic libraries ** testing if installed package can be loaded from final location ** testing if installed package keeps a record of temporary installation path * DONE (FlowSOM)
FlowSOM.Rcheck/FlowSOM-Ex.timings
| name | user | system | elapsed | |
| AddAnnotation | 3.027 | 0.209 | 3.292 | |
| AggregateFlowFrames | 0.032 | 0.002 | 0.035 | |
| BuildMST | 0.547 | 0.049 | 0.599 | |
| BuildSOM | 0.396 | 0.033 | 0.449 | |
| CountGroups | 2.255 | 0.261 | 2.533 | |
| FMeasure | 0 | 0 | 0 | |
| FlowSOM | 4.275 | 0.364 | 4.654 | |
| FlowSOMSubset | 1.700 | 0.152 | 1.884 | |
| FlowSOMmary | 19.308 | 1.036 | 20.352 | |
| GetChannels | 0.014 | 0.001 | 0.017 | |
| GetClusterMFIs | 1.623 | 0.245 | 1.875 | |
| GetClusterPercentagesPositive | 1.834 | 0.251 | 2.090 | |
| GetClusters | 1.673 | 0.283 | 1.969 | |
| GetCounts | 1.715 | 0.290 | 2.012 | |
| GetFeatures | 1.956 | 0.154 | 2.115 | |
| GetFlowJoLabels | 2.793 | 0.311 | 3.135 | |
| GetMFIs | 1.796 | 0.253 | 2.059 | |
| GetMarkers | 0.014 | 0.002 | 0.015 | |
| GetMetaclusterCVs | 1.709 | 0.255 | 1.974 | |
| GetMetaclusterMFIs | 1.729 | 0.325 | 2.054 | |
| GetMetaclusterPercentagesPositive | 1.696 | 0.349 | 2.046 | |
| GetMetaclusters | 1.738 | 0.346 | 2.095 | |
| GetPercentages | 1.736 | 0.363 | 2.103 | |
| GroupStats | 4.483 | 0.399 | 4.939 | |
| Initialize_KWSP | 0.001 | 0.000 | 0.001 | |
| Initialize_PCA | 0.001 | 0.000 | 0.000 | |
| MetaClustering | 1.237 | 0.341 | 1.597 | |
| MetaclusterCVs | 1.765 | 0.329 | 2.137 | |
| MetaclusterMFIs | 1.833 | 0.316 | 2.227 | |
| NClusters | 1.930 | 0.365 | 2.301 | |
| NMetaclusters | 1.867 | 0.296 | 2.180 | |
| NewData | 1.469 | 0.242 | 1.739 | |
| Plot2DScatters | 3.287 | 0.252 | 3.583 | |
| PlotCenters | 0.421 | 0.055 | 0.478 | |
| PlotClusters2D | 0.393 | 0.048 | 0.441 | |
| PlotDimRed | 16.838 | 1.529 | 18.575 | |
| PlotFileScatters | 0.369 | 0.013 | 0.384 | |
| PlotFlowSOM | 2.259 | 0.446 | 2.938 | |
| PlotGroups | 4.038 | 0.592 | 4.804 | |
| PlotLabels | 2.197 | 0.353 | 2.609 | |
| PlotManualBars | 3.020 | 0.337 | 3.364 | |
| PlotMarker | 6.242 | 0.397 | 6.672 | |
| PlotNode | 2.541 | 0.354 | 2.914 | |
| PlotNumbers | 2.500 | 0.346 | 2.851 | |
| PlotOutliers | 9.489 | 0.275 | 9.779 | |
| PlotOverview2D | 2.077 | 0.283 | 2.366 | |
| PlotPies | 2.663 | 0.332 | 3.001 | |
| PlotSD | 0.785 | 0.108 | 0.897 | |
| PlotStars | 5.055 | 0.531 | 5.706 | |
| PlotVariable | 2.553 | 0.402 | 2.960 | |
| Purity | 0 | 0 | 0 | |
| QueryMultiple | 3.423 | 0.231 | 3.662 | |
| QueryStarPlot | 2.642 | 0.203 | 2.859 | |
| ReadInput | 1.051 | 0.299 | 1.353 | |
| SaveClustersToFCS | 2.057 | 0.386 | 2.534 | |
| TestOutliers | 1.917 | 0.306 | 2.295 | |
| UpdateMetaclusters | 5.782 | 0.619 | 6.455 | |
| UpdateNodeSize | 2.011 | 0.118 | 2.139 | |
| get_channels | 0.013 | 0.001 | 0.015 | |
| get_markers | 0.013 | 0.002 | 0.015 | |
| metaClustering_consensus | 0.867 | 0.237 | 1.108 | |
| plotStarLegend | 0.185 | 0.002 | 0.187 | |
| print.FlowSOM | 1.821 | 0.350 | 2.219 | |
| query_multiple | 3.448 | 0.265 | 3.747 | |