| Back to Multiple platform build/check report for BioC 3.22: simplified long |
|
This page was generated on 2025-10-24 12:03 -0400 (Fri, 24 Oct 2025).
| Hostname | OS | Arch (*) | R version | Installed pkgs |
|---|---|---|---|---|
| nebbiolo2 | Linux (Ubuntu 24.04.3 LTS) | x86_64 | 4.5.1 Patched (2025-08-23 r88802) -- "Great Square Root" | 4898 |
| lconway | macOS 12.7.6 Monterey | x86_64 | 4.5.1 Patched (2025-09-10 r88807) -- "Great Square Root" | 4688 |
| kjohnson3 | macOS 13.7.7 Ventura | arm64 | 4.5.1 Patched (2025-09-10 r88807) -- "Great Square Root" | 4634 |
| taishan | Linux (openEuler 24.03 LTS) | aarch64 | 4.5.0 (2025-04-11) -- "How About a Twenty-Six" | 4658 |
| Click on any hostname to see more info about the system (e.g. compilers) (*) as reported by 'uname -p', except on Windows and Mac OS X | ||||
| Package 764/2359 | Hostname | OS / Arch | INSTALL | BUILD | CHECK | BUILD BIN | ||||||||
| FlowSOM 2.17.0 (landing page) Sofie Van Gassen
| nebbiolo2 | Linux (Ubuntu 24.04.3 LTS) / x86_64 | OK | OK | OK | |||||||||
| lconway | macOS 12.7.6 Monterey / x86_64 | OK | OK | OK | OK | |||||||||
| kjohnson3 | macOS 13.7.7 Ventura / arm64 | OK | OK | OK | OK | |||||||||
| taishan | Linux (openEuler 24.03 LTS) / aarch64 | OK | OK | NA | ||||||||||
|
To the developers/maintainers of the FlowSOM package: - Allow up to 24 hours (and sometimes 48 hours) for your latest push to git@git.bioconductor.org:packages/FlowSOM.git to reflect on this report. See Troubleshooting Build Report for more information. - Use the following Renviron settings to reproduce errors and warnings. - If 'R CMD check' started to fail recently on the Linux builder(s) over a missing dependency, add the missing dependency to 'Suggests:' in your DESCRIPTION file. See Renviron.bioc for more information. |
| Package: FlowSOM |
| Version: 2.17.0 |
| Command: /home/biocbuild/bbs-3.22-bioc/R/bin/R CMD check --install=check:FlowSOM.install-out.txt --library=/home/biocbuild/bbs-3.22-bioc/R/site-library --timings FlowSOM_2.17.0.tar.gz |
| StartedAt: 2025-10-23 23:39:01 -0400 (Thu, 23 Oct 2025) |
| EndedAt: 2025-10-23 23:49:05 -0400 (Thu, 23 Oct 2025) |
| EllapsedTime: 603.7 seconds |
| RetCode: 0 |
| Status: OK |
| CheckDir: FlowSOM.Rcheck |
| Warnings: 0 |
##############################################################################
##############################################################################
###
### Running command:
###
### /home/biocbuild/bbs-3.22-bioc/R/bin/R CMD check --install=check:FlowSOM.install-out.txt --library=/home/biocbuild/bbs-3.22-bioc/R/site-library --timings FlowSOM_2.17.0.tar.gz
###
##############################################################################
##############################################################################
* using log directory ‘/home/biocbuild/bbs-3.22-bioc/meat/FlowSOM.Rcheck’
* using R version 4.5.1 Patched (2025-08-23 r88802)
* using platform: x86_64-pc-linux-gnu
* R was compiled by
gcc (Ubuntu 13.3.0-6ubuntu2~24.04) 13.3.0
GNU Fortran (Ubuntu 13.3.0-6ubuntu2~24.04) 13.3.0
* running under: Ubuntu 24.04.3 LTS
* using session charset: UTF-8
* checking for file ‘FlowSOM/DESCRIPTION’ ... OK
* this is package ‘FlowSOM’ version ‘2.17.0’
* package encoding: UTF-8
* checking package namespace information ... OK
* checking package dependencies ... OK
* checking if this is a source package ... OK
* checking if there is a namespace ... OK
* checking for hidden files and directories ... OK
* checking for portable file names ... OK
* checking for sufficient/correct file permissions ... OK
* checking whether package ‘FlowSOM’ can be installed ... OK
* used C compiler: ‘gcc (Ubuntu 13.3.0-6ubuntu2~24.04) 13.3.0’
* checking installed package size ... OK
* checking package directory ... OK
* checking ‘build’ directory ... OK
* checking DESCRIPTION meta-information ... OK
* checking top-level files ... OK
* checking for left-over files ... OK
* checking index information ... OK
* checking package subdirectories ... OK
* checking code files for non-ASCII characters ... OK
* checking R files for syntax errors ... OK
* checking whether the package can be loaded ... OK
* checking whether the package can be loaded with stated dependencies ... OK
* checking whether the package can be unloaded cleanly ... OK
* checking whether the namespace can be loaded with stated dependencies ... OK
* checking whether the namespace can be unloaded cleanly ... OK
* checking loading without being on the library search path ... OK
* checking whether startup messages can be suppressed ... OK
* checking dependencies in R code ... OK
* checking S3 generic/method consistency ... OK
* checking replacement functions ... OK
* checking foreign function calls ... OK
* checking R code for possible problems ... OK
* checking Rd files ... NOTE
checkRd: (-1) PlotDimRed.Rd:55: Lost braces
55 | of the dimred default = function(dimred){dimred$Y}.}
| ^
* checking Rd metadata ... OK
* checking Rd cross-references ... NOTE
Non-topic package-anchored link(s) in Rd file 'pipe.Rd':
‘[magrittr:pipe]{%>%}’
See section 'Cross-references' in the 'Writing R Extensions' manual.
* checking for missing documentation entries ... OK
* checking for code/documentation mismatches ... OK
* checking Rd \usage sections ... OK
* checking Rd contents ... OK
* checking for unstated dependencies in examples ... OK
* checking line endings in C/C++/Fortran sources/headers ... OK
* checking compiled code ... NOTE
Note: information on .o files is not available
* checking files in ‘vignettes’ ... OK
* checking examples ... OK
Examples with CPU (user + system) or elapsed time > 5s
user system elapsed
FlowSOMmary 51.057 0.489 51.377
PlotDimRed 43.689 0.167 43.827
PlotOutliers 29.687 0.054 29.742
PlotMarker 17.354 0.107 17.462
UpdateMetaclusters 16.883 0.025 16.909
PlotStars 14.752 0.014 14.767
GroupStats 12.055 0.100 12.155
FlowSOM 11.251 0.043 11.296
PlotGroups 10.465 0.026 10.493
Plot2DScatters 10.319 0.073 10.382
QueryMultiple 9.970 0.013 9.983
query_multiple 9.550 0.005 9.556
AddAnnotation 8.352 0.179 8.530
PlotManualBars 7.785 0.054 7.840
PlotPies 7.265 0.045 7.312
QueryStarPlot 7.126 0.007 7.134
GetFlowJoLabels 7.005 0.055 7.063
PlotNode 6.986 0.018 7.004
PlotVariable 6.648 0.014 6.662
PlotNumbers 6.612 0.008 6.621
PlotOverview2D 6.018 0.076 6.095
UpdateNodeSize 5.982 0.011 5.993
SaveClustersToFCS 5.777 0.013 5.791
CountGroups 5.294 0.084 5.380
PlotLabels 5.294 0.012 5.308
PlotFlowSOM 5.220 0.055 5.275
NMetaclusters 5.173 0.016 5.190
GetMetaclusters 4.973 0.072 5.047
* checking for unstated dependencies in vignettes ... OK
* checking package vignettes ... OK
* checking re-building of vignette outputs ... OK
* checking PDF version of manual ... OK
* DONE
Status: 3 NOTEs
See
‘/home/biocbuild/bbs-3.22-bioc/meat/FlowSOM.Rcheck/00check.log’
for details.
FlowSOM.Rcheck/00install.out
############################################################################## ############################################################################## ### ### Running command: ### ### /home/biocbuild/bbs-3.22-bioc/R/bin/R CMD INSTALL FlowSOM ### ############################################################################## ############################################################################## * installing to library ‘/home/biocbuild/bbs-3.22-bioc/R/site-library’ * installing *source* package ‘FlowSOM’ ... ** this is package ‘FlowSOM’ version ‘2.17.0’ ** using staged installation ** libs using C compiler: ‘gcc (Ubuntu 13.3.0-6ubuntu2~24.04) 13.3.0’ gcc -std=gnu2x -I"/home/biocbuild/bbs-3.22-bioc/R/include" -DNDEBUG -I/usr/local/include -fpic -g -O2 -Wall -Werror=format-security -c som.c -o som.o gcc -std=gnu2x -shared -L/home/biocbuild/bbs-3.22-bioc/R/lib -L/usr/local/lib -o FlowSOM.so som.o -L/home/biocbuild/bbs-3.22-bioc/R/lib -lR installing to /home/biocbuild/bbs-3.22-bioc/R/site-library/00LOCK-FlowSOM/00new/FlowSOM/libs ** R ** inst ** byte-compile and prepare package for lazy loading ** help *** installing help indices ** building package indices ** installing vignettes ** testing if installed package can be loaded from temporary location ** checking absolute paths in shared objects and dynamic libraries ** testing if installed package can be loaded from final location ** testing if installed package keeps a record of temporary installation path * DONE (FlowSOM)
FlowSOM.Rcheck/FlowSOM-Ex.timings
| name | user | system | elapsed | |
| AddAnnotation | 8.352 | 0.179 | 8.530 | |
| AggregateFlowFrames | 0.067 | 0.009 | 0.076 | |
| BuildMST | 1.023 | 0.016 | 1.040 | |
| BuildSOM | 1.082 | 0.010 | 1.094 | |
| CountGroups | 5.294 | 0.084 | 5.380 | |
| FMeasure | 0.001 | 0.000 | 0.001 | |
| FlowSOM | 11.251 | 0.043 | 11.296 | |
| FlowSOMSubset | 4.205 | 0.025 | 4.230 | |
| FlowSOMmary | 51.057 | 0.489 | 51.377 | |
| GetChannels | 0.026 | 0.002 | 0.027 | |
| GetClusterMFIs | 3.951 | 0.127 | 4.079 | |
| GetClusterPercentagesPositive | 3.842 | 0.019 | 3.862 | |
| GetClusters | 4.171 | 0.037 | 4.209 | |
| GetCounts | 3.949 | 0.010 | 3.960 | |
| GetFeatures | 4.948 | 0.038 | 4.987 | |
| GetFlowJoLabels | 7.005 | 0.055 | 7.063 | |
| GetMFIs | 4.353 | 0.011 | 4.376 | |
| GetMarkers | 0.027 | 0.000 | 0.028 | |
| GetMetaclusterCVs | 4.396 | 0.012 | 4.409 | |
| GetMetaclusterMFIs | 4.498 | 0.011 | 4.540 | |
| GetMetaclusterPercentagesPositive | 4.455 | 0.003 | 4.458 | |
| GetMetaclusters | 4.973 | 0.072 | 5.047 | |
| GetPercentages | 4.374 | 0.008 | 4.382 | |
| GroupStats | 12.055 | 0.100 | 12.155 | |
| Initialize_KWSP | 0.003 | 0.000 | 0.004 | |
| Initialize_PCA | 0.001 | 0.000 | 0.001 | |
| MetaClustering | 2.749 | 0.031 | 2.780 | |
| MetaclusterCVs | 4.374 | 0.024 | 4.400 | |
| MetaclusterMFIs | 4.670 | 0.010 | 4.681 | |
| NClusters | 4.827 | 0.014 | 4.842 | |
| NMetaclusters | 5.173 | 0.016 | 5.190 | |
| NewData | 4.207 | 0.011 | 4.219 | |
| Plot2DScatters | 10.319 | 0.073 | 10.382 | |
| PlotCenters | 1.051 | 0.001 | 1.052 | |
| PlotClusters2D | 0.974 | 0.003 | 0.978 | |
| PlotDimRed | 43.689 | 0.167 | 43.827 | |
| PlotFileScatters | 1.083 | 0.008 | 1.091 | |
| PlotFlowSOM | 5.220 | 0.055 | 5.275 | |
| PlotGroups | 10.465 | 0.026 | 10.493 | |
| PlotLabels | 5.294 | 0.012 | 5.308 | |
| PlotManualBars | 7.785 | 0.054 | 7.840 | |
| PlotMarker | 17.354 | 0.107 | 17.462 | |
| PlotNode | 6.986 | 0.018 | 7.004 | |
| PlotNumbers | 6.612 | 0.008 | 6.621 | |
| PlotOutliers | 29.687 | 0.054 | 29.742 | |
| PlotOverview2D | 6.018 | 0.076 | 6.095 | |
| PlotPies | 7.265 | 0.045 | 7.312 | |
| PlotSD | 2.106 | 0.014 | 2.121 | |
| PlotStars | 14.752 | 0.014 | 14.767 | |
| PlotVariable | 6.648 | 0.014 | 6.662 | |
| Purity | 0.001 | 0.000 | 0.001 | |
| QueryMultiple | 9.970 | 0.013 | 9.983 | |
| QueryStarPlot | 7.126 | 0.007 | 7.134 | |
| ReadInput | 3.002 | 0.035 | 3.038 | |
| SaveClustersToFCS | 5.777 | 0.013 | 5.791 | |
| TestOutliers | 4.816 | 0.009 | 4.825 | |
| UpdateMetaclusters | 16.883 | 0.025 | 16.909 | |
| UpdateNodeSize | 5.982 | 0.011 | 5.993 | |
| get_channels | 0.028 | 0.000 | 0.028 | |
| get_markers | 0.025 | 0.003 | 0.028 | |
| metaClustering_consensus | 2.255 | 0.017 | 2.272 | |
| plotStarLegend | 0.456 | 0.000 | 0.457 | |
| print.FlowSOM | 4.166 | 0.013 | 4.180 | |
| query_multiple | 9.550 | 0.005 | 9.556 | |