| Back to Multiple platform build/check report for BioC 3.22: simplified long |
|
This page was generated on 2025-10-24 12:04 -0400 (Fri, 24 Oct 2025).
| Hostname | OS | Arch (*) | R version | Installed pkgs |
|---|---|---|---|---|
| nebbiolo2 | Linux (Ubuntu 24.04.3 LTS) | x86_64 | 4.5.1 Patched (2025-08-23 r88802) -- "Great Square Root" | 4898 |
| lconway | macOS 12.7.6 Monterey | x86_64 | 4.5.1 Patched (2025-09-10 r88807) -- "Great Square Root" | 4688 |
| kjohnson3 | macOS 13.7.7 Ventura | arm64 | 4.5.1 Patched (2025-09-10 r88807) -- "Great Square Root" | 4634 |
| taishan | Linux (openEuler 24.03 LTS) | aarch64 | 4.5.0 (2025-04-11) -- "How About a Twenty-Six" | 4658 |
| Click on any hostname to see more info about the system (e.g. compilers) (*) as reported by 'uname -p', except on Windows and Mac OS X | ||||
| Package 631/2359 | Hostname | OS / Arch | INSTALL | BUILD | CHECK | BUILD BIN | ||||||||
| DspikeIn 0.99.29 (landing page) Mitra Ghotbi
| nebbiolo2 | Linux (Ubuntu 24.04.3 LTS) / x86_64 | OK | OK | OK | |||||||||
| lconway | macOS 12.7.6 Monterey / x86_64 | OK | OK | OK | OK | |||||||||
| kjohnson3 | macOS 13.7.7 Ventura / arm64 | OK | OK | OK | OK | |||||||||
| taishan | Linux (openEuler 24.03 LTS) / aarch64 | OK | NA | NA | ||||||||||
|
To the developers/maintainers of the DspikeIn package: - Allow up to 24 hours (and sometimes 48 hours) for your latest push to git@git.bioconductor.org:packages/DspikeIn.git to reflect on this report. See Troubleshooting Build Report for more information. - Use the following Renviron settings to reproduce errors and warnings. - If 'R CMD check' started to fail recently on the Linux builder(s) over a missing dependency, add the missing dependency to 'Suggests:' in your DESCRIPTION file. See Renviron.bioc for more information. |
| Package: DspikeIn |
| Version: 0.99.29 |
| Command: /Library/Frameworks/R.framework/Resources/bin/R CMD check --install=check:DspikeIn.install-out.txt --library=/Library/Frameworks/R.framework/Resources/library --no-vignettes --timings DspikeIn_0.99.29.tar.gz |
| StartedAt: 2025-10-23 20:49:58 -0400 (Thu, 23 Oct 2025) |
| EndedAt: 2025-10-23 20:59:54 -0400 (Thu, 23 Oct 2025) |
| EllapsedTime: 596.5 seconds |
| RetCode: 0 |
| Status: OK |
| CheckDir: DspikeIn.Rcheck |
| Warnings: 0 |
##############################################################################
##############################################################################
###
### Running command:
###
### /Library/Frameworks/R.framework/Resources/bin/R CMD check --install=check:DspikeIn.install-out.txt --library=/Library/Frameworks/R.framework/Resources/library --no-vignettes --timings DspikeIn_0.99.29.tar.gz
###
##############################################################################
##############################################################################
* using log directory ‘/Users/biocbuild/bbs-3.22-bioc/meat/DspikeIn.Rcheck’
* using R version 4.5.1 Patched (2025-09-10 r88807)
* using platform: x86_64-apple-darwin20
* R was compiled by
Apple clang version 14.0.0 (clang-1400.0.29.202)
GNU Fortran (GCC) 14.2.0
* running under: macOS Monterey 12.7.6
* using session charset: UTF-8
* using option ‘--no-vignettes’
* checking for file ‘DspikeIn/DESCRIPTION’ ... OK
* checking extension type ... Package
* this is package ‘DspikeIn’ version ‘0.99.29’
* package encoding: UTF-8
* checking package namespace information ... OK
* checking package dependencies ... INFO
Imports includes 38 non-default packages.
Importing from so many packages makes the package vulnerable to any of
them becoming unavailable. Move as many as possible to Suggests and
use conditionally.
* checking if this is a source package ... OK
* checking if there is a namespace ... OK
* checking for hidden files and directories ... OK
* checking for portable file names ... OK
* checking for sufficient/correct file permissions ... OK
* checking whether package ‘DspikeIn’ can be installed ... OK
* checking installed package size ... OK
* checking package directory ... OK
* checking ‘build’ directory ... OK
* checking DESCRIPTION meta-information ... OK
* checking top-level files ... OK
* checking for left-over files ... OK
* checking index information ... OK
* checking package subdirectories ... OK
* checking code files for non-ASCII characters ... OK
* checking R files for syntax errors ... OK
* checking whether the package can be loaded ... OK
* checking whether the package can be loaded with stated dependencies ... OK
* checking whether the package can be unloaded cleanly ... OK
* checking whether the namespace can be loaded with stated dependencies ... OK
* checking whether the namespace can be unloaded cleanly ... OK
* checking whether startup messages can be suppressed ... OK
* checking dependencies in R code ... OK
* checking S3 generic/method consistency ... OK
* checking replacement functions ... OK
* checking foreign function calls ... OK
* checking R code for possible problems ... OK
* checking Rd files ... OK
* checking Rd metadata ... OK
* checking Rd cross-references ... NOTE
Non-topic package-anchored link(s) in Rd file 'label.Rd':
‘[phyloseq:tax_table-methods]{phyloseq::tax_table()}’
See section 'Cross-references' in the 'Writing R Extensions' manual.
* checking for missing documentation entries ... OK
* checking for code/documentation mismatches ... OK
* checking Rd \usage sections ... OK
* checking Rd contents ... OK
* checking for unstated dependencies in examples ... OK
* checking contents of ‘data’ directory ... OK
* checking data for non-ASCII characters ... OK
* checking LazyData ... OK
* checking data for ASCII and uncompressed saves ... OK
* checking files in ‘vignettes’ ... OK
* checking examples ... OK
Examples with CPU (user + system) or elapsed time > 5s
user system elapsed
taxa_barplot 44.355 1.349 45.933
plot_core_microbiome_custom 27.111 0.745 27.997
RandomForest_selected 21.119 0.578 21.831
summ_ASV_OTUID 18.470 0.482 19.047
convert_to_absolute_counts 12.265 0.374 12.721
node_level_metrics 11.887 0.219 12.167
calculate_spike_percentage 10.177 0.794 11.062
Pre_processing_hashcodes 9.058 0.250 9.353
quadrant_plot 7.407 0.179 7.624
ridge_plot_it 6.780 0.134 6.947
random_subsample_WithReductionFactor 5.299 0.945 6.325
normalization_set 5.175 0.385 5.594
alluvial_plot 4.992 0.205 5.227
proportion_adj 4.942 0.158 5.135
* checking for unstated dependencies in ‘tests’ ... OK
* checking tests ...
Running ‘testthat.R’
OK
* checking for unstated dependencies in vignettes ... OK
* checking package vignettes ... OK
* checking running R code from vignettes ... SKIPPED
* checking re-building of vignette outputs ... SKIPPED
* checking PDF version of manual ... OK
* DONE
Status: 1 NOTE
See
‘/Users/biocbuild/bbs-3.22-bioc/meat/DspikeIn.Rcheck/00check.log’
for details.
DspikeIn.Rcheck/00install.out
############################################################################## ############################################################################## ### ### Running command: ### ### /Library/Frameworks/R.framework/Resources/bin/R CMD INSTALL DspikeIn ### ############################################################################## ############################################################################## * installing to library ‘/Library/Frameworks/R.framework/Versions/4.5-x86_64/Resources/library’ * installing *source* package ‘DspikeIn’ ... ** this is package ‘DspikeIn’ version ‘0.99.29’ ** using staged installation ** R ** data *** moving datasets to lazyload DB ** inst ** byte-compile and prepare package for lazy loading ** help *** installing help indices ** building package indices ** installing vignettes ** testing if installed package can be loaded from temporary location ** testing if installed package can be loaded from final location ** testing if installed package keeps a record of temporary installation path * DONE (DspikeIn)
DspikeIn.Rcheck/tests/testthat.Rout
R version 4.5.1 Patched (2025-09-10 r88807) -- "Great Square Root"
Copyright (C) 2025 The R Foundation for Statistical Computing
Platform: x86_64-apple-darwin20
R is free software and comes with ABSOLUTELY NO WARRANTY.
You are welcome to redistribute it under certain conditions.
Type 'license()' or 'licence()' for distribution details.
R is a collaborative project with many contributors.
Type 'contributors()' for more information and
'citation()' on how to cite R or R packages in publications.
Type 'demo()' for some demos, 'help()' for on-line help, or
'help.start()' for an HTML browser interface to help.
Type 'q()' to quit R.
> # This file is part of the standard setup for testthat.
> # It is recommended that you do not modify it.
> #
> # Where should you do additional test configuration?
> # Learn more about the roles of various files in:
> # * https://r-pkgs.org/testing-design.html#sec-tests-files-overview
> # * https://testthat.r-lib.org/articles/special-files.html
>
> library(testthat)
> library(DspikeIn)
Thank you for using DspikeIn! 🎉
For support, 📧 contact: Mitra Ghotbi (mitra.ghotbi@gmail.com)
GitHub Repository: https://github.com/mghotbi/DspikeIn
🐛 Found a bug or have a suggestion? Open an issue:
https://github.com/mghotbi/DspikeIn/issues
>
> test_check("DspikeIn")
[ FAIL 0 | WARN 0 | SKIP 13 | PASS 0 ]
══ Skipped tests (13) ══════════════════════════════════════════════════════════
• On Bioconductor (13): 'test-Pre_processing_species.R:1:1',
'test-RandomForest_selected.R:1:1', 'test-calculate_spikeIn_factors.R:1:1',
'test-calculate_spike_percentage.R:1:1',
'test-calculate_summary_stats_table.R:1:1', 'test-conclusion.R:1:1',
'test-convert_to_absolute_counts.R:1:1',
'test-imbalance_calculate_list_average_scaling_factors.R:1:1',
'test-node_level_metrics.R:1:1', 'test-perform_and_visualize_DA.R:1:1',
'test-quadrant_plot.R:1:1', 'test-remove_zero_negative_count_samples.R:1:1',
'test-simulate_robustness.R:1:1'
[ FAIL 0 | WARN 0 | SKIP 13 | PASS 0 ]
>
> proc.time()
user system elapsed
13.781 0.837 14.689
DspikeIn.Rcheck/DspikeIn-Ex.timings
| name | user | system | elapsed | |
| AcceptableRange | 0.961 | 0.021 | 0.987 | |
| MG_shapes | 0.632 | 0.013 | 0.648 | |
| Pre_processing_hashcodes | 9.058 | 0.250 | 9.353 | |
| Pre_processing_species | 4.429 | 0.095 | 4.545 | |
| Pre_processing_species_list | 0.405 | 0.007 | 0.415 | |
| RandomForest_selected | 21.119 | 0.578 | 21.831 | |
| adjust_abundance_one_third | 1.912 | 0.121 | 2.053 | |
| adjusted_prevalence | 1.754 | 0.060 | 1.828 | |
| alluvial_plot | 4.992 | 0.205 | 5.227 | |
| calculate_list_average_scaling_factors | 0.050 | 0.004 | 0.054 | |
| calculate_spikeIn_factors | 4.254 | 0.170 | 4.457 | |
| calculate_spike_percentage | 10.177 | 0.794 | 11.062 | |
| calculate_spike_percentage_list | 0.726 | 0.081 | 0.810 | |
| calculate_summary_stats_table | 0.155 | 0.008 | 0.165 | |
| color_palette | 0.473 | 0.004 | 0.478 | |
| conclusion | 1.626 | 0.144 | 1.782 | |
| convert_categorical_to_factors | 0.249 | 0.004 | 0.253 | |
| convert_phyloseq_to_tse | 0.621 | 0.025 | 0.650 | |
| convert_to_absolute_counts | 12.265 | 0.374 | 12.721 | |
| convert_tse_to_phyloseq | 0.932 | 0.077 | 1.016 | |
| create_directory | 0.000 | 0.001 | 0.001 | |
| degree_network | 3.356 | 0.088 | 3.475 | |
| detect_common_asvs_taxa | 0.000 | 0.001 | 0.001 | |
| extract_neighbors | 0.018 | 0.004 | 0.021 | |
| filter_and_split_abundance | 3.021 | 0.121 | 3.175 | |
| get_long_format_data | 1.667 | 0.116 | 1.799 | |
| gm_mean | 0 | 0 | 0 | |
| imbalance_calculate_list_average_scaling_factors | 0.175 | 0.005 | 0.183 | |
| label | 0.038 | 0.002 | 0.042 | |
| metadata_full | 0.023 | 0.009 | 0.032 | |
| my_custom_theme | 0.483 | 0.008 | 0.497 | |
| node_level_metrics | 11.887 | 0.219 | 12.167 | |
| norm.DESeq | 3.227 | 0.143 | 3.384 | |
| normalization_set | 5.175 | 0.385 | 5.594 | |
| perform_and_visualize_DA | 0 | 0 | 0 | |
| physeq | 0.036 | 0.001 | 0.038 | |
| physeq_16SOTU | 0.205 | 0.074 | 0.280 | |
| physeq_ITSOTU | 0.223 | 0.102 | 0.328 | |
| plot_core_microbiome_custom | 27.111 | 0.745 | 27.997 | |
| plot_spikein_tree_diagnostic | 0.001 | 0.000 | 0.000 | |
| plotbar_abundance | 0.000 | 0.000 | 0.001 | |
| proportion_adj | 4.942 | 0.158 | 5.135 | |
| quadrant_plot | 7.407 | 0.179 | 7.624 | |
| random_subsample_WithReductionFactor | 5.299 | 0.945 | 6.325 | |
| randomsubsample_Trimmed_evenDepth | 3.036 | 0.265 | 3.322 | |
| regression_plot | 1.178 | 0.087 | 1.272 | |
| relativized_filtered_taxa | 0.363 | 0.003 | 0.367 | |
| remove_zero_negative_count_samples | 0.401 | 0.064 | 0.469 | |
| ridge_plot_it | 6.780 | 0.134 | 6.947 | |
| set_nf | 0.260 | 0.003 | 0.265 | |
| simulate_network_robustness | 3.202 | 0.100 | 3.320 | |
| summ_ASV_OTUID | 18.470 | 0.482 | 19.047 | |
| summ_count_phyloseq | 1.109 | 0.008 | 1.121 | |
| summ_phyloseq_sampleID | 3.413 | 1.110 | 4.597 | |
| taxa_barplot | 44.355 | 1.349 | 45.933 | |
| tidy_phyloseq_tse | 2.515 | 0.053 | 2.581 | |
| tse | 0.043 | 0.003 | 0.044 | |
| validate_spikein_clade | 0.679 | 0.037 | 0.734 | |
| weight_Network | 2.786 | 0.102 | 2.901 | |