| Back to Multiple platform build/check report for BioC 3.22: simplified long |
|
This page was generated on 2025-10-24 12:06 -0400 (Fri, 24 Oct 2025).
| Hostname | OS | Arch (*) | R version | Installed pkgs |
|---|---|---|---|---|
| nebbiolo2 | Linux (Ubuntu 24.04.3 LTS) | x86_64 | 4.5.1 Patched (2025-08-23 r88802) -- "Great Square Root" | 4898 |
| lconway | macOS 12.7.6 Monterey | x86_64 | 4.5.1 Patched (2025-09-10 r88807) -- "Great Square Root" | 4688 |
| kjohnson3 | macOS 13.7.7 Ventura | arm64 | 4.5.1 Patched (2025-09-10 r88807) -- "Great Square Root" | 4634 |
| taishan | Linux (openEuler 24.03 LTS) | aarch64 | 4.5.0 (2025-04-11) -- "How About a Twenty-Six" | 4658 |
| Click on any hostname to see more info about the system (e.g. compilers) (*) as reported by 'uname -p', except on Windows and Mac OS X | ||||
| Package 631/2359 | Hostname | OS / Arch | INSTALL | BUILD | CHECK | BUILD BIN | ||||||||
| DspikeIn 0.99.29 (landing page) Mitra Ghotbi
| nebbiolo2 | Linux (Ubuntu 24.04.3 LTS) / x86_64 | OK | OK | OK | |||||||||
| lconway | macOS 12.7.6 Monterey / x86_64 | OK | OK | OK | OK | |||||||||
| kjohnson3 | macOS 13.7.7 Ventura / arm64 | OK | OK | OK | OK | |||||||||
| taishan | Linux (openEuler 24.03 LTS) / aarch64 | OK | NA | NA | ||||||||||
|
To the developers/maintainers of the DspikeIn package: - Allow up to 24 hours (and sometimes 48 hours) for your latest push to git@git.bioconductor.org:packages/DspikeIn.git to reflect on this report. See Troubleshooting Build Report for more information. - Use the following Renviron settings to reproduce errors and warnings. - If 'R CMD check' started to fail recently on the Linux builder(s) over a missing dependency, add the missing dependency to 'Suggests:' in your DESCRIPTION file. See Renviron.bioc for more information. |
| Package: DspikeIn |
| Version: 0.99.29 |
| Command: /Library/Frameworks/R.framework/Resources/bin/R CMD check --install=check:DspikeIn.install-out.txt --library=/Library/Frameworks/R.framework/Resources/library --no-vignettes --timings DspikeIn_0.99.29.tar.gz |
| StartedAt: 2025-10-23 19:38:57 -0400 (Thu, 23 Oct 2025) |
| EndedAt: 2025-10-23 19:42:26 -0400 (Thu, 23 Oct 2025) |
| EllapsedTime: 208.5 seconds |
| RetCode: 0 |
| Status: OK |
| CheckDir: DspikeIn.Rcheck |
| Warnings: 0 |
##############################################################################
##############################################################################
###
### Running command:
###
### /Library/Frameworks/R.framework/Resources/bin/R CMD check --install=check:DspikeIn.install-out.txt --library=/Library/Frameworks/R.framework/Resources/library --no-vignettes --timings DspikeIn_0.99.29.tar.gz
###
##############################################################################
##############################################################################
* using log directory ‘/Users/biocbuild/bbs-3.22-bioc/meat/DspikeIn.Rcheck’
* using R version 4.5.1 Patched (2025-09-10 r88807)
* using platform: aarch64-apple-darwin20
* R was compiled by
Apple clang version 16.0.0 (clang-1600.0.26.6)
GNU Fortran (GCC) 14.2.0
* running under: macOS Ventura 13.7.7
* using session charset: UTF-8
* using option ‘--no-vignettes’
* checking for file ‘DspikeIn/DESCRIPTION’ ... OK
* checking extension type ... Package
* this is package ‘DspikeIn’ version ‘0.99.29’
* package encoding: UTF-8
* checking package namespace information ... OK
* checking package dependencies ... INFO
Imports includes 38 non-default packages.
Importing from so many packages makes the package vulnerable to any of
them becoming unavailable. Move as many as possible to Suggests and
use conditionally.
* checking if this is a source package ... OK
* checking if there is a namespace ... OK
* checking for hidden files and directories ... OK
* checking for portable file names ... OK
* checking for sufficient/correct file permissions ... OK
* checking whether package ‘DspikeIn’ can be installed ... OK
* checking installed package size ... OK
* checking package directory ... OK
* checking ‘build’ directory ... OK
* checking DESCRIPTION meta-information ... OK
* checking top-level files ... OK
* checking for left-over files ... OK
* checking index information ... OK
* checking package subdirectories ... OK
* checking code files for non-ASCII characters ... OK
* checking R files for syntax errors ... OK
* checking whether the package can be loaded ... OK
* checking whether the package can be loaded with stated dependencies ... OK
* checking whether the package can be unloaded cleanly ... OK
* checking whether the namespace can be loaded with stated dependencies ... OK
* checking whether the namespace can be unloaded cleanly ... OK
* checking whether startup messages can be suppressed ... OK
* checking dependencies in R code ... OK
* checking S3 generic/method consistency ... OK
* checking replacement functions ... OK
* checking foreign function calls ... OK
* checking R code for possible problems ... OK
* checking Rd files ... OK
* checking Rd metadata ... OK
* checking Rd cross-references ... NOTE
Non-topic package-anchored link(s) in Rd file 'label.Rd':
‘[phyloseq:tax_table-methods]{phyloseq::tax_table()}’
See section 'Cross-references' in the 'Writing R Extensions' manual.
* checking for missing documentation entries ... OK
* checking for code/documentation mismatches ... OK
* checking Rd \usage sections ... OK
* checking Rd contents ... OK
* checking for unstated dependencies in examples ... OK
* checking contents of ‘data’ directory ... OK
* checking data for non-ASCII characters ... OK
* checking LazyData ... OK
* checking data for ASCII and uncompressed saves ... OK
* checking files in ‘vignettes’ ... OK
* checking examples ... OK
Examples with CPU (user + system) or elapsed time > 5s
user system elapsed
taxa_barplot 11.465 0.888 12.474
plot_core_microbiome_custom 7.747 0.569 8.394
RandomForest_selected 6.914 0.230 7.201
summ_ASV_OTUID 5.417 0.347 5.855
convert_to_absolute_counts 5.092 0.160 5.255
* checking for unstated dependencies in ‘tests’ ... OK
* checking tests ...
Running ‘testthat.R’
OK
* checking for unstated dependencies in vignettes ... OK
* checking package vignettes ... OK
* checking running R code from vignettes ... SKIPPED
* checking re-building of vignette outputs ... SKIPPED
* checking PDF version of manual ... OK
* DONE
Status: 1 NOTE
See
‘/Users/biocbuild/bbs-3.22-bioc/meat/DspikeIn.Rcheck/00check.log’
for details.
DspikeIn.Rcheck/00install.out
############################################################################## ############################################################################## ### ### Running command: ### ### /Library/Frameworks/R.framework/Resources/bin/R CMD INSTALL DspikeIn ### ############################################################################## ############################################################################## * installing to library ‘/Library/Frameworks/R.framework/Versions/4.5-arm64/Resources/library’ * installing *source* package ‘DspikeIn’ ... ** this is package ‘DspikeIn’ version ‘0.99.29’ ** using staged installation ** R ** data *** moving datasets to lazyload DB ** inst ** byte-compile and prepare package for lazy loading ** help *** installing help indices ** building package indices ** installing vignettes ** testing if installed package can be loaded from temporary location ** testing if installed package can be loaded from final location ** testing if installed package keeps a record of temporary installation path * DONE (DspikeIn)
DspikeIn.Rcheck/tests/testthat.Rout
R version 4.5.1 Patched (2025-09-10 r88807) -- "Great Square Root"
Copyright (C) 2025 The R Foundation for Statistical Computing
Platform: aarch64-apple-darwin20
R is free software and comes with ABSOLUTELY NO WARRANTY.
You are welcome to redistribute it under certain conditions.
Type 'license()' or 'licence()' for distribution details.
R is a collaborative project with many contributors.
Type 'contributors()' for more information and
'citation()' on how to cite R or R packages in publications.
Type 'demo()' for some demos, 'help()' for on-line help, or
'help.start()' for an HTML browser interface to help.
Type 'q()' to quit R.
> # This file is part of the standard setup for testthat.
> # It is recommended that you do not modify it.
> #
> # Where should you do additional test configuration?
> # Learn more about the roles of various files in:
> # * https://r-pkgs.org/testing-design.html#sec-tests-files-overview
> # * https://testthat.r-lib.org/articles/special-files.html
>
> library(testthat)
> library(DspikeIn)
Thank you for using DspikeIn! 🎉
For support, 📧 contact: Mitra Ghotbi (mitra.ghotbi@gmail.com)
GitHub Repository: https://github.com/mghotbi/DspikeIn
🐛 Found a bug or have a suggestion? Open an issue:
https://github.com/mghotbi/DspikeIn/issues
>
> test_check("DspikeIn")
[ FAIL 0 | WARN 0 | SKIP 13 | PASS 0 ]
══ Skipped tests (13) ══════════════════════════════════════════════════════════
• On Bioconductor (13): 'test-Pre_processing_species.R:1:1',
'test-RandomForest_selected.R:1:1', 'test-calculate_spikeIn_factors.R:1:1',
'test-calculate_spike_percentage.R:1:1',
'test-calculate_summary_stats_table.R:1:1', 'test-conclusion.R:1:1',
'test-convert_to_absolute_counts.R:1:1',
'test-imbalance_calculate_list_average_scaling_factors.R:1:1',
'test-node_level_metrics.R:1:1', 'test-perform_and_visualize_DA.R:1:1',
'test-quadrant_plot.R:1:1', 'test-remove_zero_negative_count_samples.R:1:1',
'test-simulate_robustness.R:1:1'
[ FAIL 0 | WARN 0 | SKIP 13 | PASS 0 ]
>
> proc.time()
user system elapsed
4.827 0.212 5.098
DspikeIn.Rcheck/DspikeIn-Ex.timings
| name | user | system | elapsed | |
| AcceptableRange | 0.414 | 0.005 | 0.437 | |
| MG_shapes | 0.172 | 0.003 | 0.184 | |
| Pre_processing_hashcodes | 4.078 | 0.083 | 4.208 | |
| Pre_processing_species | 1.959 | 0.036 | 2.006 | |
| Pre_processing_species_list | 0.104 | 0.001 | 0.106 | |
| RandomForest_selected | 6.914 | 0.230 | 7.201 | |
| adjust_abundance_one_third | 0.739 | 0.047 | 0.795 | |
| adjusted_prevalence | 0.686 | 0.019 | 0.714 | |
| alluvial_plot | 1.888 | 0.072 | 1.997 | |
| calculate_list_average_scaling_factors | 0.013 | 0.000 | 0.014 | |
| calculate_spikeIn_factors | 1.657 | 0.073 | 1.732 | |
| calculate_spike_percentage | 3.488 | 0.352 | 3.865 | |
| calculate_spike_percentage_list | 0.245 | 0.029 | 0.275 | |
| calculate_summary_stats_table | 0.040 | 0.002 | 0.043 | |
| color_palette | 0.129 | 0.001 | 0.130 | |
| conclusion | 0.511 | 0.073 | 0.583 | |
| convert_categorical_to_factors | 0.116 | 0.008 | 0.124 | |
| convert_phyloseq_to_tse | 0.219 | 0.006 | 0.226 | |
| convert_to_absolute_counts | 5.092 | 0.160 | 5.255 | |
| convert_tse_to_phyloseq | 0.308 | 0.022 | 0.331 | |
| create_directory | 0 | 0 | 0 | |
| degree_network | 0.847 | 0.035 | 0.891 | |
| detect_common_asvs_taxa | 0 | 0 | 0 | |
| extract_neighbors | 0.006 | 0.001 | 0.008 | |
| filter_and_split_abundance | 1.398 | 0.035 | 1.436 | |
| get_long_format_data | 0.638 | 0.038 | 0.676 | |
| gm_mean | 0 | 0 | 0 | |
| imbalance_calculate_list_average_scaling_factors | 0.043 | 0.001 | 0.043 | |
| label | 0.014 | 0.000 | 0.014 | |
| metadata_full | 0.008 | 0.001 | 0.008 | |
| my_custom_theme | 0.191 | 0.003 | 0.194 | |
| node_level_metrics | 3.408 | 0.100 | 3.701 | |
| norm.DESeq | 0.963 | 0.089 | 1.064 | |
| normalization_set | 1.925 | 0.194 | 2.142 | |
| perform_and_visualize_DA | 0 | 0 | 0 | |
| physeq | 0.010 | 0.001 | 0.010 | |
| physeq_16SOTU | 0.109 | 0.027 | 0.138 | |
| physeq_ITSOTU | 0.104 | 0.037 | 0.142 | |
| plot_core_microbiome_custom | 7.747 | 0.569 | 8.394 | |
| plot_spikein_tree_diagnostic | 0 | 0 | 0 | |
| plotbar_abundance | 0.000 | 0.000 | 0.001 | |
| proportion_adj | 2.541 | 0.114 | 2.660 | |
| quadrant_plot | 2.252 | 0.082 | 2.334 | |
| random_subsample_WithReductionFactor | 1.692 | 0.566 | 2.276 | |
| randomsubsample_Trimmed_evenDepth | 1.111 | 0.102 | 1.246 | |
| regression_plot | 0.357 | 0.021 | 0.378 | |
| relativized_filtered_taxa | 0.161 | 0.023 | 0.184 | |
| remove_zero_negative_count_samples | 0.177 | 0.037 | 0.214 | |
| ridge_plot_it | 1.912 | 0.103 | 2.050 | |
| set_nf | 0.105 | 0.010 | 0.115 | |
| simulate_network_robustness | 1.098 | 0.027 | 1.138 | |
| summ_ASV_OTUID | 5.417 | 0.347 | 5.855 | |
| summ_count_phyloseq | 0.357 | 0.038 | 0.398 | |
| summ_phyloseq_sampleID | 1.110 | 0.410 | 1.521 | |
| taxa_barplot | 11.465 | 0.888 | 12.474 | |
| tidy_phyloseq_tse | 0.929 | 0.047 | 0.977 | |
| tse | 0.011 | 0.001 | 0.012 | |
| validate_spikein_clade | 0.215 | 0.008 | 0.225 | |
| weight_Network | 1.302 | 0.034 | 1.338 | |