| Back to Multiple platform build/check report for BioC 3.22: simplified long |
|
This page was generated on 2025-10-24 12:03 -0400 (Fri, 24 Oct 2025).
| Hostname | OS | Arch (*) | R version | Installed pkgs |
|---|---|---|---|---|
| nebbiolo2 | Linux (Ubuntu 24.04.3 LTS) | x86_64 | 4.5.1 Patched (2025-08-23 r88802) -- "Great Square Root" | 4898 |
| lconway | macOS 12.7.6 Monterey | x86_64 | 4.5.1 Patched (2025-09-10 r88807) -- "Great Square Root" | 4688 |
| kjohnson3 | macOS 13.7.7 Ventura | arm64 | 4.5.1 Patched (2025-09-10 r88807) -- "Great Square Root" | 4634 |
| taishan | Linux (openEuler 24.03 LTS) | aarch64 | 4.5.0 (2025-04-11) -- "How About a Twenty-Six" | 4658 |
| Click on any hostname to see more info about the system (e.g. compilers) (*) as reported by 'uname -p', except on Windows and Mac OS X | ||||
| Package 631/2359 | Hostname | OS / Arch | INSTALL | BUILD | CHECK | BUILD BIN | ||||||||
| DspikeIn 0.99.29 (landing page) Mitra Ghotbi
| nebbiolo2 | Linux (Ubuntu 24.04.3 LTS) / x86_64 | OK | OK | OK | |||||||||
| lconway | macOS 12.7.6 Monterey / x86_64 | OK | OK | OK | OK | |||||||||
| kjohnson3 | macOS 13.7.7 Ventura / arm64 | OK | OK | OK | OK | |||||||||
| taishan | Linux (openEuler 24.03 LTS) / aarch64 | OK | NA | NA | ||||||||||
|
To the developers/maintainers of the DspikeIn package: - Allow up to 24 hours (and sometimes 48 hours) for your latest push to git@git.bioconductor.org:packages/DspikeIn.git to reflect on this report. See Troubleshooting Build Report for more information. - Use the following Renviron settings to reproduce errors and warnings. - If 'R CMD check' started to fail recently on the Linux builder(s) over a missing dependency, add the missing dependency to 'Suggests:' in your DESCRIPTION file. See Renviron.bioc for more information. |
| Package: DspikeIn |
| Version: 0.99.29 |
| Command: /home/biocbuild/bbs-3.22-bioc/R/bin/R CMD check --install=check:DspikeIn.install-out.txt --library=/home/biocbuild/bbs-3.22-bioc/R/site-library --timings DspikeIn_0.99.29.tar.gz |
| StartedAt: 2025-10-23 23:13:15 -0400 (Thu, 23 Oct 2025) |
| EndedAt: 2025-10-23 23:26:10 -0400 (Thu, 23 Oct 2025) |
| EllapsedTime: 774.9 seconds |
| RetCode: 0 |
| Status: OK |
| CheckDir: DspikeIn.Rcheck |
| Warnings: 0 |
##############################################################################
##############################################################################
###
### Running command:
###
### /home/biocbuild/bbs-3.22-bioc/R/bin/R CMD check --install=check:DspikeIn.install-out.txt --library=/home/biocbuild/bbs-3.22-bioc/R/site-library --timings DspikeIn_0.99.29.tar.gz
###
##############################################################################
##############################################################################
* using log directory ‘/home/biocbuild/bbs-3.22-bioc/meat/DspikeIn.Rcheck’
* using R version 4.5.1 Patched (2025-08-23 r88802)
* using platform: x86_64-pc-linux-gnu
* R was compiled by
gcc (Ubuntu 13.3.0-6ubuntu2~24.04) 13.3.0
GNU Fortran (Ubuntu 13.3.0-6ubuntu2~24.04) 13.3.0
* running under: Ubuntu 24.04.3 LTS
* using session charset: UTF-8
* checking for file ‘DspikeIn/DESCRIPTION’ ... OK
* checking extension type ... Package
* this is package ‘DspikeIn’ version ‘0.99.29’
* package encoding: UTF-8
* checking package namespace information ... OK
* checking package dependencies ... INFO
Imports includes 38 non-default packages.
Importing from so many packages makes the package vulnerable to any of
them becoming unavailable. Move as many as possible to Suggests and
use conditionally.
* checking if this is a source package ... OK
* checking if there is a namespace ... OK
* checking for hidden files and directories ... OK
* checking for portable file names ... OK
* checking for sufficient/correct file permissions ... OK
* checking whether package ‘DspikeIn’ can be installed ... OK
* checking installed package size ... OK
* checking package directory ... OK
* checking ‘build’ directory ... OK
* checking DESCRIPTION meta-information ... OK
* checking top-level files ... OK
* checking for left-over files ... OK
* checking index information ... OK
* checking package subdirectories ... OK
* checking code files for non-ASCII characters ... OK
* checking R files for syntax errors ... OK
* checking whether the package can be loaded ... OK
* checking whether the package can be loaded with stated dependencies ... OK
* checking whether the package can be unloaded cleanly ... OK
* checking whether the namespace can be loaded with stated dependencies ... OK
* checking whether the namespace can be unloaded cleanly ... OK
* checking loading without being on the library search path ... OK
* checking whether startup messages can be suppressed ... OK
* checking dependencies in R code ... OK
* checking S3 generic/method consistency ... OK
* checking replacement functions ... OK
* checking foreign function calls ... OK
* checking R code for possible problems ... OK
* checking Rd files ... OK
* checking Rd metadata ... OK
* checking Rd cross-references ... NOTE
Non-topic package-anchored link(s) in Rd file 'label.Rd':
‘[phyloseq:tax_table-methods]{phyloseq::tax_table()}’
See section 'Cross-references' in the 'Writing R Extensions' manual.
* checking for missing documentation entries ... OK
* checking for code/documentation mismatches ... OK
* checking Rd \usage sections ... OK
* checking Rd contents ... OK
* checking for unstated dependencies in examples ... OK
* checking contents of ‘data’ directory ... OK
* checking data for non-ASCII characters ... OK
* checking LazyData ... OK
* checking data for ASCII and uncompressed saves ... OK
* checking files in ‘vignettes’ ... OK
* checking examples ... OK
Examples with CPU (user + system) or elapsed time > 5s
user system elapsed
taxa_barplot 37.768 0.257 38.026
plot_core_microbiome_custom 22.700 0.029 22.730
RandomForest_selected 18.212 0.244 18.456
summ_ASV_OTUID 16.299 0.114 16.413
node_level_metrics 10.466 0.087 10.447
convert_to_absolute_counts 9.765 0.045 9.811
calculate_spike_percentage 8.263 0.276 8.310
Pre_processing_hashcodes 7.057 0.401 7.464
quadrant_plot 6.985 0.028 6.877
ridge_plot_it 5.743 0.002 5.746
* checking for unstated dependencies in ‘tests’ ... OK
* checking tests ...
Running ‘testthat.R’
OK
* checking for unstated dependencies in vignettes ... OK
* checking package vignettes ... OK
* checking re-building of vignette outputs ... OK
* checking PDF version of manual ... OK
* DONE
Status: 1 NOTE
See
‘/home/biocbuild/bbs-3.22-bioc/meat/DspikeIn.Rcheck/00check.log’
for details.
DspikeIn.Rcheck/00install.out
############################################################################## ############################################################################## ### ### Running command: ### ### /home/biocbuild/bbs-3.22-bioc/R/bin/R CMD INSTALL DspikeIn ### ############################################################################## ############################################################################## * installing to library ‘/home/biocbuild/bbs-3.22-bioc/R/site-library’ * installing *source* package ‘DspikeIn’ ... ** this is package ‘DspikeIn’ version ‘0.99.29’ ** using staged installation ** R ** data *** moving datasets to lazyload DB ** inst ** byte-compile and prepare package for lazy loading ** help *** installing help indices ** building package indices ** installing vignettes ** testing if installed package can be loaded from temporary location ** testing if installed package can be loaded from final location ** testing if installed package keeps a record of temporary installation path * DONE (DspikeIn)
DspikeIn.Rcheck/tests/testthat.Rout
R version 4.5.1 Patched (2025-08-23 r88802) -- "Great Square Root"
Copyright (C) 2025 The R Foundation for Statistical Computing
Platform: x86_64-pc-linux-gnu
R is free software and comes with ABSOLUTELY NO WARRANTY.
You are welcome to redistribute it under certain conditions.
Type 'license()' or 'licence()' for distribution details.
R is a collaborative project with many contributors.
Type 'contributors()' for more information and
'citation()' on how to cite R or R packages in publications.
Type 'demo()' for some demos, 'help()' for on-line help, or
'help.start()' for an HTML browser interface to help.
Type 'q()' to quit R.
> # This file is part of the standard setup for testthat.
> # It is recommended that you do not modify it.
> #
> # Where should you do additional test configuration?
> # Learn more about the roles of various files in:
> # * https://r-pkgs.org/testing-design.html#sec-tests-files-overview
> # * https://testthat.r-lib.org/articles/special-files.html
>
> library(testthat)
> library(DspikeIn)
Thank you for using DspikeIn! 🎉
For support, 📧 contact: Mitra Ghotbi (mitra.ghotbi@gmail.com)
GitHub Repository: https://github.com/mghotbi/DspikeIn
🐛 Found a bug or have a suggestion? Open an issue:
https://github.com/mghotbi/DspikeIn/issues
>
> test_check("DspikeIn")
[ FAIL 0 | WARN 0 | SKIP 13 | PASS 0 ]
══ Skipped tests (13) ══════════════════════════════════════════════════════════
• On Bioconductor (13): 'test-Pre_processing_species.R:1:1',
'test-RandomForest_selected.R:1:1', 'test-calculate_spikeIn_factors.R:1:1',
'test-calculate_spike_percentage.R:1:1',
'test-calculate_summary_stats_table.R:1:1', 'test-conclusion.R:1:1',
'test-convert_to_absolute_counts.R:1:1',
'test-imbalance_calculate_list_average_scaling_factors.R:1:1',
'test-node_level_metrics.R:1:1', 'test-perform_and_visualize_DA.R:1:1',
'test-quadrant_plot.R:1:1', 'test-remove_zero_negative_count_samples.R:1:1',
'test-simulate_robustness.R:1:1'
[ FAIL 0 | WARN 0 | SKIP 13 | PASS 0 ]
>
> proc.time()
user system elapsed
12.342 0.604 12.932
DspikeIn.Rcheck/DspikeIn-Ex.timings
| name | user | system | elapsed | |
| AcceptableRange | 0.869 | 0.021 | 0.890 | |
| MG_shapes | 0.481 | 0.004 | 0.485 | |
| Pre_processing_hashcodes | 7.057 | 0.401 | 7.464 | |
| Pre_processing_species | 3.468 | 0.068 | 3.536 | |
| Pre_processing_species_list | 0.298 | 0.000 | 0.299 | |
| RandomForest_selected | 18.212 | 0.244 | 18.456 | |
| adjust_abundance_one_third | 1.671 | 0.170 | 1.841 | |
| adjusted_prevalence | 1.684 | 0.032 | 1.717 | |
| alluvial_plot | 4.373 | 0.020 | 4.394 | |
| calculate_list_average_scaling_factors | 0.04 | 0.00 | 0.04 | |
| calculate_spikeIn_factors | 3.154 | 0.050 | 3.203 | |
| calculate_spike_percentage | 8.263 | 0.276 | 8.310 | |
| calculate_spike_percentage_list | 0.608 | 0.014 | 0.626 | |
| calculate_summary_stats_table | 0.129 | 0.002 | 0.131 | |
| color_palette | 0.395 | 0.001 | 0.397 | |
| conclusion | 1.625 | 0.082 | 1.708 | |
| convert_categorical_to_factors | 0.262 | 0.001 | 0.264 | |
| convert_phyloseq_to_tse | 0.57 | 0.00 | 0.57 | |
| convert_to_absolute_counts | 9.765 | 0.045 | 9.811 | |
| convert_tse_to_phyloseq | 0.838 | 0.014 | 0.852 | |
| create_directory | 0 | 0 | 0 | |
| degree_network | 2.393 | 0.008 | 2.403 | |
| detect_common_asvs_taxa | 0 | 0 | 0 | |
| extract_neighbors | 0.018 | 0.001 | 0.019 | |
| filter_and_split_abundance | 2.441 | 0.015 | 2.456 | |
| get_long_format_data | 1.680 | 0.051 | 1.731 | |
| gm_mean | 0 | 0 | 0 | |
| imbalance_calculate_list_average_scaling_factors | 0.123 | 0.001 | 0.124 | |
| label | 0.029 | 0.000 | 0.029 | |
| metadata_full | 0.018 | 0.001 | 0.019 | |
| my_custom_theme | 0.425 | 0.001 | 0.426 | |
| node_level_metrics | 10.466 | 0.087 | 10.447 | |
| norm.DESeq | 2.861 | 0.086 | 2.947 | |
| normalization_set | 4.694 | 0.185 | 4.879 | |
| perform_and_visualize_DA | 0 | 0 | 0 | |
| physeq | 0.030 | 0.002 | 0.032 | |
| physeq_16SOTU | 0.220 | 0.012 | 0.231 | |
| physeq_ITSOTU | 0.203 | 0.014 | 0.217 | |
| plot_core_microbiome_custom | 22.700 | 0.029 | 22.730 | |
| plot_spikein_tree_diagnostic | 0.001 | 0.000 | 0.000 | |
| plotbar_abundance | 0 | 0 | 0 | |
| proportion_adj | 3.927 | 0.054 | 3.980 | |
| quadrant_plot | 6.985 | 0.028 | 6.877 | |
| random_subsample_WithReductionFactor | 4.513 | 0.037 | 4.550 | |
| randomsubsample_Trimmed_evenDepth | 2.805 | 0.062 | 2.867 | |
| regression_plot | 1.070 | 0.002 | 1.073 | |
| relativized_filtered_taxa | 0.382 | 0.000 | 0.382 | |
| remove_zero_negative_count_samples | 0.406 | 0.000 | 0.406 | |
| ridge_plot_it | 5.743 | 0.002 | 5.746 | |
| set_nf | 0.260 | 0.015 | 0.275 | |
| simulate_network_robustness | 2.944 | 0.011 | 2.955 | |
| summ_ASV_OTUID | 16.299 | 0.114 | 16.413 | |
| summ_count_phyloseq | 1.054 | 0.001 | 1.056 | |
| summ_phyloseq_sampleID | 2.872 | 0.034 | 2.907 | |
| taxa_barplot | 37.768 | 0.257 | 38.026 | |
| tidy_phyloseq_tse | 2.151 | 0.073 | 2.224 | |
| tse | 0.041 | 0.000 | 0.040 | |
| validate_spikein_clade | 0.504 | 0.007 | 0.516 | |
| weight_Network | 2.692 | 0.002 | 2.694 | |