| Back to Multiple platform build/check report for BioC 3.22: simplified long |
|
This page was generated on 2025-10-24 12:04 -0400 (Fri, 24 Oct 2025).
| Hostname | OS | Arch (*) | R version | Installed pkgs |
|---|---|---|---|---|
| nebbiolo2 | Linux (Ubuntu 24.04.3 LTS) | x86_64 | 4.5.1 Patched (2025-08-23 r88802) -- "Great Square Root" | 4898 |
| lconway | macOS 12.7.6 Monterey | x86_64 | 4.5.1 Patched (2025-09-10 r88807) -- "Great Square Root" | 4688 |
| kjohnson3 | macOS 13.7.7 Ventura | arm64 | 4.5.1 Patched (2025-09-10 r88807) -- "Great Square Root" | 4634 |
| taishan | Linux (openEuler 24.03 LTS) | aarch64 | 4.5.0 (2025-04-11) -- "How About a Twenty-Six" | 4658 |
| Click on any hostname to see more info about the system (e.g. compilers) (*) as reported by 'uname -p', except on Windows and Mac OS X | ||||
| Package 59/2359 | Hostname | OS / Arch | INSTALL | BUILD | CHECK | BUILD BIN | ||||||||
| AlpsNMR 4.11.1 (landing page) Sergio Oller Moreno
| nebbiolo2 | Linux (Ubuntu 24.04.3 LTS) / x86_64 | OK | OK | OK | |||||||||
| lconway | macOS 12.7.6 Monterey / x86_64 | OK | OK | OK | OK | |||||||||
| kjohnson3 | macOS 13.7.7 Ventura / arm64 | OK | OK | OK | OK | |||||||||
| taishan | Linux (openEuler 24.03 LTS) / aarch64 | OK | ERROR | skipped | ||||||||||
|
To the developers/maintainers of the AlpsNMR package: - Allow up to 24 hours (and sometimes 48 hours) for your latest push to git@git.bioconductor.org:packages/AlpsNMR.git to reflect on this report. See Troubleshooting Build Report for more information. - Use the following Renviron settings to reproduce errors and warnings. - If 'R CMD check' started to fail recently on the Linux builder(s) over a missing dependency, add the missing dependency to 'Suggests:' in your DESCRIPTION file. See Renviron.bioc for more information. |
| Package: AlpsNMR |
| Version: 4.11.1 |
| Command: /Library/Frameworks/R.framework/Resources/bin/R CMD check --install=check:AlpsNMR.install-out.txt --library=/Library/Frameworks/R.framework/Resources/library --no-vignettes --timings AlpsNMR_4.11.1.tar.gz |
| StartedAt: 2025-10-23 19:20:41 -0400 (Thu, 23 Oct 2025) |
| EndedAt: 2025-10-23 19:24:26 -0400 (Thu, 23 Oct 2025) |
| EllapsedTime: 225.1 seconds |
| RetCode: 0 |
| Status: OK |
| CheckDir: AlpsNMR.Rcheck |
| Warnings: 0 |
##############################################################################
##############################################################################
###
### Running command:
###
### /Library/Frameworks/R.framework/Resources/bin/R CMD check --install=check:AlpsNMR.install-out.txt --library=/Library/Frameworks/R.framework/Resources/library --no-vignettes --timings AlpsNMR_4.11.1.tar.gz
###
##############################################################################
##############################################################################
* using log directory ‘/Users/biocbuild/bbs-3.22-bioc/meat/AlpsNMR.Rcheck’
* using R version 4.5.1 Patched (2025-09-10 r88807)
* using platform: x86_64-apple-darwin20
* R was compiled by
Apple clang version 14.0.0 (clang-1400.0.29.202)
GNU Fortran (GCC) 14.2.0
* running under: macOS Monterey 12.7.6
* using session charset: UTF-8
* using option ‘--no-vignettes’
* checking for file ‘AlpsNMR/DESCRIPTION’ ... OK
* checking extension type ... Package
* this is package ‘AlpsNMR’ version ‘4.11.1’
* package encoding: UTF-8
* checking package namespace information ... OK
* checking package dependencies ... INFO
Imports includes 26 non-default packages.
Importing from so many packages makes the package vulnerable to any of
them becoming unavailable. Move as many as possible to Suggests and
use conditionally.
* checking if this is a source package ... OK
* checking if there is a namespace ... OK
* checking for hidden files and directories ... OK
* checking for portable file names ... OK
* checking for sufficient/correct file permissions ... OK
* checking whether package ‘AlpsNMR’ can be installed ... OK
* checking installed package size ... OK
* checking package directory ... OK
* checking ‘build’ directory ... OK
* checking DESCRIPTION meta-information ... OK
* checking top-level files ... OK
* checking for left-over files ... OK
* checking index information ... OK
* checking package subdirectories ... OK
* checking code files for non-ASCII characters ... OK
* checking R files for syntax errors ... OK
* checking whether the package can be loaded ... OK
* checking whether the package can be loaded with stated dependencies ... OK
* checking whether the package can be unloaded cleanly ... OK
* checking whether the namespace can be loaded with stated dependencies ... OK
* checking whether the namespace can be unloaded cleanly ... OK
* checking dependencies in R code ... OK
* checking S3 generic/method consistency ... OK
* checking replacement functions ... OK
* checking foreign function calls ... OK
* checking R code for possible problems ... OK
* checking Rd files ... OK
* checking Rd metadata ... OK
* checking Rd cross-references ... NOTE
Non-topic package-anchored link(s) in Rd file 'reexports.Rd':
‘[magrittr:pipe]{%>%}’
See section 'Cross-references' in the 'Writing R Extensions' manual.
Found the following Rd file(s) with Rd \link{} targets missing package
anchors:
filter.nmr_dataset_family.Rd: dplyr
Please provide package anchors for all Rd \link{} targets not in the
package itself and the base packages.
* checking for missing documentation entries ... OK
* checking for code/documentation mismatches ... OK
* checking Rd \usage sections ... OK
* checking Rd contents ... OK
* checking for unstated dependencies in examples ... OK
* checking contents of ‘data’ directory ... OK
* checking data for non-ASCII characters ... OK
* checking data for ASCII and uncompressed saves ... OK
* checking sizes of PDF files under ‘inst/doc’ ... OK
* checking files in ‘vignettes’ ... OK
* checking examples ... OK
Examples with CPU (user + system) or elapsed time > 5s
user system elapsed
Peak_detection 10.270 3.090 9.591
nmr_read_samples 5.515 4.427 4.535
SummarizedExperiment_to_nmr_data_1r 7.850 0.962 7.939
filter.nmr_dataset_family 4.273 3.501 3.676
nmr_pca_outliers_robust 5.690 0.787 5.695
permutation_test_plot 4.090 2.230 2.140
* checking for unstated dependencies in ‘tests’ ... OK
* checking tests ...
Running ‘testthat.R’
OK
* checking for unstated dependencies in vignettes ... OK
* checking package vignettes ... OK
* checking running R code from vignettes ... SKIPPED
* checking re-building of vignette outputs ... SKIPPED
* checking PDF version of manual ... OK
* DONE
Status: 1 NOTE
See
‘/Users/biocbuild/bbs-3.22-bioc/meat/AlpsNMR.Rcheck/00check.log’
for details.
AlpsNMR.Rcheck/00install.out
############################################################################## ############################################################################## ### ### Running command: ### ### /Library/Frameworks/R.framework/Resources/bin/R CMD INSTALL AlpsNMR ### ############################################################################## ############################################################################## * installing to library ‘/Library/Frameworks/R.framework/Versions/4.5-x86_64/Resources/library’ * installing *source* package ‘AlpsNMR’ ... ** this is package ‘AlpsNMR’ version ‘4.11.1’ ** using staged installation ** R ** data ** inst ** byte-compile and prepare package for lazy loading ** help *** installing help indices *** copying figures ** building package indices ** installing vignettes ** testing if installed package can be loaded from temporary location ** testing if installed package can be loaded from final location ** testing if installed package keeps a record of temporary installation path * DONE (AlpsNMR)
AlpsNMR.Rcheck/tests/testthat.Rout
R version 4.5.1 Patched (2025-09-10 r88807) -- "Great Square Root"
Copyright (C) 2025 The R Foundation for Statistical Computing
Platform: x86_64-apple-darwin20
R is free software and comes with ABSOLUTELY NO WARRANTY.
You are welcome to redistribute it under certain conditions.
Type 'license()' or 'licence()' for distribution details.
R is a collaborative project with many contributors.
Type 'contributors()' for more information and
'citation()' on how to cite R or R packages in publications.
Type 'demo()' for some demos, 'help()' for on-line help, or
'help.start()' for an HTML browser interface to help.
Type 'q()' to quit R.
> library(testthat)
> library(AlpsNMR)
Attaching package: 'AlpsNMR'
The following object is masked from 'package:stats':
filter
>
> test_check("AlpsNMR")
[ FAIL 0 | WARN 0 | SKIP 1 | PASS 93 ]
══ Skipped tests (1) ═══════════════════════════════════════════════════════════
• On Bioconductor (1): 'test_rDolphin.R:2:5'
[ FAIL 0 | WARN 0 | SKIP 1 | PASS 93 ]
>
> proc.time()
user system elapsed
27.004 10.322 26.347
AlpsNMR.Rcheck/AlpsNMR-Ex.timings
| name | user | system | elapsed | |
| AlpsNMR-package | 2.143 | 0.531 | 1.980 | |
| HMDB_blood | 0.006 | 0.002 | 0.008 | |
| HMDB_cell | 0.002 | 0.001 | 0.003 | |
| HMDB_urine | 0.004 | 0.002 | 0.005 | |
| Parameters_blood | 0.003 | 0.002 | 0.004 | |
| Parameters_cell | 0.002 | 0.001 | 0.003 | |
| Parameters_urine | 0.001 | 0.001 | 0.003 | |
| Peak_detection | 10.270 | 3.090 | 9.591 | |
| Pipelines | 0.002 | 0.001 | 0.003 | |
| ROI_blood | 0.004 | 0.001 | 0.005 | |
| ROI_cell | 0.004 | 0.002 | 0.004 | |
| ROI_urine | 0.003 | 0.002 | 0.005 | |
| SummarizedExperiment_to_nmr_data_1r | 7.850 | 0.962 | 7.939 | |
| SummarizedExperiment_to_nmr_dataset_peak_table | 1.567 | 1.090 | 1.435 | |
| bp_VIP_analysis | 1.833 | 1.108 | 1.216 | |
| bp_kfold_VIP_analysis | 1.095 | 0.695 | 0.822 | |
| download_MTBLS242 | 0 | 0 | 0 | |
| file_lister | 0.075 | 0.015 | 0.090 | |
| files_to_rDolphin | 0 | 0 | 0 | |
| filter.nmr_dataset_family | 4.273 | 3.501 | 3.676 | |
| format.nmr_dataset | 0.946 | 0.729 | 0.762 | |
| format.nmr_dataset_1D | 1.074 | 0.793 | 0.885 | |
| format.nmr_dataset_peak_table | 1.131 | 0.823 | 0.943 | |
| get_integration_with_metadata | 0.035 | 0.008 | 0.044 | |
| hmdb | 0.059 | 0.011 | 0.071 | |
| is.nmr_dataset | 0.991 | 0.765 | 0.792 | |
| is.nmr_dataset_1D | 0.986 | 0.722 | 0.826 | |
| is.nmr_dataset_peak_table | 1.118 | 0.745 | 0.924 | |
| load_and_save_functions | 0.952 | 0.700 | 0.758 | |
| models_stability_plot_bootstrap | 0.001 | 0.001 | 0.003 | |
| models_stability_plot_plsda | 0.490 | 0.489 | 0.488 | |
| new_nmr_dataset | 0.002 | 0.001 | 0.002 | |
| new_nmr_dataset_1D | 0.001 | 0.001 | 0.001 | |
| new_nmr_dataset_peak_table | 1.154 | 0.819 | 0.979 | |
| nmr_autophase | 0.270 | 0.169 | 0.420 | |
| nmr_baseline_estimation | 0.012 | 0.007 | 0.019 | |
| nmr_baseline_removal | 0.005 | 0.001 | 0.007 | |
| nmr_baseline_threshold | 0.001 | 0.000 | 0.001 | |
| nmr_baseline_threshold_plot | 0.342 | 0.044 | 0.390 | |
| nmr_batman | 0.003 | 0.002 | 0.004 | |
| nmr_batman_options | 0 | 0 | 0 | |
| nmr_build_peak_table | 0.038 | 0.005 | 0.042 | |
| nmr_data | 0.069 | 0.009 | 0.078 | |
| nmr_data_1r_to_SummarizedExperiment | 1.311 | 0.788 | 1.127 | |
| nmr_data_analysis | 0.532 | 0.540 | 0.546 | |
| nmr_dataset | 0.001 | 0.001 | 0.001 | |
| nmr_dataset_1D | 0.001 | 0.001 | 0.002 | |
| nmr_dataset_peak_table_to_SummarizedExperiment | 1.238 | 0.748 | 1.081 | |
| nmr_exclude_region | 0.007 | 0.003 | 0.010 | |
| nmr_export_data_1r | 1.195 | 0.928 | 1.021 | |
| nmr_get_peak_distances | 0.009 | 0.001 | 0.010 | |
| nmr_identify_regions_blood | 0.017 | 0.004 | 0.022 | |
| nmr_identify_regions_cell | 0.009 | 0.002 | 0.012 | |
| nmr_identify_regions_urine | 0.014 | 0.003 | 0.017 | |
| nmr_integrate_regions | 0.008 | 0.001 | 0.009 | |
| nmr_interpolate_1D | 2.263 | 1.882 | 1.977 | |
| nmr_meta_add | 2.600 | 1.781 | 2.460 | |
| nmr_meta_export | 0.895 | 0.699 | 0.718 | |
| nmr_meta_get | 1.851 | 0.954 | 1.812 | |
| nmr_meta_get_column | 0.934 | 0.582 | 0.725 | |
| nmr_meta_groups | 1.003 | 0.701 | 0.790 | |
| nmr_normalize | 0.398 | 0.053 | 0.456 | |
| nmr_pca_build_model | 2.248 | 1.304 | 1.919 | |
| nmr_pca_outliers | 1.020 | 0.690 | 1.165 | |
| nmr_pca_outliers_filter | 1.524 | 0.992 | 1.157 | |
| nmr_pca_outliers_plot | 0.000 | 0.000 | 0.001 | |
| nmr_pca_outliers_robust | 5.690 | 0.787 | 5.695 | |
| nmr_pca_plots | 0.524 | 0.014 | 0.541 | |
| nmr_peak_clustering | 0.084 | 0.001 | 0.085 | |
| nmr_ppm_resolution | 0.009 | 0.003 | 0.011 | |
| nmr_read_bruker_fid | 0.000 | 0.000 | 0.001 | |
| nmr_read_samples | 5.515 | 4.427 | 4.535 | |
| nmr_zip_bruker_samples | 0.242 | 0.053 | 0.314 | |
| peaklist_accept_peaks | 0.003 | 0.002 | 0.006 | |
| permutation_test_model | 1.150 | 0.912 | 2.075 | |
| permutation_test_plot | 4.09 | 2.23 | 2.14 | |
| plot.nmr_dataset_1D | 2.243 | 0.977 | 0.032 | |
| plot_bootstrap_multimodel | 0.002 | 0.021 | 0.023 | |
| plot_interactive | 0.964 | 0.660 | 0.825 | |
| plot_plsda_multimodel | 0.324 | 0.418 | 0.404 | |
| plot_plsda_samples | 0.169 | 0.208 | 0.360 | |
| plot_vip_scores | 0.003 | 0.004 | 0.006 | |
| plot_webgl | 0.002 | 0.003 | 0.005 | |
| plsda_auroc_vip_compare | 0.674 | 0.490 | 1.139 | |
| plsda_auroc_vip_method | 0.000 | 0.001 | 0.001 | |
| ppm_resolution | 0.002 | 0.001 | 0.003 | |
| print.nmr_dataset | 0.904 | 0.580 | 0.696 | |
| print.nmr_dataset_1D | 0.984 | 0.658 | 0.823 | |
| print.nmr_dataset_peak_table | 1.186 | 0.760 | 1.024 | |
| random_subsampling | 0.001 | 0.004 | 0.006 | |
| save_files_to_rDolphin | 0 | 0 | 0 | |
| save_profiling_output | 0.001 | 0.000 | 0.000 | |
| sub-.nmr_dataset | 0.881 | 0.580 | 0.687 | |
| sub-.nmr_dataset_1D | 0.961 | 0.638 | 0.790 | |
| sub-.nmr_dataset_peak_table | 1.122 | 0.786 | 0.942 | |
| tidy.nmr_dataset_1D | 0.994 | 0.631 | 0.862 | |
| to_ASICS | 1.076 | 0.196 | 1.284 | |
| to_ChemoSpec | 1.220 | 0.686 | 1.102 | |
| validate_nmr_dataset | 1.934 | 1.378 | 1.620 | |
| validate_nmr_dataset_family | 1.027 | 0.717 | 0.842 | |
| validate_nmr_dataset_peak_table | 0.001 | 0.001 | 0.002 | |
| zzz | 0.000 | 0.000 | 2.146 | |