| Back to Multiple platform build/check report for BioC 3.22: simplified long |
|
This page was generated on 2025-10-28 12:04 -0400 (Tue, 28 Oct 2025).
| Hostname | OS | Arch (*) | R version | Installed pkgs |
|---|---|---|---|---|
| nebbiolo2 | Linux (Ubuntu 24.04.3 LTS) | x86_64 | 4.5.1 Patched (2025-08-23 r88802) -- "Great Square Root" | 4901 |
| lconway | macOS 12.7.6 Monterey | x86_64 | 4.5.1 Patched (2025-09-10 r88807) -- "Great Square Root" | 4691 |
| kjohnson3 | macOS 13.7.7 Ventura | arm64 | 4.5.1 Patched (2025-09-10 r88807) -- "Great Square Root" | 4637 |
| Click on any hostname to see more info about the system (e.g. compilers) (*) as reported by 'uname -p', except on Windows and Mac OS X | ||||
| Package 59/2361 | Hostname | OS / Arch | INSTALL | BUILD | CHECK | BUILD BIN | ||||||||
| AlpsNMR 4.11.1 (landing page) Sergio Oller Moreno
| nebbiolo2 | Linux (Ubuntu 24.04.3 LTS) / x86_64 | OK | OK | OK | |||||||||
| lconway | macOS 12.7.6 Monterey / x86_64 | OK | OK | OK | OK | |||||||||
| kjohnson3 | macOS 13.7.7 Ventura / arm64 | OK | OK | OK | OK | |||||||||
|
To the developers/maintainers of the AlpsNMR package: - Allow up to 24 hours (and sometimes 48 hours) for your latest push to git@git.bioconductor.org:packages/AlpsNMR.git to reflect on this report. See Troubleshooting Build Report for more information. - Use the following Renviron settings to reproduce errors and warnings. - If 'R CMD check' started to fail recently on the Linux builder(s) over a missing dependency, add the missing dependency to 'Suggests:' in your DESCRIPTION file. See Renviron.bioc for more information. |
| Package: AlpsNMR |
| Version: 4.11.1 |
| Command: /Library/Frameworks/R.framework/Resources/bin/R CMD check --install=check:AlpsNMR.install-out.txt --library=/Library/Frameworks/R.framework/Resources/library --no-vignettes --timings AlpsNMR_4.11.1.tar.gz |
| StartedAt: 2025-10-27 18:24:42 -0400 (Mon, 27 Oct 2025) |
| EndedAt: 2025-10-27 18:25:55 -0400 (Mon, 27 Oct 2025) |
| EllapsedTime: 72.9 seconds |
| RetCode: 0 |
| Status: OK |
| CheckDir: AlpsNMR.Rcheck |
| Warnings: 0 |
##############################################################################
##############################################################################
###
### Running command:
###
### /Library/Frameworks/R.framework/Resources/bin/R CMD check --install=check:AlpsNMR.install-out.txt --library=/Library/Frameworks/R.framework/Resources/library --no-vignettes --timings AlpsNMR_4.11.1.tar.gz
###
##############################################################################
##############################################################################
* using log directory ‘/Users/biocbuild/bbs-3.22-bioc/meat/AlpsNMR.Rcheck’
* using R version 4.5.1 Patched (2025-09-10 r88807)
* using platform: aarch64-apple-darwin20
* R was compiled by
Apple clang version 16.0.0 (clang-1600.0.26.6)
GNU Fortran (GCC) 14.2.0
* running under: macOS Ventura 13.7.7
* using session charset: UTF-8
* using option ‘--no-vignettes’
* checking for file ‘AlpsNMR/DESCRIPTION’ ... OK
* checking extension type ... Package
* this is package ‘AlpsNMR’ version ‘4.11.1’
* package encoding: UTF-8
* checking package namespace information ... OK
* checking package dependencies ... INFO
Imports includes 26 non-default packages.
Importing from so many packages makes the package vulnerable to any of
them becoming unavailable. Move as many as possible to Suggests and
use conditionally.
* checking if this is a source package ... OK
* checking if there is a namespace ... OK
* checking for hidden files and directories ... OK
* checking for portable file names ... OK
* checking for sufficient/correct file permissions ... OK
* checking whether package ‘AlpsNMR’ can be installed ... OK
* checking installed package size ... OK
* checking package directory ... OK
* checking ‘build’ directory ... OK
* checking DESCRIPTION meta-information ... OK
* checking top-level files ... OK
* checking for left-over files ... OK
* checking index information ... OK
* checking package subdirectories ... OK
* checking code files for non-ASCII characters ... OK
* checking R files for syntax errors ... OK
* checking whether the package can be loaded ... OK
* checking whether the package can be loaded with stated dependencies ... OK
* checking whether the package can be unloaded cleanly ... OK
* checking whether the namespace can be loaded with stated dependencies ... OK
* checking whether the namespace can be unloaded cleanly ... OK
* checking dependencies in R code ... OK
* checking S3 generic/method consistency ... OK
* checking replacement functions ... OK
* checking foreign function calls ... OK
* checking R code for possible problems ... OK
* checking Rd files ... OK
* checking Rd metadata ... OK
* checking Rd cross-references ... NOTE
Non-topic package-anchored link(s) in Rd file 'reexports.Rd':
‘[magrittr:pipe]{%>%}’
See section 'Cross-references' in the 'Writing R Extensions' manual.
Found the following Rd file(s) with Rd \link{} targets missing package
anchors:
filter.nmr_dataset_family.Rd: dplyr
Please provide package anchors for all Rd \link{} targets not in the
package itself and the base packages.
* checking for missing documentation entries ... OK
* checking for code/documentation mismatches ... OK
* checking Rd \usage sections ... OK
* checking Rd contents ... OK
* checking for unstated dependencies in examples ... OK
* checking contents of ‘data’ directory ... OK
* checking data for non-ASCII characters ... OK
* checking data for ASCII and uncompressed saves ... OK
* checking sizes of PDF files under ‘inst/doc’ ... OK
* checking files in ‘vignettes’ ... OK
* checking examples ... OK
* checking for unstated dependencies in ‘tests’ ... OK
* checking tests ...
Running ‘testthat.R’
OK
* checking for unstated dependencies in vignettes ... OK
* checking package vignettes ... OK
* checking running R code from vignettes ... SKIPPED
* checking re-building of vignette outputs ... SKIPPED
* checking PDF version of manual ... OK
* DONE
Status: 1 NOTE
See
‘/Users/biocbuild/bbs-3.22-bioc/meat/AlpsNMR.Rcheck/00check.log’
for details.
AlpsNMR.Rcheck/00install.out
############################################################################## ############################################################################## ### ### Running command: ### ### /Library/Frameworks/R.framework/Resources/bin/R CMD INSTALL AlpsNMR ### ############################################################################## ############################################################################## * installing to library ‘/Library/Frameworks/R.framework/Versions/4.5-arm64/Resources/library’ * installing *source* package ‘AlpsNMR’ ... ** this is package ‘AlpsNMR’ version ‘4.11.1’ ** using staged installation ** R ** data ** inst ** byte-compile and prepare package for lazy loading ** help *** installing help indices *** copying figures ** building package indices ** installing vignettes ** testing if installed package can be loaded from temporary location ** testing if installed package can be loaded from final location ** testing if installed package keeps a record of temporary installation path * DONE (AlpsNMR)
AlpsNMR.Rcheck/tests/testthat.Rout
R version 4.5.1 Patched (2025-09-10 r88807) -- "Great Square Root"
Copyright (C) 2025 The R Foundation for Statistical Computing
Platform: aarch64-apple-darwin20
R is free software and comes with ABSOLUTELY NO WARRANTY.
You are welcome to redistribute it under certain conditions.
Type 'license()' or 'licence()' for distribution details.
R is a collaborative project with many contributors.
Type 'contributors()' for more information and
'citation()' on how to cite R or R packages in publications.
Type 'demo()' for some demos, 'help()' for on-line help, or
'help.start()' for an HTML browser interface to help.
Type 'q()' to quit R.
> library(testthat)
> library(AlpsNMR)
Attaching package: 'AlpsNMR'
The following object is masked from 'package:stats':
filter
>
> test_check("AlpsNMR")
[ FAIL 0 | WARN 0 | SKIP 1 | PASS 93 ]
══ Skipped tests (1) ═══════════════════════════════════════════════════════════
• On Bioconductor (1): 'test_rDolphin.R:2:5'
[ FAIL 0 | WARN 0 | SKIP 1 | PASS 93 ]
>
> proc.time()
user system elapsed
8.308 3.528 8.557
AlpsNMR.Rcheck/AlpsNMR-Ex.timings
| name | user | system | elapsed | |
| AlpsNMR-package | 0.758 | 0.162 | 0.724 | |
| HMDB_blood | 0.002 | 0.001 | 0.003 | |
| HMDB_cell | 0.000 | 0.001 | 0.001 | |
| HMDB_urine | 0.001 | 0.000 | 0.002 | |
| Parameters_blood | 0.000 | 0.000 | 0.001 | |
| Parameters_cell | 0.000 | 0.001 | 0.001 | |
| Parameters_urine | 0.001 | 0.000 | 0.001 | |
| Peak_detection | 2.713 | 0.930 | 2.650 | |
| Pipelines | 0.000 | 0.000 | 0.001 | |
| ROI_blood | 0.001 | 0.001 | 0.002 | |
| ROI_cell | 0.001 | 0.001 | 0.001 | |
| ROI_urine | 0.001 | 0.000 | 0.002 | |
| SummarizedExperiment_to_nmr_data_1r | 2.559 | 0.302 | 2.623 | |
| SummarizedExperiment_to_nmr_dataset_peak_table | 0.418 | 0.328 | 0.426 | |
| bp_VIP_analysis | 0.461 | 0.398 | 0.368 | |
| bp_kfold_VIP_analysis | 0.272 | 0.255 | 0.244 | |
| download_MTBLS242 | 0 | 0 | 0 | |
| file_lister | 0.021 | 0.005 | 0.025 | |
| files_to_rDolphin | 0.000 | 0.001 | 0.000 | |
| filter.nmr_dataset_family | 1.506 | 0.875 | 1.115 | |
| format.nmr_dataset | 0.227 | 0.265 | 0.229 | |
| format.nmr_dataset_1D | 0.275 | 0.219 | 0.244 | |
| format.nmr_dataset_peak_table | 0.302 | 0.296 | 0.300 | |
| get_integration_with_metadata | 0.010 | 0.005 | 0.015 | |
| hmdb | 0.017 | 0.007 | 0.024 | |
| is.nmr_dataset | 0.249 | 0.246 | 0.223 | |
| is.nmr_dataset_1D | 0.247 | 0.236 | 0.253 | |
| is.nmr_dataset_peak_table | 0.284 | 0.233 | 0.275 | |
| load_and_save_functions | 0.220 | 0.270 | 0.233 | |
| models_stability_plot_bootstrap | 0.001 | 0.000 | 0.001 | |
| models_stability_plot_plsda | 0.134 | 0.156 | 0.146 | |
| new_nmr_dataset | 0 | 0 | 0 | |
| new_nmr_dataset_1D | 0 | 0 | 0 | |
| new_nmr_dataset_peak_table | 0.291 | 0.251 | 0.274 | |
| nmr_autophase | 0.080 | 0.061 | 0.142 | |
| nmr_baseline_estimation | 0.003 | 0.002 | 0.005 | |
| nmr_baseline_removal | 0.002 | 0.001 | 0.002 | |
| nmr_baseline_threshold | 0 | 0 | 0 | |
| nmr_baseline_threshold_plot | 0.088 | 0.031 | 0.119 | |
| nmr_batman | 0.001 | 0.001 | 0.002 | |
| nmr_batman_options | 0 | 0 | 0 | |
| nmr_build_peak_table | 0.011 | 0.002 | 0.014 | |
| nmr_data | 0.015 | 0.003 | 0.018 | |
| nmr_data_1r_to_SummarizedExperiment | 0.356 | 0.229 | 0.338 | |
| nmr_data_analysis | 0.129 | 0.193 | 0.168 | |
| nmr_dataset | 0.001 | 0.000 | 0.001 | |
| nmr_dataset_1D | 0.000 | 0.001 | 0.001 | |
| nmr_dataset_peak_table_to_SummarizedExperiment | 0.324 | 0.243 | 0.327 | |
| nmr_exclude_region | 0.002 | 0.001 | 0.003 | |
| nmr_export_data_1r | 0.241 | 0.194 | 0.230 | |
| nmr_get_peak_distances | 0.003 | 0.003 | 0.006 | |
| nmr_identify_regions_blood | 0.004 | 0.004 | 0.008 | |
| nmr_identify_regions_cell | 0.003 | 0.000 | 0.003 | |
| nmr_identify_regions_urine | 0.005 | 0.001 | 0.005 | |
| nmr_integrate_regions | 0.002 | 0.001 | 0.002 | |
| nmr_interpolate_1D | 0.522 | 0.418 | 0.472 | |
| nmr_meta_add | 0.588 | 0.461 | 0.591 | |
| nmr_meta_export | 0.224 | 0.243 | 0.232 | |
| nmr_meta_get | 0.257 | 0.259 | 0.236 | |
| nmr_meta_get_column | 0.240 | 0.286 | 0.249 | |
| nmr_meta_groups | 0.261 | 0.255 | 0.253 | |
| nmr_normalize | 0.094 | 0.032 | 0.127 | |
| nmr_pca_build_model | 0.915 | 0.685 | 1.031 | |
| nmr_pca_outliers | 0.572 | 0.276 | 0.636 | |
| nmr_pca_outliers_filter | 0.280 | 0.164 | 0.257 | |
| nmr_pca_outliers_plot | 0 | 0 | 0 | |
| nmr_pca_outliers_robust | 1.607 | 0.274 | 1.672 | |
| nmr_pca_plots | 0.154 | 0.009 | 0.163 | |
| nmr_peak_clustering | 0.021 | 0.000 | 0.021 | |
| nmr_ppm_resolution | 0.003 | 0.001 | 0.003 | |
| nmr_read_bruker_fid | 0 | 0 | 0 | |
| nmr_read_samples | 0.434 | 0.423 | 0.394 | |
| nmr_zip_bruker_samples | 0.111 | 0.016 | 0.135 | |
| peaklist_accept_peaks | 0.001 | 0.001 | 0.002 | |
| permutation_test_model | 0.729 | 0.595 | 0.580 | |
| permutation_test_plot | 1.293 | 1.016 | 0.621 | |
| plot.nmr_dataset_1D | 0.000 | 0.000 | 0.001 | |
| plot_bootstrap_multimodel | 0.000 | 0.001 | 0.002 | |
| plot_interactive | 0.285 | 0.302 | 0.278 | |
| plot_plsda_multimodel | 0.082 | 0.146 | 0.118 | |
| plot_plsda_samples | 0.040 | 0.072 | 0.109 | |
| plot_vip_scores | 0.000 | 0.001 | 0.002 | |
| plot_webgl | 0.000 | 0.001 | 0.001 | |
| plsda_auroc_vip_compare | 0.165 | 0.166 | 0.330 | |
| plsda_auroc_vip_method | 0 | 0 | 0 | |
| ppm_resolution | 0.001 | 0.000 | 0.002 | |
| print.nmr_dataset | 0.214 | 0.192 | 0.188 | |
| print.nmr_dataset_1D | 0.288 | 0.298 | 0.291 | |
| print.nmr_dataset_peak_table | 0.269 | 0.227 | 0.272 | |
| random_subsampling | 0.001 | 0.001 | 0.001 | |
| save_files_to_rDolphin | 0 | 0 | 0 | |
| save_profiling_output | 0 | 0 | 0 | |
| sub-.nmr_dataset | 0.255 | 0.259 | 0.238 | |
| sub-.nmr_dataset_1D | 0.288 | 0.269 | 0.282 | |
| sub-.nmr_dataset_peak_table | 0.288 | 0.222 | 0.295 | |
| tidy.nmr_dataset_1D | 0.301 | 0.327 | 0.333 | |
| to_ASICS | 0.345 | 0.086 | 0.435 | |
| to_ChemoSpec | 0.427 | 0.513 | 0.478 | |
| validate_nmr_dataset | 0.555 | 0.621 | 0.583 | |
| validate_nmr_dataset_family | 0.296 | 0.335 | 0.330 | |
| validate_nmr_dataset_peak_table | 0 | 0 | 0 | |
| zzz | 0.000 | 0.000 | 2.011 | |