| Back to Multiple platform build/check report for BioC 3.22: simplified long |
|
This page was generated on 2025-10-24 12:03 -0400 (Fri, 24 Oct 2025).
| Hostname | OS | Arch (*) | R version | Installed pkgs |
|---|---|---|---|---|
| nebbiolo2 | Linux (Ubuntu 24.04.3 LTS) | x86_64 | 4.5.1 Patched (2025-08-23 r88802) -- "Great Square Root" | 4898 |
| lconway | macOS 12.7.6 Monterey | x86_64 | 4.5.1 Patched (2025-09-10 r88807) -- "Great Square Root" | 4688 |
| kjohnson3 | macOS 13.7.7 Ventura | arm64 | 4.5.1 Patched (2025-09-10 r88807) -- "Great Square Root" | 4634 |
| taishan | Linux (openEuler 24.03 LTS) | aarch64 | 4.5.0 (2025-04-11) -- "How About a Twenty-Six" | 4658 |
| Click on any hostname to see more info about the system (e.g. compilers) (*) as reported by 'uname -p', except on Windows and Mac OS X | ||||
| Package 59/2359 | Hostname | OS / Arch | INSTALL | BUILD | CHECK | BUILD BIN | ||||||||
| AlpsNMR 4.11.1 (landing page) Sergio Oller Moreno
| nebbiolo2 | Linux (Ubuntu 24.04.3 LTS) / x86_64 | OK | OK | OK | |||||||||
| lconway | macOS 12.7.6 Monterey / x86_64 | OK | OK | OK | OK | |||||||||
| kjohnson3 | macOS 13.7.7 Ventura / arm64 | OK | OK | OK | OK | |||||||||
| taishan | Linux (openEuler 24.03 LTS) / aarch64 | OK | ERROR | skipped | ||||||||||
|
To the developers/maintainers of the AlpsNMR package: - Allow up to 24 hours (and sometimes 48 hours) for your latest push to git@git.bioconductor.org:packages/AlpsNMR.git to reflect on this report. See Troubleshooting Build Report for more information. - Use the following Renviron settings to reproduce errors and warnings. - If 'R CMD check' started to fail recently on the Linux builder(s) over a missing dependency, add the missing dependency to 'Suggests:' in your DESCRIPTION file. See Renviron.bioc for more information. |
| Package: AlpsNMR |
| Version: 4.11.1 |
| Command: /home/biocbuild/bbs-3.22-bioc/R/bin/R CMD check --install=check:AlpsNMR.install-out.txt --library=/home/biocbuild/bbs-3.22-bioc/R/site-library --timings AlpsNMR_4.11.1.tar.gz |
| StartedAt: 2025-10-23 21:01:30 -0400 (Thu, 23 Oct 2025) |
| EndedAt: 2025-10-23 21:06:14 -0400 (Thu, 23 Oct 2025) |
| EllapsedTime: 284.3 seconds |
| RetCode: 0 |
| Status: OK |
| CheckDir: AlpsNMR.Rcheck |
| Warnings: 0 |
##############################################################################
##############################################################################
###
### Running command:
###
### /home/biocbuild/bbs-3.22-bioc/R/bin/R CMD check --install=check:AlpsNMR.install-out.txt --library=/home/biocbuild/bbs-3.22-bioc/R/site-library --timings AlpsNMR_4.11.1.tar.gz
###
##############################################################################
##############################################################################
* using log directory ‘/home/biocbuild/bbs-3.22-bioc/meat/AlpsNMR.Rcheck’
* using R version 4.5.1 Patched (2025-08-23 r88802)
* using platform: x86_64-pc-linux-gnu
* R was compiled by
gcc (Ubuntu 13.3.0-6ubuntu2~24.04) 13.3.0
GNU Fortran (Ubuntu 13.3.0-6ubuntu2~24.04) 13.3.0
* running under: Ubuntu 24.04.3 LTS
* using session charset: UTF-8
* checking for file ‘AlpsNMR/DESCRIPTION’ ... OK
* checking extension type ... Package
* this is package ‘AlpsNMR’ version ‘4.11.1’
* package encoding: UTF-8
* checking package namespace information ... OK
* checking package dependencies ... INFO
Imports includes 26 non-default packages.
Importing from so many packages makes the package vulnerable to any of
them becoming unavailable. Move as many as possible to Suggests and
use conditionally.
* checking if this is a source package ... OK
* checking if there is a namespace ... OK
* checking for hidden files and directories ... OK
* checking for portable file names ... OK
* checking for sufficient/correct file permissions ... OK
* checking whether package ‘AlpsNMR’ can be installed ... OK
* checking installed package size ... OK
* checking package directory ... OK
* checking ‘build’ directory ... OK
* checking DESCRIPTION meta-information ... OK
* checking top-level files ... OK
* checking for left-over files ... OK
* checking index information ... OK
* checking package subdirectories ... OK
* checking code files for non-ASCII characters ... OK
* checking R files for syntax errors ... OK
* checking whether the package can be loaded ... OK
* checking whether the package can be loaded with stated dependencies ... OK
* checking whether the package can be unloaded cleanly ... OK
* checking whether the namespace can be loaded with stated dependencies ... OK
* checking whether the namespace can be unloaded cleanly ... OK
* checking loading without being on the library search path ... OK
* checking dependencies in R code ... OK
* checking S3 generic/method consistency ... OK
* checking replacement functions ... OK
* checking foreign function calls ... OK
* checking R code for possible problems ... OK
* checking Rd files ... OK
* checking Rd metadata ... OK
* checking Rd cross-references ... NOTE
Non-topic package-anchored link(s) in Rd file 'reexports.Rd':
‘[magrittr:pipe]{%>%}’
See section 'Cross-references' in the 'Writing R Extensions' manual.
Found the following Rd file(s) with Rd \link{} targets missing package
anchors:
filter.nmr_dataset_family.Rd: dplyr
Please provide package anchors for all Rd \link{} targets not in the
package itself and the base packages.
* checking for missing documentation entries ... OK
* checking for code/documentation mismatches ... OK
* checking Rd \usage sections ... OK
* checking Rd contents ... OK
* checking for unstated dependencies in examples ... OK
* checking contents of ‘data’ directory ... OK
* checking data for non-ASCII characters ... OK
* checking data for ASCII and uncompressed saves ... OK
* checking files in ‘vignettes’ ... OK
* checking examples ... OK
Examples with CPU (user + system) or elapsed time > 5s
user system elapsed
Peak_detection 7.399 1.766 6.783
SummarizedExperiment_to_nmr_data_1r 6.843 1.302 7.477
nmr_interpolate_1D 4.344 3.653 3.914
nmr_pca_outliers_robust 4.813 1.017 5.062
permutation_test_plot 3.344 2.063 1.785
* checking for unstated dependencies in ‘tests’ ... OK
* checking tests ...
Running ‘testthat.R’
OK
* checking for unstated dependencies in vignettes ... OK
* checking package vignettes ... OK
* checking re-building of vignette outputs ... OK
* checking PDF version of manual ... OK
* DONE
Status: 1 NOTE
See
‘/home/biocbuild/bbs-3.22-bioc/meat/AlpsNMR.Rcheck/00check.log’
for details.
AlpsNMR.Rcheck/00install.out
############################################################################## ############################################################################## ### ### Running command: ### ### /home/biocbuild/bbs-3.22-bioc/R/bin/R CMD INSTALL AlpsNMR ### ############################################################################## ############################################################################## * installing to library ‘/home/biocbuild/bbs-3.22-bioc/R/site-library’ * installing *source* package ‘AlpsNMR’ ... ** this is package ‘AlpsNMR’ version ‘4.11.1’ ** using staged installation ** R ** data ** inst ** byte-compile and prepare package for lazy loading ** help *** installing help indices *** copying figures ** building package indices ** installing vignettes ** testing if installed package can be loaded from temporary location ** testing if installed package can be loaded from final location ** testing if installed package keeps a record of temporary installation path * DONE (AlpsNMR)
AlpsNMR.Rcheck/tests/testthat.Rout
R version 4.5.1 Patched (2025-08-23 r88802) -- "Great Square Root"
Copyright (C) 2025 The R Foundation for Statistical Computing
Platform: x86_64-pc-linux-gnu
R is free software and comes with ABSOLUTELY NO WARRANTY.
You are welcome to redistribute it under certain conditions.
Type 'license()' or 'licence()' for distribution details.
R is a collaborative project with many contributors.
Type 'contributors()' for more information and
'citation()' on how to cite R or R packages in publications.
Type 'demo()' for some demos, 'help()' for on-line help, or
'help.start()' for an HTML browser interface to help.
Type 'q()' to quit R.
> library(testthat)
> library(AlpsNMR)
Attaching package: 'AlpsNMR'
The following object is masked from 'package:stats':
filter
>
> test_check("AlpsNMR")
[ FAIL 0 | WARN 0 | SKIP 1 | PASS 93 ]
══ Skipped tests (1) ═══════════════════════════════════════════════════════════
• On Bioconductor (1): 'test_rDolphin.R:2:5'
[ FAIL 0 | WARN 0 | SKIP 1 | PASS 93 ]
>
> proc.time()
user system elapsed
20.918 6.899 20.119
AlpsNMR.Rcheck/AlpsNMR-Ex.timings
| name | user | system | elapsed | |
| AlpsNMR-package | 2.057 | 0.364 | 1.896 | |
| HMDB_blood | 0.004 | 0.001 | 0.006 | |
| HMDB_cell | 0.003 | 0.000 | 0.002 | |
| HMDB_urine | 0.004 | 0.000 | 0.004 | |
| Parameters_blood | 0.001 | 0.000 | 0.002 | |
| Parameters_cell | 0.001 | 0.001 | 0.001 | |
| Parameters_urine | 0.001 | 0.000 | 0.001 | |
| Peak_detection | 7.399 | 1.766 | 6.783 | |
| Pipelines | 0.002 | 0.000 | 0.001 | |
| ROI_blood | 0.002 | 0.000 | 0.004 | |
| ROI_cell | 0.003 | 0.000 | 0.003 | |
| ROI_urine | 0.001 | 0.002 | 0.003 | |
| SummarizedExperiment_to_nmr_data_1r | 6.843 | 1.302 | 7.477 | |
| SummarizedExperiment_to_nmr_dataset_peak_table | 1.054 | 0.631 | 0.989 | |
| bp_VIP_analysis | 1.475 | 0.931 | 0.920 | |
| bp_kfold_VIP_analysis | 0.789 | 0.477 | 0.563 | |
| download_MTBLS242 | 0 | 0 | 0 | |
| file_lister | 0.060 | 0.015 | 0.075 | |
| files_to_rDolphin | 0 | 0 | 0 | |
| filter.nmr_dataset_family | 1.670 | 0.911 | 1.733 | |
| format.nmr_dataset | 0.657 | 0.450 | 0.510 | |
| format.nmr_dataset_1D | 0.706 | 0.498 | 0.559 | |
| format.nmr_dataset_peak_table | 0.736 | 0.519 | 0.643 | |
| get_integration_with_metadata | 0.021 | 0.008 | 0.029 | |
| hmdb | 0.043 | 0.002 | 0.044 | |
| is.nmr_dataset | 0.631 | 0.491 | 0.494 | |
| is.nmr_dataset_1D | 0.807 | 0.580 | 0.652 | |
| is.nmr_dataset_peak_table | 0.797 | 0.491 | 0.646 | |
| load_and_save_functions | 0.716 | 0.587 | 0.547 | |
| models_stability_plot_bootstrap | 0.002 | 0.000 | 0.002 | |
| models_stability_plot_plsda | 0.355 | 0.383 | 0.359 | |
| new_nmr_dataset | 0.001 | 0.000 | 0.001 | |
| new_nmr_dataset_1D | 0.026 | 0.042 | 0.000 | |
| new_nmr_dataset_peak_table | 0.753 | 0.580 | 0.662 | |
| nmr_autophase | 0.201 | 0.102 | 0.276 | |
| nmr_baseline_estimation | 0.008 | 0.001 | 0.009 | |
| nmr_baseline_removal | 0.004 | 0.000 | 0.004 | |
| nmr_baseline_threshold | 0.001 | 0.000 | 0.001 | |
| nmr_baseline_threshold_plot | 0.288 | 0.046 | 0.333 | |
| nmr_batman | 0.002 | 0.001 | 0.003 | |
| nmr_batman_options | 0.000 | 0.000 | 0.001 | |
| nmr_build_peak_table | 0.030 | 0.009 | 0.039 | |
| nmr_data | 0.061 | 0.021 | 0.082 | |
| nmr_data_1r_to_SummarizedExperiment | 0.968 | 0.525 | 0.849 | |
| nmr_data_analysis | 0.384 | 0.502 | 0.429 | |
| nmr_dataset | 0.001 | 0.000 | 0.000 | |
| nmr_dataset_1D | 0.001 | 0.000 | 0.001 | |
| nmr_dataset_peak_table_to_SummarizedExperiment | 0.957 | 0.646 | 0.860 | |
| nmr_exclude_region | 0.007 | 0.000 | 0.006 | |
| nmr_export_data_1r | 0.738 | 0.518 | 0.585 | |
| nmr_get_peak_distances | 0.007 | 0.002 | 0.009 | |
| nmr_identify_regions_blood | 0.011 | 0.002 | 0.014 | |
| nmr_identify_regions_cell | 0.008 | 0.001 | 0.009 | |
| nmr_identify_regions_urine | 0.014 | 0.000 | 0.013 | |
| nmr_integrate_regions | 0.007 | 0.000 | 0.007 | |
| nmr_interpolate_1D | 4.344 | 3.653 | 3.914 | |
| nmr_meta_add | 1.710 | 1.133 | 1.512 | |
| nmr_meta_export | 0.764 | 0.604 | 0.558 | |
| nmr_meta_get | 0.638 | 0.589 | 0.537 | |
| nmr_meta_get_column | 0.738 | 0.601 | 0.629 | |
| nmr_meta_groups | 0.680 | 0.504 | 0.532 | |
| nmr_normalize | 0.320 | 0.060 | 0.381 | |
| nmr_pca_build_model | 1.744 | 1.232 | 1.462 | |
| nmr_pca_outliers | 0.874 | 0.627 | 0.752 | |
| nmr_pca_outliers_filter | 0.997 | 0.695 | 0.836 | |
| nmr_pca_outliers_plot | 0 | 0 | 0 | |
| nmr_pca_outliers_robust | 4.813 | 1.017 | 5.062 | |
| nmr_pca_plots | 0.485 | 0.028 | 0.514 | |
| nmr_peak_clustering | 0.072 | 0.001 | 0.075 | |
| nmr_ppm_resolution | 0.007 | 0.000 | 0.008 | |
| nmr_read_bruker_fid | 0 | 0 | 0 | |
| nmr_read_samples | 1.389 | 1.243 | 1.180 | |
| nmr_zip_bruker_samples | 0.251 | 0.011 | 0.265 | |
| peaklist_accept_peaks | 0.004 | 0.000 | 0.004 | |
| permutation_test_model | 2.440 | 1.622 | 1.860 | |
| permutation_test_plot | 3.344 | 2.063 | 1.785 | |
| plot.nmr_dataset_1D | 0.003 | 0.000 | 0.003 | |
| plot_bootstrap_multimodel | 0.003 | 0.000 | 0.003 | |
| plot_interactive | 1.755 | 0.994 | 0.705 | |
| plot_plsda_multimodel | 0.195 | 0.437 | 0.343 | |
| plot_plsda_samples | 0.113 | 0.155 | 0.204 | |
| plot_vip_scores | 0.001 | 0.000 | 0.001 | |
| plot_webgl | 0.001 | 0.001 | 0.001 | |
| plsda_auroc_vip_compare | 0.518 | 0.431 | 0.761 | |
| plsda_auroc_vip_method | 0 | 0 | 0 | |
| ppm_resolution | 0.003 | 0.001 | 0.003 | |
| print.nmr_dataset | 0.846 | 0.791 | 0.696 | |
| print.nmr_dataset_1D | 0.786 | 0.703 | 0.717 | |
| print.nmr_dataset_peak_table | 0.844 | 0.617 | 0.812 | |
| random_subsampling | 0.001 | 0.000 | 0.002 | |
| save_files_to_rDolphin | 0 | 0 | 0 | |
| save_profiling_output | 0 | 0 | 0 | |
| sub-.nmr_dataset | 0.708 | 0.703 | 0.594 | |
| sub-.nmr_dataset_1D | 0.757 | 0.594 | 0.639 | |
| sub-.nmr_dataset_peak_table | 0.853 | 0.670 | 0.743 | |
| tidy.nmr_dataset_1D | 0.875 | 0.691 | 0.733 | |
| to_ASICS | 0.903 | 0.157 | 1.060 | |
| to_ChemoSpec | 1.170 | 1.110 | 1.132 | |
| validate_nmr_dataset | 1.871 | 1.826 | 1.521 | |
| validate_nmr_dataset_family | 0.734 | 0.603 | 0.630 | |
| validate_nmr_dataset_peak_table | 0.000 | 0.002 | 0.002 | |
| zzz | 0.000 | 0.000 | 2.002 | |