Back to Multiple platform build/check report for BioC 3.21: simplified long |
|
This page was generated on 2025-09-29 11:39 -0400 (Mon, 29 Sep 2025).
Hostname | OS | Arch (*) | R version | Installed pkgs |
---|---|---|---|---|
nebbiolo1 | Linux (Ubuntu 24.04.3 LTS) | x86_64 | 4.5.1 (2025-06-13) -- "Great Square Root" | 4827 |
merida1 | macOS 12.7.5 Monterey | x86_64 | 4.5.1 RC (2025-06-05 r88288) -- "Great Square Root" | 4608 |
kjohnson1 | macOS 13.6.6 Ventura | arm64 | 4.5.1 Patched (2025-06-14 r88325) -- "Great Square Root" | 4549 |
kunpeng2 | Linux (openEuler 24.03 LTS) | aarch64 | R Under development (unstable) (2025-02-19 r87757) -- "Unsuffered Consequences" | 4580 |
Click on any hostname to see more info about the system (e.g. compilers) (*) as reported by 'uname -p', except on Windows and Mac OS X |
Package 970/2341 | Hostname | OS / Arch | INSTALL | BUILD | CHECK | BUILD BIN | ||||||||
HiCBricks 1.26.0 (landing page) Koustav Pal
| nebbiolo1 | Linux (Ubuntu 24.04.3 LTS) / x86_64 | OK | OK | OK | ![]() | ||||||||
merida1 | macOS 12.7.5 Monterey / x86_64 | OK | OK | OK | OK | ![]() | ||||||||
kjohnson1 | macOS 13.6.6 Ventura / arm64 | OK | OK | OK | OK | ![]() | ||||||||
kunpeng2 | Linux (openEuler 24.03 LTS) / aarch64 | OK | OK | OK | ||||||||||
To the developers/maintainers of the HiCBricks package: - Allow up to 24 hours (and sometimes 48 hours) for your latest push to git@git.bioconductor.org:packages/HiCBricks.git to reflect on this report. See Troubleshooting Build Report for more information. - Use the following Renviron settings to reproduce errors and warnings. - If 'R CMD check' started to fail recently on the Linux builder(s) over a missing dependency, add the missing dependency to 'Suggests:' in your DESCRIPTION file. See Renviron.bioc for more information. |
Package: HiCBricks |
Version: 1.26.0 |
Command: /Library/Frameworks/R.framework/Resources/bin/R CMD check --install=check:HiCBricks.install-out.txt --library=/Library/Frameworks/R.framework/Resources/library --no-vignettes --timings HiCBricks_1.26.0.tar.gz |
StartedAt: 2025-09-26 04:51:33 -0400 (Fri, 26 Sep 2025) |
EndedAt: 2025-09-26 04:58:01 -0400 (Fri, 26 Sep 2025) |
EllapsedTime: 387.5 seconds |
RetCode: 0 |
Status: OK |
CheckDir: HiCBricks.Rcheck |
Warnings: 0 |
############################################################################## ############################################################################## ### ### Running command: ### ### /Library/Frameworks/R.framework/Resources/bin/R CMD check --install=check:HiCBricks.install-out.txt --library=/Library/Frameworks/R.framework/Resources/library --no-vignettes --timings HiCBricks_1.26.0.tar.gz ### ############################################################################## ############################################################################## * using log directory ‘/Users/biocbuild/bbs-3.21-bioc/meat/HiCBricks.Rcheck’ * using R version 4.5.1 RC (2025-06-05 r88288) * using platform: x86_64-apple-darwin20 * R was compiled by Apple clang version 14.0.0 (clang-1400.0.29.202) GNU Fortran (GCC) 14.2.0 * running under: macOS Monterey 12.7.6 * using session charset: UTF-8 * using option ‘--no-vignettes’ * checking for file ‘HiCBricks/DESCRIPTION’ ... OK * checking extension type ... Package * this is package ‘HiCBricks’ version ‘1.26.0’ * package encoding: UTF-8 * checking package namespace information ... OK * checking package dependencies ... OK * checking if this is a source package ... OK * checking if there is a namespace ... OK * checking for hidden files and directories ... OK * checking for portable file names ... OK * checking for sufficient/correct file permissions ... OK * checking whether package ‘HiCBricks’ can be installed ... OK * checking installed package size ... OK * checking package directory ... OK * checking ‘build’ directory ... OK * checking DESCRIPTION meta-information ... OK * checking top-level files ... OK * checking for left-over files ... OK * checking index information ... OK * checking package subdirectories ... OK * checking code files for non-ASCII characters ... OK * checking R files for syntax errors ... OK * checking whether the package can be loaded ... OK * checking whether the package can be loaded with stated dependencies ... OK * checking whether the package can be unloaded cleanly ... OK * checking whether the namespace can be loaded with stated dependencies ... OK * checking whether the namespace can be unloaded cleanly ... OK * checking dependencies in R code ... OK * checking S3 generic/method consistency ... OK * checking replacement functions ... OK * checking foreign function calls ... OK * checking R code for possible problems ... OK * checking Rd files ... OK * checking Rd metadata ... OK * checking Rd cross-references ... OK * checking for missing documentation entries ... OK * checking for code/documentation mismatches ... OK * checking Rd \usage sections ... OK * checking Rd contents ... OK * checking for unstated dependencies in examples ... OK * checking files in ‘vignettes’ ... OK * checking examples ... OK Examples with CPU (user + system) or elapsed time > 5s user system elapsed Brick_export_to_sparse 5.739 0.486 7.030 Brick_vizart_plot_heatmap 4.890 0.706 6.055 Brick_local_score_differentiator 4.027 0.879 6.272 BrickContainer_unlink_resolution 4.054 0.244 8.083 Brick_add_ranges 4.064 0.230 9.860 Brick_call_compartments 2.979 0.412 7.724 * checking for unstated dependencies in vignettes ... OK * checking package vignettes ... OK * checking running R code from vignettes ... SKIPPED * checking re-building of vignette outputs ... SKIPPED * checking PDF version of manual ... OK * DONE Status: OK
HiCBricks.Rcheck/00install.out
############################################################################## ############################################################################## ### ### Running command: ### ### /Library/Frameworks/R.framework/Resources/bin/R CMD INSTALL HiCBricks ### ############################################################################## ############################################################################## * installing to library ‘/Library/Frameworks/R.framework/Versions/4.5-x86_64/Resources/library’ * installing *source* package ‘HiCBricks’ ... ** this is package ‘HiCBricks’ version ‘1.26.0’ ** using staged installation ** R ** inst ** byte-compile and prepare package for lazy loading ** help *** installing help indices ** building package indices ** installing vignettes ** testing if installed package can be loaded from temporary location ** testing if installed package can be loaded from final location ** testing if installed package keeps a record of temporary installation path * DONE (HiCBricks)
HiCBricks.Rcheck/HiCBricks-Ex.timings
name | user | system | elapsed | |
BrickContainer_change_experiment_name | 2.702 | 0.161 | 3.507 | |
BrickContainer_change_output_directory | 1.975 | 0.112 | 2.226 | |
BrickContainer_get_path_to_file | 1.836 | 0.103 | 2.365 | |
BrickContainer_list_chromosomes | 1.839 | 0.102 | 2.355 | |
BrickContainer_list_experiment_name | 1.890 | 0.107 | 2.145 | |
BrickContainer_list_files | 1.902 | 0.107 | 2.612 | |
BrickContainer_list_output_directory | 1.926 | 0.110 | 2.167 | |
BrickContainer_list_resolutions | 1.880 | 0.109 | 2.084 | |
BrickContainer_unlink_resolution | 4.054 | 0.244 | 8.083 | |
Brick_add_ranges | 4.064 | 0.230 | 9.860 | |
Brick_call_compartments | 2.979 | 0.412 | 7.724 | |
Brick_export_to_sparse | 5.739 | 0.486 | 7.030 | |
Brick_fetch_range_index | 2.211 | 0.122 | 2.664 | |
Brick_fetch_row_vector | 3.438 | 0.416 | 4.138 | |
Brick_get_bintable | 2.346 | 0.114 | 2.648 | |
Brick_get_chrominfo | 1.865 | 0.106 | 2.091 | |
Brick_get_entire_matrix | 2.710 | 0.410 | 3.351 | |
Brick_get_matrix | 2.597 | 0.397 | 3.290 | |
Brick_get_matrix_mcols | 2.591 | 0.483 | 3.334 | |
Brick_get_matrix_within_coords | 3.684 | 0.496 | 4.610 | |
Brick_get_ranges | 1.973 | 0.115 | 2.258 | |
Brick_get_values_by_distance | 2.845 | 0.443 | 3.588 | |
Brick_get_vector_values | 2.650 | 0.356 | 3.310 | |
Brick_list_matrices | 1.860 | 0.120 | 2.117 | |
Brick_list_matrix_mcols | 1.885 | 0.119 | 2.110 | |
Brick_list_mcool_normalisations | 0.001 | 0.000 | 0.001 | |
Brick_list_mcool_resolutions | 0.001 | 0.001 | 0.001 | |
Brick_list_rangekeys | 1.845 | 0.118 | 2.415 | |
Brick_list_ranges_mcols | 1.858 | 0.136 | 2.819 | |
Brick_load_cis_matrix_till_distance | 2.466 | 0.568 | 4.888 | |
Brick_load_data_from_mcool | 0.000 | 0.001 | 0.003 | |
Brick_load_data_from_sparse | 0.000 | 0.001 | 0.001 | |
Brick_load_matrix | 2.584 | 0.620 | 4.281 | |
Brick_local_score_differentiator | 4.027 | 0.879 | 6.272 | |
Brick_make_ranges | 0.020 | 0.001 | 0.024 | |
Brick_matrix_dimensions | 2.485 | 0.302 | 3.159 | |
Brick_matrix_exists | 2.532 | 0.346 | 3.180 | |
Brick_matrix_filename | 2.520 | 0.370 | 3.041 | |
Brick_matrix_isdone | 2.566 | 0.424 | 3.836 | |
Brick_matrix_issparse | 2.574 | 0.426 | 4.384 | |
Brick_matrix_maxdist | 2.565 | 0.474 | 4.561 | |
Brick_matrix_minmax | 2.529 | 0.513 | 4.081 | |
Brick_mcool_normalisation_exists | 0.000 | 0.001 | 0.002 | |
Brick_rangekey_exists | 1.845 | 0.124 | 2.775 | |
Brick_return_region_position | 1.976 | 0.116 | 2.680 | |
Brick_vizart_plot_heatmap | 4.890 | 0.706 | 6.055 | |
Create_many_Bricks | 1.801 | 0.105 | 1.981 | |
Create_many_Bricks_from_mcool | 0.000 | 0.001 | 0.002 | |
load_BrickContainer | 1.887 | 0.103 | 2.161 | |