Back to Multiple platform build/check report for BioC 3.22:   simplified   long
ABCDEFG[H]IJKLMNOPQRSTUVWXYZ

This page was generated on 2025-11-20 12:06 -0500 (Thu, 20 Nov 2025).

HostnameOSArch (*)R versionInstalled pkgs
nebbiolo2Linux (Ubuntu 24.04.3 LTS)x86_644.5.2 (2025-10-31) -- "[Not] Part in a Rumble" 4615
merida1macOS 12.7.6 Montereyx86_644.5.2 Patched (2025-11-05 r88990) -- "[Not] Part in a Rumble" 4610
kjohnson1macOS 13.7.5 Venturaarm644.5.2 Patched (2025-11-04 r88984) -- "[Not] Part in a Rumble" 4598
taishanLinux (openEuler 24.03 LTS)aarch644.5.0 (2025-04-11) -- "How About a Twenty-Six" 4668
Click on any hostname to see more info about the system (e.g. compilers)      (*) as reported by 'uname -p', except on Windows and Mac OS X

Package 978/2361HostnameOS / ArchINSTALLBUILDCHECKBUILD BIN
HiCBricks 1.28.0  (landing page)
Koustav Pal
Snapshot Date: 2025-11-17 13:45 -0500 (Mon, 17 Nov 2025)
git_url: https://git.bioconductor.org/packages/HiCBricks
git_branch: RELEASE_3_22
git_last_commit: 3296656
git_last_commit_date: 2025-10-29 10:48:17 -0500 (Wed, 29 Oct 2025)
nebbiolo2Linux (Ubuntu 24.04.3 LTS) / x86_64  OK    OK    OK  UNNEEDED, same version is already published
merida1macOS 12.7.6 Monterey / x86_64  OK    OK    OK    OK  UNNEEDED, same version is already published
kjohnson1macOS 13.7.5 Ventura / arm64  OK    OK    OK    OK  UNNEEDED, same version is already published
taishanLinux (openEuler 24.03 LTS) / aarch64  OK    OK    OK  


CHECK results for HiCBricks on kjohnson1

To the developers/maintainers of the HiCBricks package:
- Allow up to 24 hours (and sometimes 48 hours) for your latest push to git@git.bioconductor.org:packages/HiCBricks.git to reflect on this report. See Troubleshooting Build Report for more information.
- Use the following Renviron settings to reproduce errors and warnings.
- If 'R CMD check' started to fail recently on the Linux builder(s) over a missing dependency, add the missing dependency to 'Suggests:' in your DESCRIPTION file. See Renviron.bioc for more information.

raw results


Summary

Package: HiCBricks
Version: 1.28.0
Command: /Library/Frameworks/R.framework/Resources/bin/R CMD check --install=check:HiCBricks.install-out.txt --library=/Library/Frameworks/R.framework/Resources/library --no-vignettes --timings HiCBricks_1.28.0.tar.gz
StartedAt: 2025-11-18 07:36:46 -0500 (Tue, 18 Nov 2025)
EndedAt: 2025-11-18 07:38:01 -0500 (Tue, 18 Nov 2025)
EllapsedTime: 74.6 seconds
RetCode: 0
Status:   OK  
CheckDir: HiCBricks.Rcheck
Warnings: 0

Command output

##############################################################################
##############################################################################
###
### Running command:
###
###   /Library/Frameworks/R.framework/Resources/bin/R CMD check --install=check:HiCBricks.install-out.txt --library=/Library/Frameworks/R.framework/Resources/library --no-vignettes --timings HiCBricks_1.28.0.tar.gz
###
##############################################################################
##############################################################################


* using log directory ‘/Users/biocbuild/bbs-3.22-bioc/meat/HiCBricks.Rcheck’
* using R version 4.5.2 Patched (2025-11-04 r88984)
* using platform: aarch64-apple-darwin20
* R was compiled by
    Apple clang version 16.0.0 (clang-1600.0.26.6)
    GNU Fortran (GCC) 14.2.0
* running under: macOS Ventura 13.7.8
* using session charset: UTF-8
* using option ‘--no-vignettes’
* checking for file ‘HiCBricks/DESCRIPTION’ ... OK
* checking extension type ... Package
* this is package ‘HiCBricks’ version ‘1.28.0’
* package encoding: UTF-8
* checking package namespace information ... OK
* checking package dependencies ... OK
* checking if this is a source package ... OK
* checking if there is a namespace ... OK
* checking for hidden files and directories ... OK
* checking for portable file names ... OK
* checking for sufficient/correct file permissions ... OK
* checking whether package ‘HiCBricks’ can be installed ... OK
* checking installed package size ... OK
* checking package directory ... OK
* checking ‘build’ directory ... OK
* checking DESCRIPTION meta-information ... OK
* checking top-level files ... OK
* checking for left-over files ... OK
* checking index information ... OK
* checking package subdirectories ... OK
* checking code files for non-ASCII characters ... OK
* checking R files for syntax errors ... OK
* checking whether the package can be loaded ... OK
* checking whether the package can be loaded with stated dependencies ... OK
* checking whether the package can be unloaded cleanly ... OK
* checking whether the namespace can be loaded with stated dependencies ... OK
* checking whether the namespace can be unloaded cleanly ... OK
* checking dependencies in R code ... OK
* checking S3 generic/method consistency ... OK
* checking replacement functions ... OK
* checking foreign function calls ... OK
* checking R code for possible problems ... OK
* checking Rd files ... OK
* checking Rd metadata ... OK
* checking Rd cross-references ... OK
* checking for missing documentation entries ... OK
* checking for code/documentation mismatches ... OK
* checking Rd \usage sections ... OK
* checking Rd contents ... OK
* checking for unstated dependencies in examples ... OK
* checking files in ‘vignettes’ ... OK
* checking examples ... OK
* checking for unstated dependencies in vignettes ... OK
* checking package vignettes ... OK
* checking running R code from vignettes ... SKIPPED
* checking re-building of vignette outputs ... SKIPPED
* checking PDF version of manual ... OK
* DONE

Status: OK


Installation output

HiCBricks.Rcheck/00install.out

##############################################################################
##############################################################################
###
### Running command:
###
###   /Library/Frameworks/R.framework/Resources/bin/R CMD INSTALL HiCBricks
###
##############################################################################
##############################################################################


* installing to library ‘/Library/Frameworks/R.framework/Versions/4.5-arm64/Resources/library’
* installing *source* package ‘HiCBricks’ ...
** this is package ‘HiCBricks’ version ‘1.28.0’
** using staged installation
** R
** inst
** byte-compile and prepare package for lazy loading
** help
*** installing help indices
** building package indices
** installing vignettes
** testing if installed package can be loaded from temporary location
** testing if installed package can be loaded from final location
** testing if installed package keeps a record of temporary installation path
* DONE (HiCBricks)

Tests output


Example timings

HiCBricks.Rcheck/HiCBricks-Ex.timings

nameusersystemelapsed
BrickContainer_change_experiment_name0.4530.0540.653
BrickContainer_change_output_directory0.2860.0360.373
BrickContainer_get_path_to_file0.2990.0390.460
BrickContainer_list_chromosomes0.2600.0430.367
BrickContainer_list_experiment_name0.2810.0370.365
BrickContainer_list_files0.2670.0350.383
BrickContainer_list_output_directory0.2430.0440.363
BrickContainer_list_resolutions0.2620.0380.371
BrickContainer_unlink_resolution0.5710.0850.837
Brick_add_ranges0.6330.0570.953
Brick_call_compartments0.4650.0760.675
Brick_export_to_sparse0.8610.0951.278
Brick_fetch_range_index0.4750.0460.685
Brick_fetch_row_vector0.5300.0730.756
Brick_get_bintable0.2850.0390.369
Brick_get_chrominfo0.2600.0450.394
Brick_get_entire_matrix0.4070.0780.621
Brick_get_matrix0.3890.0600.524
Brick_get_matrix_mcols0.3940.1080.623
Brick_get_matrix_within_coords0.5690.0720.755
Brick_get_ranges0.2720.0420.419
Brick_get_values_by_distance0.4390.0770.641
Brick_get_vector_values0.4460.0890.664
Brick_list_matrices0.2650.0390.393
Brick_list_matrix_mcols0.2470.0370.392
Brick_list_mcool_normalisations0.0000.0000.001
Brick_list_mcool_resolutions000
Brick_list_rangekeys0.2610.0470.404
Brick_list_ranges_mcols0.2600.0400.358
Brick_load_cis_matrix_till_distance0.3320.0460.392
Brick_load_data_from_mcool0.0000.0010.000
Brick_load_data_from_sparse0.0010.0000.000
Brick_load_matrix0.3520.0810.447
Brick_local_score_differentiator0.5790.0780.706
Brick_make_ranges0.0030.0000.003
Brick_matrix_dimensions0.3750.0910.544
Brick_matrix_exists0.3720.0680.499
Brick_matrix_filename0.3630.0560.437
Brick_matrix_isdone0.3640.0550.465
Brick_matrix_issparse0.3730.0650.522
Brick_matrix_maxdist0.3710.0600.474
Brick_matrix_minmax0.3650.0610.525
Brick_mcool_normalisation_exists0.0000.0000.001
Brick_rangekey_exists0.2470.0390.317
Brick_return_region_position0.2810.0370.370
Brick_vizart_plot_heatmap0.7680.1061.008
Create_many_Bricks0.2520.0350.328
Create_many_Bricks_from_mcool000
load_BrickContainer0.2560.0360.322