| Back to Multiple platform build/check report for BioC 3.22: simplified long |
|
This page was generated on 2025-11-12 11:58 -0500 (Wed, 12 Nov 2025).
| Hostname | OS | Arch (*) | R version | Installed pkgs |
|---|---|---|---|---|
| nebbiolo2 | Linux (Ubuntu 24.04.3 LTS) | x86_64 | 4.5.1 Patched (2025-08-23 r88802) -- "Great Square Root" | 4902 |
| taishan | Linux (openEuler 24.03 LTS) | aarch64 | 4.5.0 (2025-04-11) -- "How About a Twenty-Six" | 4668 |
| Click on any hostname to see more info about the system (e.g. compilers) (*) as reported by 'uname -p', except on Windows and Mac OS X | ||||
| Package 978/2361 | Hostname | OS / Arch | INSTALL | BUILD | CHECK | BUILD BIN | ||||||||
| HiCBricks 1.28.0 (landing page) Koustav Pal
| nebbiolo2 | Linux (Ubuntu 24.04.3 LTS) / x86_64 | OK | OK | OK | |||||||||
| taishan | Linux (openEuler 24.03 LTS) / aarch64 | OK | OK | OK | ||||||||||
|
To the developers/maintainers of the HiCBricks package: - Allow up to 24 hours (and sometimes 48 hours) for your latest push to git@git.bioconductor.org:packages/HiCBricks.git to reflect on this report. See Troubleshooting Build Report for more information. - Use the following Renviron settings to reproduce errors and warnings. - If 'R CMD check' started to fail recently on the Linux builder(s) over a missing dependency, add the missing dependency to 'Suggests:' in your DESCRIPTION file. See Renviron.bioc for more information. - See Martin Grigorov's blog post for how to debug Linux ARM64 related issues on a x86_64 host. |
| Package: HiCBricks |
| Version: 1.28.0 |
| Command: /home/biocbuild/R/R/bin/R CMD check --install=check:HiCBricks.install-out.txt --library=/home/biocbuild/R/R/site-library --no-vignettes --timings HiCBricks_1.28.0.tar.gz |
| StartedAt: 2025-11-11 10:39:27 -0000 (Tue, 11 Nov 2025) |
| EndedAt: 2025-11-11 10:42:50 -0000 (Tue, 11 Nov 2025) |
| EllapsedTime: 203.2 seconds |
| RetCode: 0 |
| Status: OK |
| CheckDir: HiCBricks.Rcheck |
| Warnings: 0 |
##############################################################################
##############################################################################
###
### Running command:
###
### /home/biocbuild/R/R/bin/R CMD check --install=check:HiCBricks.install-out.txt --library=/home/biocbuild/R/R/site-library --no-vignettes --timings HiCBricks_1.28.0.tar.gz
###
##############################################################################
##############################################################################
* using log directory ‘/home/biocbuild/bbs-3.22-bioc/meat/HiCBricks.Rcheck’
* using R version 4.5.0 (2025-04-11)
* using platform: aarch64-unknown-linux-gnu
* R was compiled by
aarch64-unknown-linux-gnu-gcc (GCC) 14.2.0
GNU Fortran (GCC) 14.2.0
* running under: openEuler 24.03 (LTS)
* using session charset: UTF-8
* using option ‘--no-vignettes’
* checking for file ‘HiCBricks/DESCRIPTION’ ... OK
* checking extension type ... Package
* this is package ‘HiCBricks’ version ‘1.28.0’
* package encoding: UTF-8
* checking package namespace information ... OK
* checking package dependencies ... OK
* checking if this is a source package ... OK
* checking if there is a namespace ... OK
* checking for hidden files and directories ... OK
* checking for portable file names ... OK
* checking for sufficient/correct file permissions ... OK
* checking whether package ‘HiCBricks’ can be installed ... OK
* checking installed package size ... OK
* checking package directory ... OK
* checking ‘build’ directory ... OK
* checking DESCRIPTION meta-information ... OK
* checking top-level files ... OK
* checking for left-over files ... OK
* checking index information ... OK
* checking package subdirectories ... OK
* checking code files for non-ASCII characters ... OK
* checking R files for syntax errors ... OK
* checking whether the package can be loaded ... OK
* checking whether the package can be loaded with stated dependencies ... OK
* checking whether the package can be unloaded cleanly ... OK
* checking whether the namespace can be loaded with stated dependencies ... OK
* checking whether the namespace can be unloaded cleanly ... OK
* checking loading without being on the library search path ... OK
* checking dependencies in R code ... OK
* checking S3 generic/method consistency ... OK
* checking replacement functions ... OK
* checking foreign function calls ... OK
* checking R code for possible problems ... OK
* checking Rd files ... OK
* checking Rd metadata ... OK
* checking Rd cross-references ... OK
* checking for missing documentation entries ... OK
* checking for code/documentation mismatches ... OK
* checking Rd \usage sections ... OK
* checking Rd contents ... OK
* checking for unstated dependencies in examples ... OK
* checking files in ‘vignettes’ ... OK
* checking examples ... OK
* checking for unstated dependencies in vignettes ... OK
* checking package vignettes ... OK
* checking running R code from vignettes ... SKIPPED
* checking re-building of vignette outputs ... SKIPPED
* checking PDF version of manual ... OK
* DONE
Status: OK
HiCBricks.Rcheck/00install.out
############################################################################## ############################################################################## ### ### Running command: ### ### /home/biocbuild/R/R/bin/R CMD INSTALL HiCBricks ### ############################################################################## ############################################################################## * installing to library ‘/home/biocbuild/R/R-4.5.0/site-library’ * installing *source* package ‘HiCBricks’ ... ** this is package ‘HiCBricks’ version ‘1.28.0’ ** using staged installation ** R ** inst ** byte-compile and prepare package for lazy loading ** help *** installing help indices ** building package indices ** installing vignettes ** testing if installed package can be loaded from temporary location ** testing if installed package can be loaded from final location ** testing if installed package keeps a record of temporary installation path * DONE (HiCBricks)
HiCBricks.Rcheck/HiCBricks-Ex.timings
| name | user | system | elapsed | |
| BrickContainer_change_experiment_name | 1.734 | 0.241 | 1.984 | |
| BrickContainer_change_output_directory | 1.242 | 0.024 | 1.268 | |
| BrickContainer_get_path_to_file | 1.195 | 0.060 | 1.259 | |
| BrickContainer_list_chromosomes | 1.212 | 0.048 | 1.265 | |
| BrickContainer_list_experiment_name | 1.177 | 0.060 | 1.241 | |
| BrickContainer_list_files | 1.245 | 0.055 | 1.304 | |
| BrickContainer_list_output_directory | 1.202 | 0.036 | 1.242 | |
| BrickContainer_list_resolutions | 1.186 | 0.060 | 1.253 | |
| BrickContainer_unlink_resolution | 2.519 | 0.119 | 2.645 | |
| Brick_add_ranges | 2.558 | 0.088 | 2.654 | |
| Brick_call_compartments | 2.194 | 0.123 | 2.381 | |
| Brick_export_to_sparse | 3.325 | 0.164 | 3.499 | |
| Brick_fetch_range_index | 1.378 | 0.004 | 1.386 | |
| Brick_fetch_row_vector | 2.289 | 0.056 | 2.351 | |
| Brick_get_bintable | 1.199 | 0.008 | 1.210 | |
| Brick_get_chrominfo | 1.122 | 0.020 | 1.150 | |
| Brick_get_entire_matrix | 1.502 | 0.043 | 1.550 | |
| Brick_get_matrix | 1.478 | 0.084 | 1.569 | |
| Brick_get_matrix_mcols | 1.437 | 0.024 | 1.466 | |
| Brick_get_matrix_within_coords | 2.084 | 0.080 | 2.170 | |
| Brick_get_ranges | 1.201 | 0.012 | 1.216 | |
| Brick_get_values_by_distance | 1.663 | 0.036 | 1.705 | |
| Brick_get_vector_values | 1.579 | 0.059 | 1.645 | |
| Brick_list_matrices | 1.210 | 0.003 | 1.218 | |
| Brick_list_matrix_mcols | 1.157 | 0.016 | 1.176 | |
| Brick_list_mcool_normalisations | 0 | 0 | 0 | |
| Brick_list_mcool_resolutions | 0 | 0 | 0 | |
| Brick_list_rangekeys | 1.163 | 0.028 | 1.205 | |
| Brick_list_ranges_mcols | 1.172 | 0.047 | 1.267 | |
| Brick_load_cis_matrix_till_distance | 1.397 | 0.044 | 1.445 | |
| Brick_load_data_from_mcool | 0 | 0 | 0 | |
| Brick_load_data_from_sparse | 0 | 0 | 0 | |
| Brick_load_matrix | 1.526 | 0.028 | 1.558 | |
| Brick_local_score_differentiator | 2.374 | 0.084 | 2.468 | |
| Brick_make_ranges | 0.012 | 0.000 | 0.012 | |
| Brick_matrix_dimensions | 1.542 | 0.012 | 1.561 | |
| Brick_matrix_exists | 1.475 | 0.036 | 1.653 | |
| Brick_matrix_filename | 1.531 | 0.027 | 1.564 | |
| Brick_matrix_isdone | 1.518 | 0.044 | 1.567 | |
| Brick_matrix_issparse | 1.462 | 0.016 | 1.483 | |
| Brick_matrix_maxdist | 1.490 | 0.012 | 1.506 | |
| Brick_matrix_minmax | 1.516 | 0.020 | 1.540 | |
| Brick_mcool_normalisation_exists | 0.000 | 0.000 | 0.001 | |
| Brick_rangekey_exists | 1.141 | 0.012 | 1.224 | |
| Brick_return_region_position | 1.290 | 0.044 | 1.340 | |
| Brick_vizart_plot_heatmap | 2.878 | 0.064 | 2.951 | |
| Create_many_Bricks | 1.193 | 0.012 | 1.209 | |
| Create_many_Bricks_from_mcool | 0.001 | 0.000 | 0.000 | |
| load_BrickContainer | 1.210 | 0.027 | 1.243 | |