| Back to Multiple platform build/check report for BioC 3.22: simplified long |
|
This page was generated on 2025-11-11 12:02 -0500 (Tue, 11 Nov 2025).
| Hostname | OS | Arch (*) | R version | Installed pkgs |
|---|---|---|---|---|
| nebbiolo2 | Linux (Ubuntu 24.04.3 LTS) | x86_64 | 4.5.1 Patched (2025-08-23 r88802) -- "Great Square Root" | 4902 |
| kjohnson3 | macOS 13.7.7 Ventura | arm64 | 4.5.1 Patched (2025-09-10 r88807) -- "Great Square Root" | 4638 |
| Click on any hostname to see more info about the system (e.g. compilers) (*) as reported by 'uname -p', except on Windows and Mac OS X | ||||
| Package 978/2361 | Hostname | OS / Arch | INSTALL | BUILD | CHECK | BUILD BIN | ||||||||
| HiCBricks 1.28.0 (landing page) Koustav Pal
| nebbiolo2 | Linux (Ubuntu 24.04.3 LTS) / x86_64 | OK | OK | OK | |||||||||
| kjohnson3 | macOS 13.7.7 Ventura / arm64 | OK | OK | OK | OK | |||||||||
|
To the developers/maintainers of the HiCBricks package: - Allow up to 24 hours (and sometimes 48 hours) for your latest push to git@git.bioconductor.org:packages/HiCBricks.git to reflect on this report. See Troubleshooting Build Report for more information. - Use the following Renviron settings to reproduce errors and warnings. - If 'R CMD check' started to fail recently on the Linux builder(s) over a missing dependency, add the missing dependency to 'Suggests:' in your DESCRIPTION file. See Renviron.bioc for more information. |
| Package: HiCBricks |
| Version: 1.28.0 |
| Command: /home/biocbuild/bbs-3.22-bioc/R/bin/R CMD check --install=check:HiCBricks.install-out.txt --library=/home/biocbuild/bbs-3.22-bioc/R/site-library --timings HiCBricks_1.28.0.tar.gz |
| StartedAt: 2025-11-11 00:36:49 -0500 (Tue, 11 Nov 2025) |
| EndedAt: 2025-11-11 00:40:06 -0500 (Tue, 11 Nov 2025) |
| EllapsedTime: 197.2 seconds |
| RetCode: 0 |
| Status: OK |
| CheckDir: HiCBricks.Rcheck |
| Warnings: 0 |
##############################################################################
##############################################################################
###
### Running command:
###
### /home/biocbuild/bbs-3.22-bioc/R/bin/R CMD check --install=check:HiCBricks.install-out.txt --library=/home/biocbuild/bbs-3.22-bioc/R/site-library --timings HiCBricks_1.28.0.tar.gz
###
##############################################################################
##############################################################################
* using log directory ‘/home/biocbuild/bbs-3.22-bioc/meat/HiCBricks.Rcheck’
* using R version 4.5.1 Patched (2025-08-23 r88802)
* using platform: x86_64-pc-linux-gnu
* R was compiled by
gcc (Ubuntu 13.3.0-6ubuntu2~24.04) 13.3.0
GNU Fortran (Ubuntu 13.3.0-6ubuntu2~24.04) 13.3.0
* running under: Ubuntu 24.04.3 LTS
* using session charset: UTF-8
* checking for file ‘HiCBricks/DESCRIPTION’ ... OK
* checking extension type ... Package
* this is package ‘HiCBricks’ version ‘1.28.0’
* package encoding: UTF-8
* checking package namespace information ... OK
* checking package dependencies ... OK
* checking if this is a source package ... OK
* checking if there is a namespace ... OK
* checking for hidden files and directories ... OK
* checking for portable file names ... OK
* checking for sufficient/correct file permissions ... OK
* checking whether package ‘HiCBricks’ can be installed ... OK
* checking installed package size ... OK
* checking package directory ... OK
* checking ‘build’ directory ... OK
* checking DESCRIPTION meta-information ... OK
* checking top-level files ... OK
* checking for left-over files ... OK
* checking index information ... OK
* checking package subdirectories ... OK
* checking code files for non-ASCII characters ... OK
* checking R files for syntax errors ... OK
* checking whether the package can be loaded ... OK
* checking whether the package can be loaded with stated dependencies ... OK
* checking whether the package can be unloaded cleanly ... OK
* checking whether the namespace can be loaded with stated dependencies ... OK
* checking whether the namespace can be unloaded cleanly ... OK
* checking loading without being on the library search path ... OK
* checking dependencies in R code ... OK
* checking S3 generic/method consistency ... OK
* checking replacement functions ... OK
* checking foreign function calls ... OK
* checking R code for possible problems ... OK
* checking Rd files ... OK
* checking Rd metadata ... OK
* checking Rd cross-references ... OK
* checking for missing documentation entries ... OK
* checking for code/documentation mismatches ... OK
* checking Rd \usage sections ... OK
* checking Rd contents ... OK
* checking for unstated dependencies in examples ... OK
* checking files in ‘vignettes’ ... OK
* checking examples ... OK
* checking for unstated dependencies in vignettes ... OK
* checking package vignettes ... OK
* checking re-building of vignette outputs ... OK
* checking PDF version of manual ... OK
* DONE
Status: OK
HiCBricks.Rcheck/00install.out
############################################################################## ############################################################################## ### ### Running command: ### ### /home/biocbuild/bbs-3.22-bioc/R/bin/R CMD INSTALL HiCBricks ### ############################################################################## ############################################################################## * installing to library ‘/home/biocbuild/bbs-3.22-bioc/R/site-library’ * installing *source* package ‘HiCBricks’ ... ** this is package ‘HiCBricks’ version ‘1.28.0’ ** using staged installation ** R ** inst ** byte-compile and prepare package for lazy loading ** help *** installing help indices ** building package indices ** installing vignettes ** testing if installed package can be loaded from temporary location ** testing if installed package can be loaded from final location ** testing if installed package keeps a record of temporary installation path * DONE (HiCBricks)
HiCBricks.Rcheck/HiCBricks-Ex.timings
| name | user | system | elapsed | |
| BrickContainer_change_experiment_name | 1.412 | 0.025 | 1.439 | |
| BrickContainer_change_output_directory | 1.067 | 0.011 | 1.084 | |
| BrickContainer_get_path_to_file | 0.836 | 0.010 | 0.850 | |
| BrickContainer_list_chromosomes | 0.802 | 0.192 | 0.997 | |
| BrickContainer_list_experiment_name | 0.759 | 0.091 | 0.854 | |
| BrickContainer_list_files | 0.733 | 0.054 | 0.790 | |
| BrickContainer_list_output_directory | 0.724 | 0.030 | 0.757 | |
| BrickContainer_list_resolutions | 0.721 | 0.011 | 0.735 | |
| BrickContainer_unlink_resolution | 1.592 | 0.064 | 1.669 | |
| Brick_add_ranges | 1.810 | 0.057 | 1.871 | |
| Brick_call_compartments | 1.150 | 0.048 | 1.205 | |
| Brick_export_to_sparse | 2.123 | 0.026 | 2.151 | |
| Brick_fetch_range_index | 0.884 | 0.051 | 0.938 | |
| Brick_fetch_row_vector | 1.560 | 0.130 | 1.693 | |
| Brick_get_bintable | 0.756 | 0.013 | 0.810 | |
| Brick_get_chrominfo | 0.718 | 0.017 | 0.738 | |
| Brick_get_entire_matrix | 1.077 | 0.021 | 1.102 | |
| Brick_get_matrix | 1.028 | 0.018 | 1.049 | |
| Brick_get_matrix_mcols | 0.998 | 0.022 | 1.023 | |
| Brick_get_matrix_within_coords | 1.448 | 0.019 | 1.470 | |
| Brick_get_ranges | 0.792 | 0.012 | 0.807 | |
| Brick_get_values_by_distance | 1.188 | 0.025 | 1.217 | |
| Brick_get_vector_values | 1.050 | 0.022 | 1.076 | |
| Brick_list_matrices | 0.782 | 0.012 | 0.798 | |
| Brick_list_matrix_mcols | 0.731 | 0.010 | 0.745 | |
| Brick_list_mcool_normalisations | 0 | 0 | 0 | |
| Brick_list_mcool_resolutions | 0 | 0 | 0 | |
| Brick_list_rangekeys | 0.731 | 0.018 | 0.752 | |
| Brick_list_ranges_mcols | 0.712 | 0.020 | 0.734 | |
| Brick_load_cis_matrix_till_distance | 0.918 | 0.015 | 0.936 | |
| Brick_load_data_from_mcool | 0 | 0 | 0 | |
| Brick_load_data_from_sparse | 0 | 0 | 0 | |
| Brick_load_matrix | 0.971 | 0.022 | 0.995 | |
| Brick_local_score_differentiator | 1.619 | 0.061 | 1.683 | |
| Brick_make_ranges | 0.009 | 0.000 | 0.009 | |
| Brick_matrix_dimensions | 1.027 | 0.028 | 1.059 | |
| Brick_matrix_exists | 1.480 | 0.021 | 1.533 | |
| Brick_matrix_filename | 1.000 | 0.030 | 1.034 | |
| Brick_matrix_isdone | 1.020 | 0.022 | 1.045 | |
| Brick_matrix_issparse | 1.002 | 0.015 | 1.133 | |
| Brick_matrix_maxdist | 0.997 | 0.025 | 1.025 | |
| Brick_matrix_minmax | 1.032 | 0.024 | 1.059 | |
| Brick_mcool_normalisation_exists | 0 | 0 | 0 | |
| Brick_rangekey_exists | 0.800 | 0.014 | 0.866 | |
| Brick_return_region_position | 0.835 | 0.010 | 0.853 | |
| Brick_vizart_plot_heatmap | 2.063 | 0.048 | 2.113 | |
| Create_many_Bricks | 0.794 | 0.012 | 0.809 | |
| Create_many_Bricks_from_mcool | 0 | 0 | 0 | |
| load_BrickContainer | 0.806 | 0.011 | 0.819 | |