This page was generated on 2018-10-15 12:45:19 -0400 (Mon, 15 Oct 2018).
| [malbec2] |
Linux (Ubuntu 16.04.1 LTS) / x86_64 | | | |
| tokay2 |
Windows Server 2012 R2 Standard / x64 | | | |
|
| annotation 1.2.0 | Bioconductor Package Maintainer | OK | OK |  |
| arrays 1.4.0 | Bioconductor Package Maintainer | OK | OK |  |
| BiocMetaWorkflow 1.0.0 | Mike Smith | OK | OK |  |
| chipseqDB 1.2.0 | Aaron Lun | OK | OK |  |
| cytofWorkflow 1.2.0 | Malgorzata Nowicka | OK | OK |  |
| EGSEA123 1.2.0 | Matthew Ritchie | OK | OK |  |
| eQTL 1.2.0 | Vincent Carey | OK | OK |  |
| ExpressionNormalizationWorkflow 1.4.0 | Karthikeyan Murugesan | OK | OK |  |
| generegulation 1.2.0 | Bioconductor Package Maintainer | OK | OK |  |
| highthroughputassays 1.2.0 | Bioconductor Package Maintainer | OK | OK |  |
| liftOver 1.2.0 | Bioconductor Package Maintainer | OK | OK |  |
| methylationArrayAnalysis 1.2.0 | Jovana Maksimovic | OK | OK |  |
| proteomics 1.2.0 | Bioconductor Package Maintainer | OK | OK |  |
| recountWorkflow 1.2.0 | Leonardo Collado-Torres | OK | OK |  |
| RNAseq123 1.2.0 | Matthew Ritchie | OK | OK |  |
| rnaseqGene 1.2.0 | Michael Love | OK | OK |  |
| RnaSeqGeneEdgeRQL 1.2.3 | Yunshun Chen , Gordon Smyth | OK | OK |  |
| sequencing 1.2.0 | Martin Morgan | OK | OK |  |
| simpleSingleCell 1.2.1 | Aaron Lun | OK | OK |  |
| TCGAWorkflow 1.2.5 | Tiago Chedraoui Silva | OK | ERROR | |
| variants 1.2.0 | Bioconductor Package Maintainer | OK | OK |  |