| Back to Workflows build report for BioC 3.7 |
This page was generated on 2018-10-15 12:45:16 -0400 (Mon, 15 Oct 2018).
| Package 9/21 | Hostname | OS / Arch | INSTALL | BUILD | ||||||
| generegulation 1.2.0 Bioconductor Package Maintainer
| malbec2 | Linux (Ubuntu 16.04.1 LTS) / x86_64 | [ OK ] | OK | ||||||
| tokay2 | Windows Server 2012 R2 Standard / x64 | OK | OK |
| Package: generegulation |
| Version: 1.2.0 |
| Command: /home/biocbuild/bbs-3.7-bioc/R/bin/R CMD INSTALL generegulation |
| StartedAt: 2018-10-15 07:57:02 -0400 (Mon, 15 Oct 2018) |
| EndedAt: 2018-10-15 07:57:26 -0400 (Mon, 15 Oct 2018) |
| EllapsedTime: 23.9 seconds |
| RetCode: 0 |
| Status: OK |
##############################################################################
##############################################################################
###
### Running command:
###
### /home/biocbuild/bbs-3.7-bioc/R/bin/R CMD INSTALL generegulation
###
##############################################################################
##############################################################################
* installing to library ‘/home/biocbuild/bbs-3.7-bioc/R/library’
* installing *source* package ‘generegulation’ ...
** help
No man pages found in package ‘generegulation’
*** installing help indices
** building package indices
** installing vignettes
** testing if installed package can be loaded
See system.file("LICENSE", package="MotifDb") for use restrictions.
* DONE (generegulation)