| Back to Workflows build report for BioC 3.7 |
This page was generated on 2018-10-15 12:45:16 -0400 (Mon, 15 Oct 2018).
| Package 16/21 | Hostname | OS / Arch | INSTALL | BUILD | ||||||
| rnaseqGene 1.2.0 Michael Love
| malbec2 | Linux (Ubuntu 16.04.1 LTS) / x86_64 | [ OK ] | OK | ||||||
| tokay2 | Windows Server 2012 R2 Standard / x64 | OK | OK |
| Package: rnaseqGene |
| Version: 1.2.0 |
| Command: /home/biocbuild/bbs-3.7-bioc/R/bin/R CMD INSTALL rnaseqGene |
| StartedAt: 2018-10-15 07:57:10 -0400 (Mon, 15 Oct 2018) |
| EndedAt: 2018-10-15 07:57:45 -0400 (Mon, 15 Oct 2018) |
| EllapsedTime: 35.3 seconds |
| RetCode: 0 |
| Status: OK |
############################################################################## ############################################################################## ### ### Running command: ### ### /home/biocbuild/bbs-3.7-bioc/R/bin/R CMD INSTALL rnaseqGene ### ############################################################################## ############################################################################## * installing to library ‘/home/biocbuild/bbs-3.7-bioc/R/library’ * installing *source* package ‘rnaseqGene’ ... ** help No man pages found in package ‘rnaseqGene’ *** installing help indices ** building package indices ** installing vignettes ** testing if installed package can be loaded * DONE (rnaseqGene)