| Back to Workflows build report for BioC 3.7 |
This page was generated on 2018-10-15 12:45:17 -0400 (Mon, 15 Oct 2018).
| Package 17/21 | Hostname | OS / Arch | INSTALL | BUILD | ||||||
| RnaSeqGeneEdgeRQL 1.2.3 Yunshun Chen
| malbec2 | Linux (Ubuntu 16.04.1 LTS) / x86_64 | OK | [ OK ] | ||||||
| tokay2 | Windows Server 2012 R2 Standard / x64 | OK | ERROR |
| Package: RnaSeqGeneEdgeRQL |
| Version: 1.2.3 |
| Command: /home/biocbuild/bbs-3.7-bioc/R/bin/R CMD build --keep-empty-dirs --no-resave-data RnaSeqGeneEdgeRQL |
| StartedAt: 2018-10-15 08:07:48 -0400 (Mon, 15 Oct 2018) |
| EndedAt: 2018-10-15 08:08:53 -0400 (Mon, 15 Oct 2018) |
| EllapsedTime: 64.1 seconds |
| RetCode: 0 |
| Status: OK |
| PackageFile: RnaSeqGeneEdgeRQL_1.2.3.tar.gz |
| PackageFileSize: 1.472 MiB |
############################################################################## ############################################################################## ### ### Running command: ### ### /home/biocbuild/bbs-3.7-bioc/R/bin/R CMD build --keep-empty-dirs --no-resave-data RnaSeqGeneEdgeRQL ### ############################################################################## ############################################################################## * checking for file ‘RnaSeqGeneEdgeRQL/DESCRIPTION’ ... OK * preparing ‘RnaSeqGeneEdgeRQL’: * checking DESCRIPTION meta-information ... OK * installing the package to build vignettes * creating vignettes ... OK * checking for LF line-endings in source and make files and shell scripts * checking for empty or unneeded directories * building ‘RnaSeqGeneEdgeRQL_1.2.3.tar.gz’