| Back to Workflows build report for BioC 3.7 |
This page was generated on 2018-10-15 12:45:18 -0400 (Mon, 15 Oct 2018).
| Package 17/21 | Hostname | OS / Arch | INSTALL | BUILD | ||||||
| RnaSeqGeneEdgeRQL 1.2.3 Yunshun Chen
| malbec2 | Linux (Ubuntu 16.04.1 LTS) / x86_64 | OK | OK | ||||||
| tokay2 | Windows Server 2012 R2 Standard / x64 | [ OK ] | ERROR |
| Package: RnaSeqGeneEdgeRQL |
| Version: 1.2.3 |
| Command: C:\cygwin\bin\curl.exe -O https://malbec2.bioconductor.org/BBS/3.7/workflows/src/contrib/RnaSeqGeneEdgeRQL_1.2.3.tar.gz && rm -rf RnaSeqGeneEdgeRQL.buildbin-libdir && mkdir RnaSeqGeneEdgeRQL.buildbin-libdir && C:\Users\biocbuild\bbs-3.7-bioc\R\bin\R.exe CMD INSTALL --merge-multiarch --build --library=RnaSeqGeneEdgeRQL.buildbin-libdir RnaSeqGeneEdgeRQL_1.2.3.tar.gz && C:\Users\biocbuild\bbs-3.7-bioc\R\bin\R.exe CMD INSTALL RnaSeqGeneEdgeRQL_1.2.3.zip && rm RnaSeqGeneEdgeRQL_1.2.3.tar.gz RnaSeqGeneEdgeRQL_1.2.3.zip |
| StartedAt: 2018-10-15 07:55:22 -0400 (Mon, 15 Oct 2018) |
| EndedAt: 2018-10-15 07:55:33 -0400 (Mon, 15 Oct 2018) |
| EllapsedTime: 11.0 seconds |
| RetCode: 0 |
| Status: OK |
##############################################################################
##############################################################################
###
### Running command:
###
### C:\cygwin\bin\curl.exe -O https://malbec2.bioconductor.org/BBS/3.7/workflows/src/contrib/RnaSeqGeneEdgeRQL_1.2.3.tar.gz && rm -rf RnaSeqGeneEdgeRQL.buildbin-libdir && mkdir RnaSeqGeneEdgeRQL.buildbin-libdir && C:\Users\biocbuild\bbs-3.7-bioc\R\bin\R.exe CMD INSTALL --merge-multiarch --build --library=RnaSeqGeneEdgeRQL.buildbin-libdir RnaSeqGeneEdgeRQL_1.2.3.tar.gz && C:\Users\biocbuild\bbs-3.7-bioc\R\bin\R.exe CMD INSTALL RnaSeqGeneEdgeRQL_1.2.3.zip && rm RnaSeqGeneEdgeRQL_1.2.3.tar.gz RnaSeqGeneEdgeRQL_1.2.3.zip
###
##############################################################################
##############################################################################
% Total % Received % Xferd Average Speed Time Time Time Current
Dload Upload Total Spent Left Speed
0 0 0 0 0 0 0 0 --:--:-- --:--:-- --:--:-- 0
100 204k 100 204k 0 0 4282k 0 --:--:-- --:--:-- --:--:-- 4860k
install for i386
* installing *source* package 'RnaSeqGeneEdgeRQL' ...
** inst
** help
No man pages found in package 'RnaSeqGeneEdgeRQL'
*** installing help indices
** building package indices
** installing vignettes
** testing if installed package can be loaded
In R CMD INSTALL
install for x64
* installing *source* package 'RnaSeqGeneEdgeRQL' ...
** testing if installed package can be loaded
* MD5 sums
packaged installation of 'RnaSeqGeneEdgeRQL' as RnaSeqGeneEdgeRQL_1.2.3.zip
* DONE (RnaSeqGeneEdgeRQL)
In R CMD INSTALL
In R CMD INSTALL
* installing to library 'C:/Users/biocbuild/bbs-3.7-bioc/R/library'
package 'RnaSeqGeneEdgeRQL' successfully unpacked and MD5 sums checked
In R CMD INSTALL