| Back to Multiple platform build/check report for BioC 3.22: simplified long |
|
This page was generated on 2025-10-24 12:05 -0400 (Fri, 24 Oct 2025).
| Hostname | OS | Arch (*) | R version | Installed pkgs |
|---|---|---|---|---|
| nebbiolo2 | Linux (Ubuntu 24.04.3 LTS) | x86_64 | 4.5.1 Patched (2025-08-23 r88802) -- "Great Square Root" | 4898 |
| lconway | macOS 12.7.6 Monterey | x86_64 | 4.5.1 Patched (2025-09-10 r88807) -- "Great Square Root" | 4688 |
| kjohnson3 | macOS 13.7.7 Ventura | arm64 | 4.5.1 Patched (2025-09-10 r88807) -- "Great Square Root" | 4634 |
| taishan | Linux (openEuler 24.03 LTS) | aarch64 | 4.5.0 (2025-04-11) -- "How About a Twenty-Six" | 4658 |
| Click on any hostname to see more info about the system (e.g. compilers) (*) as reported by 'uname -p', except on Windows and Mac OS X | ||||
| Package 2280/2359 | Hostname | OS / Arch | INSTALL | BUILD | CHECK | BUILD BIN | ||||||||
| twoddpcr 1.33.0 (landing page) Anthony Chiu
| nebbiolo2 | Linux (Ubuntu 24.04.3 LTS) / x86_64 | OK | OK | OK | |||||||||
| lconway | macOS 12.7.6 Monterey / x86_64 | OK | OK | OK | OK | |||||||||
| kjohnson3 | macOS 13.7.7 Ventura / arm64 | OK | OK | OK | OK | |||||||||
| taishan | Linux (openEuler 24.03 LTS) / aarch64 | OK | OK | NA | ||||||||||
|
To the developers/maintainers of the twoddpcr package: - Allow up to 24 hours (and sometimes 48 hours) for your latest push to git@git.bioconductor.org:packages/twoddpcr.git to reflect on this report. See Troubleshooting Build Report for more information. - Use the following Renviron settings to reproduce errors and warnings. - If 'R CMD check' started to fail recently on the Linux builder(s) over a missing dependency, add the missing dependency to 'Suggests:' in your DESCRIPTION file. See Renviron.bioc for more information. |
| Package: twoddpcr |
| Version: 1.33.0 |
| Command: /Library/Frameworks/R.framework/Resources/bin/R CMD check --install=check:twoddpcr.install-out.txt --library=/Library/Frameworks/R.framework/Resources/library --no-vignettes --timings twoddpcr_1.33.0.tar.gz |
| StartedAt: 2025-10-24 00:54:03 -0400 (Fri, 24 Oct 2025) |
| EndedAt: 2025-10-24 00:56:29 -0400 (Fri, 24 Oct 2025) |
| EllapsedTime: 145.8 seconds |
| RetCode: 0 |
| Status: OK |
| CheckDir: twoddpcr.Rcheck |
| Warnings: 0 |
##############################################################################
##############################################################################
###
### Running command:
###
### /Library/Frameworks/R.framework/Resources/bin/R CMD check --install=check:twoddpcr.install-out.txt --library=/Library/Frameworks/R.framework/Resources/library --no-vignettes --timings twoddpcr_1.33.0.tar.gz
###
##############################################################################
##############################################################################
* using log directory ‘/Users/biocbuild/bbs-3.22-bioc/meat/twoddpcr.Rcheck’
* using R version 4.5.1 Patched (2025-09-10 r88807)
* using platform: x86_64-apple-darwin20
* R was compiled by
Apple clang version 14.0.0 (clang-1400.0.29.202)
GNU Fortran (GCC) 14.2.0
* running under: macOS Monterey 12.7.6
* using session charset: UTF-8
* using option ‘--no-vignettes’
* checking for file ‘twoddpcr/DESCRIPTION’ ... OK
* this is package ‘twoddpcr’ version ‘1.33.0’
* checking package namespace information ... OK
* checking package dependencies ... OK
* checking if this is a source package ... OK
* checking if there is a namespace ... OK
* checking for hidden files and directories ... OK
* checking for portable file names ... OK
* checking for sufficient/correct file permissions ... OK
* checking whether package ‘twoddpcr’ can be installed ... OK
* checking installed package size ... OK
* checking package directory ... OK
* checking ‘build’ directory ... OK
* checking DESCRIPTION meta-information ... OK
* checking top-level files ... OK
* checking for left-over files ... OK
* checking index information ... OK
* checking package subdirectories ... OK
* checking code files for non-ASCII characters ... OK
* checking R files for syntax errors ... OK
* checking whether the package can be loaded ... OK
* checking whether the package can be loaded with stated dependencies ... OK
* checking whether the package can be unloaded cleanly ... OK
* checking whether the namespace can be loaded with stated dependencies ... OK
* checking whether the namespace can be unloaded cleanly ... OK
* checking dependencies in R code ... OK
* checking S3 generic/method consistency ... OK
* checking replacement functions ... OK
* checking foreign function calls ... OK
* checking R code for possible problems ... OK
* checking Rd files ... OK
* checking Rd metadata ... OK
* checking Rd cross-references ... OK
* checking for missing documentation entries ... OK
* checking for code/documentation mismatches ... OK
* checking Rd \usage sections ... NOTE
S3 methods shown with full name in Rd file 'ggplot.well.Rd':
‘ggplot.well’ ‘ggplot.plate’
The \usage entries for S3 methods should use the \method markup and not
their full name.
See chapter ‘Writing R documentation files’ in the ‘Writing R
Extensions’ manual.
* checking Rd contents ... OK
* checking for unstated dependencies in examples ... OK
* checking contents of ‘data’ directory ... OK
* checking data for non-ASCII characters ... OK
* checking LazyData ... OK
* checking data for ASCII and uncompressed saves ... OK
* checking files in ‘vignettes’ ... OK
* checking examples ... OK
Examples with CPU (user + system) or elapsed time > 5s
user system elapsed
knnClassify 7.866 0.172 8.100
ggplot.well 6.244 0.257 6.543
gridClassify 5.254 0.146 5.435
dropletPlot 4.846 0.360 5.437
* checking for unstated dependencies in ‘tests’ ... OK
* checking tests ...
Running ‘testthat.R’
OK
* checking for unstated dependencies in vignettes ... OK
* checking package vignettes ... OK
* checking running R code from vignettes ... SKIPPED
* checking re-building of vignette outputs ... SKIPPED
* checking PDF version of manual ... OK
* DONE
Status: 1 NOTE
See
‘/Users/biocbuild/bbs-3.22-bioc/meat/twoddpcr.Rcheck/00check.log’
for details.
twoddpcr.Rcheck/00install.out
############################################################################## ############################################################################## ### ### Running command: ### ### /Library/Frameworks/R.framework/Resources/bin/R CMD INSTALL twoddpcr ### ############################################################################## ############################################################################## * installing to library ‘/Library/Frameworks/R.framework/Versions/4.5-x86_64/Resources/library’ * installing *source* package ‘twoddpcr’ ... ** this is package ‘twoddpcr’ version ‘1.33.0’ ** using staged installation ** R ** data *** moving datasets to lazyload DB ** inst ** byte-compile and prepare package for lazy loading ** help *** installing help indices ** building package indices ** installing vignettes ** testing if installed package can be loaded from temporary location ** testing if installed package can be loaded from final location ** testing if installed package keeps a record of temporary installation path * DONE (twoddpcr)
twoddpcr.Rcheck/tests/testthat.Rout
R version 4.5.1 Patched (2025-09-10 r88807) -- "Great Square Root"
Copyright (C) 2025 The R Foundation for Statistical Computing
Platform: x86_64-apple-darwin20
R is free software and comes with ABSOLUTELY NO WARRANTY.
You are welcome to redistribute it under certain conditions.
Type 'license()' or 'licence()' for distribution details.
R is a collaborative project with many contributors.
Type 'contributors()' for more information and
'citation()' on how to cite R or R packages in publications.
Type 'demo()' for some demos, 'help()' for on-line help, or
'help.start()' for an HTML browser interface to help.
Type 'q()' to quit R.
> library(testthat)
> library(twoddpcr)
>
> test_check("twoddpcr")
[ FAIL 0 | WARN 2 | SKIP 0 | PASS 155 ]
[ FAIL 0 | WARN 2 | SKIP 0 | PASS 155 ]
>
> proc.time()
user system elapsed
7.448 0.535 8.067
twoddpcr.Rcheck/twoddpcr-Ex.timings
| name | user | system | elapsed | |
| amplitudes | 0.319 | 0.023 | 0.353 | |
| basicsSummary | 0.005 | 0.000 | 0.005 | |
| castSummary | 0.018 | 0.004 | 0.022 | |
| classCov | 0.069 | 0.009 | 0.078 | |
| classMeans | 0.071 | 0.011 | 0.082 | |
| classStats | 0.069 | 0.006 | 0.076 | |
| clusterCentres | 0.813 | 0.050 | 0.869 | |
| copiesSummary | 0.004 | 0.001 | 0.006 | |
| ddpcrPlate-class | 0.340 | 0.019 | 0.364 | |
| ddpcrWell-class | 0.024 | 0.002 | 0.026 | |
| ddpcrWell-methods | 0.296 | 0.007 | 0.305 | |
| dropletPlot | 4.846 | 0.360 | 5.437 | |
| exportTable | 0.169 | 0.025 | 0.223 | |
| extractPlateName | 0.000 | 0.001 | 0.004 | |
| extractWellNames | 0.000 | 0.001 | 0.002 | |
| facetPlot | 2.863 | 0.093 | 2.979 | |
| flatPlot | 4.073 | 0.229 | 4.367 | |
| fullCopiesSummary | 0.006 | 0.001 | 0.007 | |
| fullCountsSummary | 0.028 | 0.006 | 0.034 | |
| ggplot.well | 6.244 | 0.257 | 6.543 | |
| gridClassify | 5.254 | 0.146 | 5.435 | |
| heatPlot | 1.887 | 0.064 | 1.963 | |
| kmeansClassify | 1.457 | 0.075 | 1.544 | |
| knnClassify | 7.866 | 0.172 | 8.100 | |
| mahalanobisRain | 0.689 | 0.040 | 0.733 | |
| mutantCopiesSummary | 0.004 | 0.001 | 0.005 | |
| numDroplets | 0.263 | 0.011 | 0.275 | |
| parseClusterCounts | 0.014 | 0.005 | 0.021 | |
| plateClassification | 1.271 | 0.045 | 1.323 | |
| plateClassificationMethod | 0.353 | 0.004 | 0.361 | |
| plateSummary | 1.540 | 0.032 | 1.591 | |
| positiveCounts | 0.026 | 0.000 | 0.027 | |
| readCSVDataFrame | 0.012 | 0.004 | 0.017 | |
| relabelClasses | 0.094 | 0.011 | 0.111 | |
| removeDropletClasses | 0.700 | 0.030 | 0.737 | |
| renormalisePlate | 3.289 | 0.179 | 3.495 | |
| sdRain | 2.441 | 0.041 | 2.507 | |
| setChannelNames | 0.001 | 0.001 | 0.002 | |
| setDropletVolume | 0 | 0 | 0 | |
| sortDataFrame | 0.003 | 0.001 | 0.003 | |
| sortWells | 0.281 | 0.008 | 0.290 | |
| thresholdClassify | 1.835 | 0.064 | 1.917 | |
| wellClassification | 0.017 | 0.001 | 0.020 | |
| wellClassificationMethod | 0.018 | 0.001 | 0.019 | |
| whiteTheme | 1.565 | 0.041 | 1.621 | |
| wildTypeCopiesSummary | 0.006 | 0.001 | 0.008 | |