| Back to Multiple platform build/check report for BioC 3.22: simplified long |
|
This page was generated on 2025-10-25 12:04 -0400 (Sat, 25 Oct 2025).
| Hostname | OS | Arch (*) | R version | Installed pkgs |
|---|---|---|---|---|
| nebbiolo2 | Linux (Ubuntu 24.04.3 LTS) | x86_64 | 4.5.1 Patched (2025-08-23 r88802) -- "Great Square Root" | 4901 |
| lconway | macOS 12.7.6 Monterey | x86_64 | 4.5.1 Patched (2025-09-10 r88807) -- "Great Square Root" | 4691 |
| kjohnson3 | macOS 13.7.7 Ventura | arm64 | 4.5.1 Patched (2025-09-10 r88807) -- "Great Square Root" | 4637 |
| taishan | Linux (openEuler 24.03 LTS) | aarch64 | 4.5.0 (2025-04-11) -- "How About a Twenty-Six" | 4658 |
| Click on any hostname to see more info about the system (e.g. compilers) (*) as reported by 'uname -p', except on Windows and Mac OS X | ||||
| Package 2282/2361 | Hostname | OS / Arch | INSTALL | BUILD | CHECK | BUILD BIN | ||||||||
| twoddpcr 1.33.0 (landing page) Anthony Chiu
| nebbiolo2 | Linux (Ubuntu 24.04.3 LTS) / x86_64 | OK | OK | OK | |||||||||
| lconway | macOS 12.7.6 Monterey / x86_64 | OK | OK | OK | OK | |||||||||
| kjohnson3 | macOS 13.7.7 Ventura / arm64 | OK | OK | OK | OK | |||||||||
| taishan | Linux (openEuler 24.03 LTS) / aarch64 | OK | NA | NA | ||||||||||
|
To the developers/maintainers of the twoddpcr package: - Allow up to 24 hours (and sometimes 48 hours) for your latest push to git@git.bioconductor.org:packages/twoddpcr.git to reflect on this report. See Troubleshooting Build Report for more information. - Use the following Renviron settings to reproduce errors and warnings. - If 'R CMD check' started to fail recently on the Linux builder(s) over a missing dependency, add the missing dependency to 'Suggests:' in your DESCRIPTION file. See Renviron.bioc for more information. |
| Package: twoddpcr |
| Version: 1.33.0 |
| Command: /home/biocbuild/bbs-3.22-bioc/R/bin/R CMD check --install=check:twoddpcr.install-out.txt --library=/home/biocbuild/bbs-3.22-bioc/R/site-library --timings twoddpcr_1.33.0.tar.gz |
| StartedAt: 2025-10-25 05:12:39 -0400 (Sat, 25 Oct 2025) |
| EndedAt: 2025-10-25 05:16:50 -0400 (Sat, 25 Oct 2025) |
| EllapsedTime: 251.3 seconds |
| RetCode: 0 |
| Status: OK |
| CheckDir: twoddpcr.Rcheck |
| Warnings: 0 |
##############################################################################
##############################################################################
###
### Running command:
###
### /home/biocbuild/bbs-3.22-bioc/R/bin/R CMD check --install=check:twoddpcr.install-out.txt --library=/home/biocbuild/bbs-3.22-bioc/R/site-library --timings twoddpcr_1.33.0.tar.gz
###
##############################################################################
##############################################################################
* using log directory ‘/home/biocbuild/bbs-3.22-bioc/meat/twoddpcr.Rcheck’
* using R version 4.5.1 Patched (2025-08-23 r88802)
* using platform: x86_64-pc-linux-gnu
* R was compiled by
gcc (Ubuntu 13.3.0-6ubuntu2~24.04) 13.3.0
GNU Fortran (Ubuntu 13.3.0-6ubuntu2~24.04) 13.3.0
* running under: Ubuntu 24.04.3 LTS
* using session charset: UTF-8
* checking for file ‘twoddpcr/DESCRIPTION’ ... OK
* this is package ‘twoddpcr’ version ‘1.33.0’
* checking package namespace information ... OK
* checking package dependencies ... OK
* checking if this is a source package ... OK
* checking if there is a namespace ... OK
* checking for hidden files and directories ... OK
* checking for portable file names ... OK
* checking for sufficient/correct file permissions ... OK
* checking whether package ‘twoddpcr’ can be installed ... OK
* checking installed package size ... OK
* checking package directory ... OK
* checking ‘build’ directory ... OK
* checking DESCRIPTION meta-information ... OK
* checking top-level files ... OK
* checking for left-over files ... OK
* checking index information ... OK
* checking package subdirectories ... OK
* checking code files for non-ASCII characters ... OK
* checking R files for syntax errors ... OK
* checking whether the package can be loaded ... OK
* checking whether the package can be loaded with stated dependencies ... OK
* checking whether the package can be unloaded cleanly ... OK
* checking whether the namespace can be loaded with stated dependencies ... OK
* checking whether the namespace can be unloaded cleanly ... OK
* checking loading without being on the library search path ... OK
* checking dependencies in R code ... OK
* checking S3 generic/method consistency ... OK
* checking replacement functions ... OK
* checking foreign function calls ... OK
* checking R code for possible problems ... OK
* checking Rd files ... OK
* checking Rd metadata ... OK
* checking Rd cross-references ... OK
* checking for missing documentation entries ... OK
* checking for code/documentation mismatches ... OK
* checking Rd \usage sections ... NOTE
S3 methods shown with full name in Rd file 'ggplot.well.Rd':
‘ggplot.well’ ‘ggplot.plate’
The \usage entries for S3 methods should use the \method markup and not
their full name.
See chapter ‘Writing R documentation files’ in the ‘Writing R
Extensions’ manual.
* checking Rd contents ... OK
* checking for unstated dependencies in examples ... OK
* checking contents of ‘data’ directory ... OK
* checking data for non-ASCII characters ... OK
* checking LazyData ... OK
* checking data for ASCII and uncompressed saves ... OK
* checking files in ‘vignettes’ ... OK
* checking examples ... OK
Examples with CPU (user + system) or elapsed time > 5s
user system elapsed
knnClassify 7.245 0.064 7.309
ggplot.well 6.211 0.110 6.321
* checking for unstated dependencies in ‘tests’ ... OK
* checking tests ...
Running ‘testthat.R’
OK
* checking for unstated dependencies in vignettes ... OK
* checking package vignettes ... OK
* checking re-building of vignette outputs ... OK
* checking PDF version of manual ... OK
* DONE
Status: 1 NOTE
See
‘/home/biocbuild/bbs-3.22-bioc/meat/twoddpcr.Rcheck/00check.log’
for details.
twoddpcr.Rcheck/00install.out
############################################################################## ############################################################################## ### ### Running command: ### ### /home/biocbuild/bbs-3.22-bioc/R/bin/R CMD INSTALL twoddpcr ### ############################################################################## ############################################################################## * installing to library ‘/home/biocbuild/bbs-3.22-bioc/R/site-library’ * installing *source* package ‘twoddpcr’ ... ** this is package ‘twoddpcr’ version ‘1.33.0’ ** using staged installation ** R ** data *** moving datasets to lazyload DB ** inst ** byte-compile and prepare package for lazy loading ** help *** installing help indices ** building package indices ** installing vignettes ** testing if installed package can be loaded from temporary location ** testing if installed package can be loaded from final location ** testing if installed package keeps a record of temporary installation path * DONE (twoddpcr)
twoddpcr.Rcheck/tests/testthat.Rout
R version 4.5.1 Patched (2025-08-23 r88802) -- "Great Square Root"
Copyright (C) 2025 The R Foundation for Statistical Computing
Platform: x86_64-pc-linux-gnu
R is free software and comes with ABSOLUTELY NO WARRANTY.
You are welcome to redistribute it under certain conditions.
Type 'license()' or 'licence()' for distribution details.
R is a collaborative project with many contributors.
Type 'contributors()' for more information and
'citation()' on how to cite R or R packages in publications.
Type 'demo()' for some demos, 'help()' for on-line help, or
'help.start()' for an HTML browser interface to help.
Type 'q()' to quit R.
> library(testthat)
> library(twoddpcr)
>
> test_check("twoddpcr")
[ FAIL 0 | WARN 2 | SKIP 0 | PASS 155 ]
[ FAIL 0 | WARN 2 | SKIP 0 | PASS 155 ]
>
> proc.time()
user system elapsed
6.436 0.308 6.737
twoddpcr.Rcheck/twoddpcr-Ex.timings
| name | user | system | elapsed | |
| amplitudes | 0.262 | 0.037 | 0.301 | |
| basicsSummary | 0.004 | 0.000 | 0.004 | |
| castSummary | 0.014 | 0.000 | 0.015 | |
| classCov | 0.060 | 0.000 | 0.062 | |
| classMeans | 0.220 | 0.008 | 0.228 | |
| classStats | 0.062 | 0.001 | 0.063 | |
| clusterCentres | 0.565 | 0.003 | 0.570 | |
| copiesSummary | 0.005 | 0.001 | 0.004 | |
| ddpcrPlate-class | 0.187 | 0.000 | 0.187 | |
| ddpcrWell-class | 0.017 | 0.000 | 0.017 | |
| ddpcrWell-methods | 0.340 | 0.000 | 0.341 | |
| dropletPlot | 4.434 | 0.033 | 4.467 | |
| exportTable | 0.119 | 0.004 | 0.124 | |
| extractPlateName | 0.001 | 0.001 | 0.000 | |
| extractWellNames | 0 | 0 | 0 | |
| facetPlot | 2.180 | 0.076 | 2.258 | |
| flatPlot | 4.201 | 0.069 | 4.272 | |
| fullCopiesSummary | 0.007 | 0.000 | 0.007 | |
| fullCountsSummary | 0.020 | 0.003 | 0.025 | |
| ggplot.well | 6.211 | 0.110 | 6.321 | |
| gridClassify | 4.604 | 0.043 | 4.648 | |
| heatPlot | 1.583 | 0.004 | 1.589 | |
| kmeansClassify | 0.910 | 0.001 | 0.910 | |
| knnClassify | 7.245 | 0.064 | 7.309 | |
| mahalanobisRain | 0.762 | 0.018 | 0.780 | |
| mutantCopiesSummary | 0.004 | 0.000 | 0.004 | |
| numDroplets | 0.182 | 0.000 | 0.182 | |
| parseClusterCounts | 0.01 | 0.00 | 0.01 | |
| plateClassification | 0.798 | 0.000 | 0.798 | |
| plateClassificationMethod | 0.277 | 0.000 | 0.276 | |
| plateSummary | 1.735 | 0.006 | 1.741 | |
| positiveCounts | 0.024 | 0.002 | 0.026 | |
| readCSVDataFrame | 0.009 | 0.002 | 0.011 | |
| relabelClasses | 0.046 | 0.005 | 0.050 | |
| removeDropletClasses | 0.572 | 0.010 | 0.581 | |
| renormalisePlate | 2.731 | 0.008 | 2.738 | |
| sdRain | 2.835 | 0.001 | 2.836 | |
| setChannelNames | 0.001 | 0.000 | 0.001 | |
| setDropletVolume | 0.000 | 0.000 | 0.001 | |
| sortDataFrame | 0.001 | 0.000 | 0.001 | |
| sortWells | 0.172 | 0.000 | 0.172 | |
| thresholdClassify | 1.119 | 0.001 | 1.120 | |
| wellClassification | 0.014 | 0.000 | 0.014 | |
| wellClassificationMethod | 0.014 | 0.000 | 0.015 | |
| whiteTheme | 1.426 | 0.020 | 1.446 | |
| wildTypeCopiesSummary | 0.004 | 0.000 | 0.005 | |