| Back to Multiple platform build/check report for BioC 3.22: simplified long |
|
This page was generated on 2025-08-15 12:07 -0400 (Fri, 15 Aug 2025).
| Hostname | OS | Arch (*) | R version | Installed pkgs |
|---|---|---|---|---|
| nebbiolo2 | Linux (Ubuntu 24.04.3 LTS) | x86_64 | 4.5.1 (2025-06-13) -- "Great Square Root" | 4818 |
| palomino8 | Windows Server 2022 Datacenter | x64 | 4.5.1 (2025-06-13 ucrt) -- "Great Square Root" | 4554 |
| lconway | macOS 12.7.1 Monterey | x86_64 | 4.5.1 (2025-06-13) -- "Great Square Root" | 4595 |
| kjohnson3 | macOS 13.7.7 Ventura | arm64 | 4.5.1 Patched (2025-06-14 r88325) -- "Great Square Root" | 4537 |
| taishan | Linux (openEuler 24.03 LTS) | aarch64 | 4.5.0 (2025-04-11) -- "How About a Twenty-Six" | 4535 |
| Click on any hostname to see more info about the system (e.g. compilers) (*) as reported by 'uname -p', except on Windows and Mac OS X | ||||
| Package 2132/2317 | Hostname | OS / Arch | INSTALL | BUILD | CHECK | BUILD BIN | ||||||||
| systemPipeR 2.15.2 (landing page) Thomas Girke
| nebbiolo2 | Linux (Ubuntu 24.04.3 LTS) / x86_64 | OK | OK | OK | |||||||||
| palomino8 | Windows Server 2022 Datacenter / x64 | OK | OK | OK | OK | |||||||||
| lconway | macOS 12.7.1 Monterey / x86_64 | OK | OK | OK | OK | |||||||||
| kjohnson3 | macOS 13.7.7 Ventura / arm64 | OK | OK | OK | OK | |||||||||
| taishan | Linux (openEuler 24.03 LTS) / aarch64 | OK | OK | OK | ||||||||||
|
To the developers/maintainers of the systemPipeR package: - Allow up to 24 hours (and sometimes 48 hours) for your latest push to git@git.bioconductor.org:packages/systemPipeR.git to reflect on this report. See Troubleshooting Build Report for more information. - Use the following Renviron settings to reproduce errors and warnings. - If 'R CMD check' started to fail recently on the Linux builder(s) over a missing dependency, add the missing dependency to 'Suggests:' in your DESCRIPTION file. See Renviron.bioc for more information. |
| Package: systemPipeR |
| Version: 2.15.2 |
| Command: F:\biocbuild\bbs-3.22-bioc\R\bin\R.exe CMD check --no-multiarch --install=check:systemPipeR.install-out.txt --library=F:\biocbuild\bbs-3.22-bioc\R\library --no-vignettes --timings systemPipeR_2.15.2.tar.gz |
| StartedAt: 2025-08-15 08:38:44 -0400 (Fri, 15 Aug 2025) |
| EndedAt: 2025-08-15 08:46:26 -0400 (Fri, 15 Aug 2025) |
| EllapsedTime: 461.7 seconds |
| RetCode: 0 |
| Status: OK |
| CheckDir: systemPipeR.Rcheck |
| Warnings: 0 |
##############################################################################
##############################################################################
###
### Running command:
###
### F:\biocbuild\bbs-3.22-bioc\R\bin\R.exe CMD check --no-multiarch --install=check:systemPipeR.install-out.txt --library=F:\biocbuild\bbs-3.22-bioc\R\library --no-vignettes --timings systemPipeR_2.15.2.tar.gz
###
##############################################################################
##############################################################################
* using log directory 'F:/biocbuild/bbs-3.22-bioc/meat/systemPipeR.Rcheck'
* using R version 4.5.1 (2025-06-13 ucrt)
* using platform: x86_64-w64-mingw32
* R was compiled by
gcc.exe (GCC) 14.2.0
GNU Fortran (GCC) 14.2.0
* running under: Windows Server 2022 x64 (build 20348)
* using session charset: UTF-8
* using option '--no-vignettes'
* checking for file 'systemPipeR/DESCRIPTION' ... OK
* checking extension type ... Package
* this is package 'systemPipeR' version '2.15.2'
* checking package namespace information ... OK
* checking package dependencies ... OK
* checking if this is a source package ... OK
* checking if there is a namespace ... OK
* checking for hidden files and directories ... NOTE
Found the following hidden files and directories:
inst/extdata/.batchtools.conf.R
inst/extdata/.batchtools.conf.R.sge
inst/extdata/.batchtools.conf.R.torque
These were most likely included in error. See section 'Package
structure' in the 'Writing R Extensions' manual.
* checking for portable file names ... OK
* checking whether package 'systemPipeR' can be installed ... OK
* checking installed package size ... INFO
installed size is 6.3Mb
sub-directories of 1Mb or more:
R 1.6Mb
extdata 2.3Mb
htmlwidgets 2.0Mb
* checking package directory ... OK
* checking 'build' directory ... OK
* checking DESCRIPTION meta-information ... OK
* checking top-level files ... OK
* checking for left-over files ... OK
* checking index information ... OK
* checking package subdirectories ... NOTE
Problems with news in 'NEWS':
Cannot process chunk/lines:
OVERVIEW
* checking code files for non-ASCII characters ... OK
* checking R files for syntax errors ... OK
* checking whether the package can be loaded ... OK
* checking whether the package can be loaded with stated dependencies ... OK
* checking whether the package can be unloaded cleanly ... OK
* checking whether the namespace can be loaded with stated dependencies ... OK
* checking whether the namespace can be unloaded cleanly ... OK
* checking dependencies in R code ... OK
* checking S3 generic/method consistency ... OK
* checking replacement functions ... OK
* checking foreign function calls ... OK
* checking R code for possible problems ... NOTE
.cmd2cwl2: no visible global function definition for 'ave'
.getPreprotext: no visible binding for global variable '.'
Undefined global functions or variables:
. ave
Consider adding
importFrom("stats", "ave")
to your NAMESPACE file.
* checking Rd files ... OK
* checking Rd metadata ... OK
* checking Rd cross-references ... OK
* checking for missing documentation entries ... OK
* checking for code/documentation mismatches ... OK
* checking Rd \usage sections ... OK
* checking Rd contents ... OK
* checking for unstated dependencies in examples ... OK
* checking line endings in Makefiles ... OK
* checking for GNU extensions in Makefiles ... OK
* checking include directives in Makefiles ... OK
* checking files in 'vignettes' ... OK
* checking examples ... OK
Examples with CPU (user + system) or elapsed time > 5s
user system elapsed
genFeatures 34.03 0.77 34.89
run_DESeq2 12.07 0.14 12.20
renderLogs 3.23 0.26 16.61
* checking for unstated dependencies in 'tests' ... OK
* checking tests ...
Running 'testthat.R'
OK
* checking for unstated dependencies in vignettes ... OK
* checking package vignettes ... OK
* checking running R code from vignettes ... SKIPPED
* checking re-building of vignette outputs ... SKIPPED
* checking PDF version of manual ... OK
* DONE
Status: 3 NOTEs
See
'F:/biocbuild/bbs-3.22-bioc/meat/systemPipeR.Rcheck/00check.log'
for details.
systemPipeR.Rcheck/00install.out
############################################################################## ############################################################################## ### ### Running command: ### ### F:\biocbuild\bbs-3.22-bioc\R\bin\R.exe CMD INSTALL systemPipeR ### ############################################################################## ############################################################################## * installing to library 'F:/biocbuild/bbs-3.22-bioc/R/library' * installing *source* package 'systemPipeR' ... ** this is package 'systemPipeR' version '2.15.2' ** using staged installation ** R ** inst ** byte-compile and prepare package for lazy loading ** help *** installing help indices ** building package indices ** installing vignettes ** testing if installed package can be loaded from temporary location ** testing if installed package can be loaded from final location ** testing if installed package keeps a record of temporary installation path * DONE (systemPipeR)
systemPipeR.Rcheck/tests/testthat.Rout
R version 4.5.1 (2025-06-13 ucrt) -- "Great Square Root"
Copyright (C) 2025 The R Foundation for Statistical Computing
Platform: x86_64-w64-mingw32/x64
R is free software and comes with ABSOLUTELY NO WARRANTY.
You are welcome to redistribute it under certain conditions.
Type 'license()' or 'licence()' for distribution details.
R is a collaborative project with many contributors.
Type 'contributors()' for more information and
'citation()' on how to cite R or R packages in publications.
Type 'demo()' for some demos, 'help()' for on-line help, or
'help.start()' for an HTML browser interface to help.
Type 'q()' to quit R.
> library(testthat)
> library(systemPipeR)
Loading required package: Rsamtools
Loading required package: Seqinfo
Loading required package: BiocGenerics
Loading required package: generics
Attaching package: 'generics'
The following objects are masked from 'package:base':
as.difftime, as.factor, as.ordered, intersect, is.element, setdiff,
setequal, union
Attaching package: 'BiocGenerics'
The following objects are masked from 'package:stats':
IQR, mad, sd, var, xtabs
The following objects are masked from 'package:base':
Filter, Find, Map, Position, Reduce, anyDuplicated, aperm, append,
as.data.frame, basename, cbind, colnames, dirname, do.call,
duplicated, eval, evalq, get, grep, grepl, is.unsorted, lapply,
mapply, match, mget, order, paste, pmax, pmax.int, pmin, pmin.int,
rank, rbind, rownames, sapply, saveRDS, table, tapply, unique,
unsplit, which.max, which.min
Loading required package: GenomicRanges
Loading required package: stats4
Loading required package: S4Vectors
Attaching package: 'S4Vectors'
The following object is masked from 'package:utils':
findMatches
The following objects are masked from 'package:base':
I, expand.grid, unname
Loading required package: IRanges
Attaching package: 'IRanges'
The following object is masked from 'package:grDevices':
windows
Loading required package: Biostrings
Loading required package: XVector
Attaching package: 'Biostrings'
The following object is masked from 'package:base':
strsplit
Loading required package: ShortRead
Loading required package: BiocParallel
Loading required package: GenomicAlignments
Loading required package: SummarizedExperiment
Loading required package: MatrixGenerics
Loading required package: matrixStats
Attaching package: 'MatrixGenerics'
The following objects are masked from 'package:matrixStats':
colAlls, colAnyNAs, colAnys, colAvgsPerRowSet, colCollapse,
colCounts, colCummaxs, colCummins, colCumprods, colCumsums,
colDiffs, colIQRDiffs, colIQRs, colLogSumExps, colMadDiffs,
colMads, colMaxs, colMeans2, colMedians, colMins, colOrderStats,
colProds, colQuantiles, colRanges, colRanks, colSdDiffs, colSds,
colSums2, colTabulates, colVarDiffs, colVars, colWeightedMads,
colWeightedMeans, colWeightedMedians, colWeightedSds,
colWeightedVars, rowAlls, rowAnyNAs, rowAnys, rowAvgsPerColSet,
rowCollapse, rowCounts, rowCummaxs, rowCummins, rowCumprods,
rowCumsums, rowDiffs, rowIQRDiffs, rowIQRs, rowLogSumExps,
rowMadDiffs, rowMads, rowMaxs, rowMeans2, rowMedians, rowMins,
rowOrderStats, rowProds, rowQuantiles, rowRanges, rowRanks,
rowSdDiffs, rowSds, rowSums2, rowTabulates, rowVarDiffs, rowVars,
rowWeightedMads, rowWeightedMeans, rowWeightedMedians,
rowWeightedSds, rowWeightedVars
Loading required package: Biobase
Welcome to Bioconductor
Vignettes contain introductory material; view with
'browseVignettes()'. To cite Bioconductor, see
'citation("Biobase")', and for packages 'citation("pkgname")'.
Attaching package: 'Biobase'
The following object is masked from 'package:MatrixGenerics':
rowMedians
The following objects are masked from 'package:matrixStats':
anyMissing, rowMedians
>
> test_check("systemPipeR")
[1] "Generated F:\\biocbuild\\bbs-3.22-bioc\\tmpdir\\Rtmp8oL6MC/rnaseq directory. Next run in rnaseq directory, the R code from *.Rmd template interactively. Alternatively, workflows can be exectued with a single command as instructed in the vignette."
[1] "Generated F:\\biocbuild\\bbs-3.22-bioc\\tmpdir\\Rtmp8oL6MC/rnaseq2 directory. Next run in rnaseq directory, the R code from *.Rmd template interactively. Alternatively, workflows can be exectued with a single command as instructed in the vignette."
[1] "Generated F:\\biocbuild\\bbs-3.22-bioc\\tmpdir\\Rtmp8oL6MC/newtest directory. Next run in new directory, the R code from *.Rmd template interactively. Alternatively, workflows can be exectued with a single command as instructed in the vignette."
Creating directory 'F:\biocbuild\bbs-3.22-bioc\tmpdir\Rtmp8oL6MC\newtest/.SPRproject'
Creating file 'F:\biocbuild\bbs-3.22-bioc\tmpdir\Rtmp8oL6MC\newtest/.SPRproject/SYSargsList.yml'
Reading Rmd file
Now importing step 'load_library'
Now importing step 'export_iris'
Now importing step 'gzip'
Now importing step 'gunzip'
Now importing step 'stats'
Now back up current Rmd file as template for `renderReport`
Template for renderReport is stored at
F:\biocbuild\bbs-3.22-bioc\tmpdir\Rtmp8oL6MC\newtest/.SPRproject/workflow_template.Rmd
Edit this file manually is not recommended
Now check if required tools are installed
Check if they are in path:
Checking path for gzip
PASS
Checking path for gunzip
ERROR
step_name tool in_path
1 gzip gzip TRUE
2 gunzip gunzip FALSE
Now check if modular system:
No module is listed, check your CWL yaml configuration files, skip.
Import done
Instance of 'LineWise'
Code Chunk length: 1
mapply(function(x, y) write.csv(x, y), split(iris, factor(iris$Species)), file.path("results", paste0(names(split(iris, factor(iris$Species))), ".csv")))
load_library
5 + 5
load_library
5 + 5
66 + 55
Running Step: load_library
Running Session: Management
|
| | 0%
|
|======================================================================| 100%
Step Status: Success
Running Step: export_iris
Running Session: Management
|
| | 0%
|
|======================================================================| 100%
Step Status: Success
Skipping Step: gzip
Skipping Step: gunzip
Skipping Step: stats
Done with workflow running, now consider rendering logs & reports
To render logs, run: sal <- renderLogs(sal)
From command-line: Rscript -e "sal = systemPipeR::SPRproject(resume = TRUE); sal = systemPipeR::renderLogs(sal)"
To render reports, run: sal <- renderReport(sal)
From command-line: Rscript -e "sal= s ystemPipeR::SPRproject(resume = TRUE); sal = systemPipeR::renderReport(sal)"
This message is displayed once per R session
[ FAIL 0 | WARN 0 | SKIP 11 | PASS 26 ]
══ Skipped tests (11) ══════════════════════════════════════════════════════════
• On Bioconductor (10): 'test-01-SYSargs.R:2:1', 'test-02-SYSargs2.R:9:5',
'test-02-SYSargs2.R:55:5', 'test-03-SYSargsList.R:63:5',
'test-05-catDB.R:3:1', 'test-06-VENNset.R:3:1', 'test-07-features.R:3:1',
'test-08-cmd2cwl.R:2:1', 'test-10-chipSeq.R:4:1', 'test-utilities.R:2:1'
• On Windows (1): 'test-03-SYSargsList.R:9:5'
[ FAIL 0 | WARN 0 | SKIP 11 | PASS 26 ]
>
> proc.time()
user system elapsed
14.95 1.98 25.07
systemPipeR.Rcheck/systemPipeR-Ex.timings
| name | user | system | elapsed | |
| EnvModules-class | 0 | 0 | 0 | |
| GOHyperGAll | 0 | 0 | 0 | |
| INTERSECTset-class | 0.02 | 0.00 | 0.02 | |
| LineWise-class | 0.20 | 0.00 | 0.27 | |
| ParamFiles | 0.08 | 0.00 | 0.07 | |
| ParamFiles2 | 0.16 | 0.00 | 0.16 | |
| SPRproject | 0 | 0 | 0 | |
| SYSargs-class | 0.01 | 0.02 | 0.03 | |
| SYSargs2-class | 0.08 | 0.01 | 0.09 | |
| SYSargsList-class | 0.69 | 0.02 | 0.71 | |
| SYSargsList | 0.14 | 0.00 | 0.15 | |
| VENNset-class | 0.00 | 0.01 | 0.02 | |
| alignStats | 2.28 | 0.07 | 2.34 | |
| catDB-class | 0 | 0 | 0 | |
| catmap | 0 | 0 | 0 | |
| check.output | 1.16 | 0.03 | 1.19 | |
| clusterRun | 1.23 | 0.01 | 1.25 | |
| config.param | 0 | 0 | 0 | |
| configWF | 0 | 0 | 0 | |
| countRangeset | 0.03 | 0.02 | 0.05 | |
| createParamFiles | 0.11 | 0.01 | 0.12 | |
| cwlFilesUpdate | 0 | 0 | 0 | |
| evalCode | 0.05 | 0.02 | 0.10 | |
| featureCoverage | 1.44 | 0.05 | 1.48 | |
| featuretypeCounts | 1.37 | 0.03 | 1.41 | |
| filterDEGs | 1.94 | 0.12 | 2.06 | |
| filterVars | 0.01 | 0.00 | 0.02 | |
| genFeatures | 34.03 | 0.77 | 34.89 | |
| importWF | 0.03 | 0.00 | 0.05 | |
| listCmdTools | 0 | 0 | 0 | |
| loadWorkflow | 4.36 | 0.26 | 4.62 | |
| mergeBamByFactor | 0.00 | 0.02 | 0.02 | |
| moduleload | 0 | 0 | 0 | |
| olBarplot | 0.45 | 0.05 | 0.50 | |
| olRanges | 0.14 | 0.00 | 0.14 | |
| output_update | 1.72 | 0.01 | 1.73 | |
| overLapper | 0.47 | 0.00 | 0.47 | |
| plotfeatureCoverage | 1.61 | 0.06 | 1.67 | |
| plotfeaturetypeCounts | 1.36 | 0.02 | 1.38 | |
| predORF | 0.26 | 0.00 | 0.31 | |
| preprocessReads | 0.80 | 0.02 | 0.81 | |
| readComp | 1.44 | 0.00 | 1.44 | |
| renderLogs | 3.23 | 0.26 | 16.61 | |
| renderReport | 2.27 | 0.20 | 4.34 | |
| returnRPKM | 0 | 0 | 0 | |
| runCommandline | 1.54 | 0.07 | 1.61 | |
| runDiff | 0.07 | 0.00 | 0.06 | |
| runWF | 0.07 | 0.01 | 0.10 | |
| run_DESeq2 | 12.07 | 0.14 | 12.20 | |
| run_edgeR | 1.95 | 0.05 | 2.00 | |
| sal2bash | 0.62 | 0.03 | 0.73 | |
| sal2rmd | 0.67 | 0.05 | 0.80 | |
| scaleRanges | 0.24 | 0.00 | 0.25 | |
| seeFastq | 0 | 0 | 0 | |
| showDF | 0.06 | 0.06 | 0.12 | |
| subsetWF | 1.70 | 0.03 | 1.74 | |
| symLink2bam | 1.30 | 0.02 | 1.31 | |
| sysargs | 0.00 | 0.01 | 0.01 | |
| systemArgs | 0.03 | 0.00 | 0.04 | |
| targets.as.df | 0 | 0 | 0 | |
| trimbatch | 0.28 | 0.00 | 0.28 | |
| tryCMD | 0 | 0 | 0 | |
| tryPath | 0 | 0 | 0 | |
| variantReport | 0.02 | 0.00 | 0.01 | |
| vennPlot | 0.48 | 0.00 | 0.49 | |
| writeTargets | 0.14 | 0.00 | 0.14 | |
| writeTargetsRef | 0 | 0 | 0 | |
| writeTargetsout | 2.23 | 0.02 | 2.27 | |
| write_SYSargsList | 0.14 | 0.00 | 0.15 | |