| Back to Multiple platform build/check report for BioC 3.22: simplified long |
|
This page was generated on 2025-10-24 12:04 -0400 (Fri, 24 Oct 2025).
| Hostname | OS | Arch (*) | R version | Installed pkgs |
|---|---|---|---|---|
| nebbiolo2 | Linux (Ubuntu 24.04.3 LTS) | x86_64 | 4.5.1 Patched (2025-08-23 r88802) -- "Great Square Root" | 4898 |
| lconway | macOS 12.7.6 Monterey | x86_64 | 4.5.1 Patched (2025-09-10 r88807) -- "Great Square Root" | 4688 |
| kjohnson3 | macOS 13.7.7 Ventura | arm64 | 4.5.1 Patched (2025-09-10 r88807) -- "Great Square Root" | 4634 |
| taishan | Linux (openEuler 24.03 LTS) | aarch64 | 4.5.0 (2025-04-11) -- "How About a Twenty-Six" | 4658 |
| Click on any hostname to see more info about the system (e.g. compilers) (*) as reported by 'uname -p', except on Windows and Mac OS X | ||||
| Package 2174/2359 | Hostname | OS / Arch | INSTALL | BUILD | CHECK | BUILD BIN | ||||||||
| systemPipeR 2.15.2 (landing page) Thomas Girke
| nebbiolo2 | Linux (Ubuntu 24.04.3 LTS) / x86_64 | OK | OK | OK | |||||||||
| lconway | macOS 12.7.6 Monterey / x86_64 | OK | OK | OK | OK | |||||||||
| kjohnson3 | macOS 13.7.7 Ventura / arm64 | OK | OK | OK | OK | |||||||||
| taishan | Linux (openEuler 24.03 LTS) / aarch64 | OK | OK | NA | ||||||||||
|
To the developers/maintainers of the systemPipeR package: - Allow up to 24 hours (and sometimes 48 hours) for your latest push to git@git.bioconductor.org:packages/systemPipeR.git to reflect on this report. See Troubleshooting Build Report for more information. - Use the following Renviron settings to reproduce errors and warnings. - If 'R CMD check' started to fail recently on the Linux builder(s) over a missing dependency, add the missing dependency to 'Suggests:' in your DESCRIPTION file. See Renviron.bioc for more information. |
| Package: systemPipeR |
| Version: 2.15.2 |
| Command: /home/biocbuild/bbs-3.22-bioc/R/bin/R CMD check --install=check:systemPipeR.install-out.txt --library=/home/biocbuild/bbs-3.22-bioc/R/site-library --timings systemPipeR_2.15.2.tar.gz |
| StartedAt: 2025-10-24 04:37:51 -0400 (Fri, 24 Oct 2025) |
| EndedAt: 2025-10-24 04:44:14 -0400 (Fri, 24 Oct 2025) |
| EllapsedTime: 382.5 seconds |
| RetCode: 0 |
| Status: OK |
| CheckDir: systemPipeR.Rcheck |
| Warnings: 0 |
##############################################################################
##############################################################################
###
### Running command:
###
### /home/biocbuild/bbs-3.22-bioc/R/bin/R CMD check --install=check:systemPipeR.install-out.txt --library=/home/biocbuild/bbs-3.22-bioc/R/site-library --timings systemPipeR_2.15.2.tar.gz
###
##############################################################################
##############################################################################
* using log directory ‘/home/biocbuild/bbs-3.22-bioc/meat/systemPipeR.Rcheck’
* using R version 4.5.1 Patched (2025-08-23 r88802)
* using platform: x86_64-pc-linux-gnu
* R was compiled by
gcc (Ubuntu 13.3.0-6ubuntu2~24.04) 13.3.0
GNU Fortran (Ubuntu 13.3.0-6ubuntu2~24.04) 13.3.0
* running under: Ubuntu 24.04.3 LTS
* using session charset: UTF-8
* checking for file ‘systemPipeR/DESCRIPTION’ ... OK
* checking extension type ... Package
* this is package ‘systemPipeR’ version ‘2.15.2’
* checking package namespace information ... OK
* checking package dependencies ... OK
* checking if this is a source package ... OK
* checking if there is a namespace ... OK
* checking for hidden files and directories ... NOTE
Found the following hidden files and directories:
inst/extdata/.batchtools.conf.R
inst/extdata/.batchtools.conf.R.sge
inst/extdata/.batchtools.conf.R.torque
These were most likely included in error. See section ‘Package
structure’ in the ‘Writing R Extensions’ manual.
* checking for portable file names ... OK
* checking for sufficient/correct file permissions ... OK
* checking whether package ‘systemPipeR’ can be installed ... OK
* checking installed package size ... INFO
installed size is 6.9Mb
sub-directories of 1Mb or more:
R 1.6Mb
extdata 2.9Mb
htmlwidgets 2.0Mb
* checking package directory ... OK
* checking ‘build’ directory ... OK
* checking DESCRIPTION meta-information ... OK
* checking top-level files ... OK
* checking for left-over files ... OK
* checking index information ... OK
* checking package subdirectories ... NOTE
Problems with news in ‘NEWS’:
Cannot process chunk/lines:
OVERVIEW
* checking code files for non-ASCII characters ... OK
* checking R files for syntax errors ... OK
* checking whether the package can be loaded ... OK
* checking whether the package can be loaded with stated dependencies ... OK
* checking whether the package can be unloaded cleanly ... OK
* checking whether the namespace can be loaded with stated dependencies ... OK
* checking whether the namespace can be unloaded cleanly ... OK
* checking loading without being on the library search path ... OK
* checking dependencies in R code ... OK
* checking S3 generic/method consistency ... OK
* checking replacement functions ... OK
* checking foreign function calls ... OK
* checking R code for possible problems ... NOTE
.cmd2cwl2: no visible global function definition for ‘ave’
.getPreprotext: no visible binding for global variable ‘.’
Undefined global functions or variables:
. ave
Consider adding
importFrom("stats", "ave")
to your NAMESPACE file.
* checking Rd files ... OK
* checking Rd metadata ... OK
* checking Rd cross-references ... OK
* checking for missing documentation entries ... OK
* checking for code/documentation mismatches ... OK
* checking Rd \usage sections ... OK
* checking Rd contents ... OK
* checking for unstated dependencies in examples ... OK
* checking line endings in Makefiles ... OK
* checking for GNU extensions in Makefiles ... OK
* checking include directives in Makefiles ... OK
* checking files in ‘vignettes’ ... OK
* checking examples ... OK
Examples with CPU (user + system) or elapsed time > 5s
user system elapsed
genFeatures 25.707 1.077 26.785
run_DESeq2 9.226 0.856 10.081
* checking for unstated dependencies in ‘tests’ ... OK
* checking tests ...
Running ‘testthat.R’
OK
* checking for unstated dependencies in vignettes ... OK
* checking package vignettes ... OK
* checking re-building of vignette outputs ... OK
* checking PDF version of manual ... OK
* DONE
Status: 3 NOTEs
See
‘/home/biocbuild/bbs-3.22-bioc/meat/systemPipeR.Rcheck/00check.log’
for details.
systemPipeR.Rcheck/00install.out
############################################################################## ############################################################################## ### ### Running command: ### ### /home/biocbuild/bbs-3.22-bioc/R/bin/R CMD INSTALL systemPipeR ### ############################################################################## ############################################################################## * installing to library ‘/home/biocbuild/bbs-3.22-bioc/R/site-library’ * installing *source* package ‘systemPipeR’ ... ** this is package ‘systemPipeR’ version ‘2.15.2’ ** using staged installation ** R ** inst ** byte-compile and prepare package for lazy loading ** help *** installing help indices ** building package indices ** installing vignettes ** testing if installed package can be loaded from temporary location ** testing if installed package can be loaded from final location ** testing if installed package keeps a record of temporary installation path * DONE (systemPipeR)
systemPipeR.Rcheck/tests/testthat.Rout
R version 4.5.1 Patched (2025-08-23 r88802) -- "Great Square Root"
Copyright (C) 2025 The R Foundation for Statistical Computing
Platform: x86_64-pc-linux-gnu
R is free software and comes with ABSOLUTELY NO WARRANTY.
You are welcome to redistribute it under certain conditions.
Type 'license()' or 'licence()' for distribution details.
R is a collaborative project with many contributors.
Type 'contributors()' for more information and
'citation()' on how to cite R or R packages in publications.
Type 'demo()' for some demos, 'help()' for on-line help, or
'help.start()' for an HTML browser interface to help.
Type 'q()' to quit R.
> library(testthat)
> library(systemPipeR)
Loading required package: Rsamtools
Loading required package: Seqinfo
Loading required package: BiocGenerics
Loading required package: generics
Attaching package: 'generics'
The following objects are masked from 'package:base':
as.difftime, as.factor, as.ordered, intersect, is.element, setdiff,
setequal, union
Attaching package: 'BiocGenerics'
The following objects are masked from 'package:stats':
IQR, mad, sd, var, xtabs
The following objects are masked from 'package:base':
Filter, Find, Map, Position, Reduce, anyDuplicated, aperm, append,
as.data.frame, basename, cbind, colnames, dirname, do.call,
duplicated, eval, evalq, get, grep, grepl, is.unsorted, lapply,
mapply, match, mget, order, paste, pmax, pmax.int, pmin, pmin.int,
rank, rbind, rownames, sapply, saveRDS, table, tapply, unique,
unsplit, which.max, which.min
Loading required package: GenomicRanges
Loading required package: stats4
Loading required package: S4Vectors
Attaching package: 'S4Vectors'
The following object is masked from 'package:utils':
findMatches
The following objects are masked from 'package:base':
I, expand.grid, unname
Loading required package: IRanges
Loading required package: Biostrings
Loading required package: XVector
Attaching package: 'Biostrings'
The following object is masked from 'package:base':
strsplit
Loading required package: ShortRead
Loading required package: BiocParallel
Loading required package: GenomicAlignments
Loading required package: SummarizedExperiment
Loading required package: MatrixGenerics
Loading required package: matrixStats
Attaching package: 'MatrixGenerics'
The following objects are masked from 'package:matrixStats':
colAlls, colAnyNAs, colAnys, colAvgsPerRowSet, colCollapse,
colCounts, colCummaxs, colCummins, colCumprods, colCumsums,
colDiffs, colIQRDiffs, colIQRs, colLogSumExps, colMadDiffs,
colMads, colMaxs, colMeans2, colMedians, colMins, colOrderStats,
colProds, colQuantiles, colRanges, colRanks, colSdDiffs, colSds,
colSums2, colTabulates, colVarDiffs, colVars, colWeightedMads,
colWeightedMeans, colWeightedMedians, colWeightedSds,
colWeightedVars, rowAlls, rowAnyNAs, rowAnys, rowAvgsPerColSet,
rowCollapse, rowCounts, rowCummaxs, rowCummins, rowCumprods,
rowCumsums, rowDiffs, rowIQRDiffs, rowIQRs, rowLogSumExps,
rowMadDiffs, rowMads, rowMaxs, rowMeans2, rowMedians, rowMins,
rowOrderStats, rowProds, rowQuantiles, rowRanges, rowRanks,
rowSdDiffs, rowSds, rowSums2, rowTabulates, rowVarDiffs, rowVars,
rowWeightedMads, rowWeightedMeans, rowWeightedMedians,
rowWeightedSds, rowWeightedVars
Loading required package: Biobase
Welcome to Bioconductor
Vignettes contain introductory material; view with
'browseVignettes()'. To cite Bioconductor, see
'citation("Biobase")', and for packages 'citation("pkgname")'.
Attaching package: 'Biobase'
The following object is masked from 'package:MatrixGenerics':
rowMedians
The following objects are masked from 'package:matrixStats':
anyMissing, rowMedians
>
> test_check("systemPipeR")
[1] "Generated /tmp/RtmpsHd7Ja/rnaseq directory. Next run in rnaseq directory, the R code from *.Rmd template interactively. Alternatively, workflows can be exectued with a single command as instructed in the vignette."
[1] "Generated /tmp/RtmpsHd7Ja/rnaseq2 directory. Next run in rnaseq directory, the R code from *.Rmd template interactively. Alternatively, workflows can be exectued with a single command as instructed in the vignette."
Creating directory '/tmp/RtmpsHd7Ja/rnaseq2/.SPRproject'
Creating file '/tmp/RtmpsHd7Ja/rnaseq2/.SPRproject/SYSargsList.yml'
Running Step: example
Running Session: Management
|
| | 0%
|
|======================= | 33%
|
|=============================================== | 67%
|
|======================================================================| 100%
---- Summary ----
Targets Total_Files Existing_Files Missing_Files example
M1 M1 1 1 0 Success
M2 M2 1 1 0 Success
M3 M3 1 1 0 Success
Step Status: Success
Done with workflow running, now consider rendering logs & reports
To render logs, run: sal <- renderLogs(sal)
From command-line: Rscript -e "sal = systemPipeR::SPRproject(resume = TRUE); sal = systemPipeR::renderLogs(sal)"
To render reports, run: sal <- renderReport(sal)
From command-line: Rscript -e "sal= s ystemPipeR::SPRproject(resume = TRUE); sal = systemPipeR::renderReport(sal)"
This message is displayed once per R session
Running Step: newStep
Running Session: Management
|
| | 0%
|
|======================= | 33%
|
|=============================================== | 67%
|
|======================================================================| 100%
---- Summary ----
Targets Total_Files Existing_Files Missing_Files example
M1 M1 1 1 0 Success
M2 M2 1 1 0 Success
M3 M3 1 1 0 Success
Step Status: Success
Running Step: R_code
Running Session: Management
|
| | 0%
|
|======================================================================| 100%
Step Status: Warning
[1] "Generated /tmp/RtmpsHd7Ja/newtest directory. Next run in new directory, the R code from *.Rmd template interactively. Alternatively, workflows can be exectued with a single command as instructed in the vignette."
Creating directory '/tmp/RtmpsHd7Ja/newtest/.SPRproject'
Creating file '/tmp/RtmpsHd7Ja/newtest/.SPRproject/SYSargsList.yml'
Reading Rmd file
Now importing step 'load_library'
Now importing step 'export_iris'
Now importing step 'gzip'
Now importing step 'gunzip'
Now importing step 'stats'
Now back up current Rmd file as template for `renderReport`
Template for renderReport is stored at
/tmp/RtmpsHd7Ja/newtest/.SPRproject/workflow_template.Rmd
Edit this file manually is not recommended
Now check if required tools are installed
Check if they are in path:
Checking path for gzip
PASS
Checking path for gunzip
PASS
step_name tool in_path
1 gzip gzip TRUE
2 gunzip gunzip TRUE
All required tools in PATH, skip module check. If you want to check modules use `listCmdModules`Import done
Instance of 'LineWise'
Code Chunk length: 1
mapply(function(x, y) write.csv(x, y), split(iris, factor(iris$Species)), file.path("results", paste0(names(split(iris, factor(iris$Species))), ".csv")))
load_library
5 + 5
load_library
5 + 5
66 + 55
Running Step: load_library
Running Session: Management
|
| | 0%
|
|======================================================================| 100%
Step Status: Success
Running Step: export_iris
Running Session: Management
|
| | 0%
|
|======================================================================| 100%
Step Status: Success
Skipping Step: gzip
Skipping Step: gunzip
Skipping Step: stats
[ FAIL 0 | WARN 0 | SKIP 10 | PASS 47 ]
══ Skipped tests (10) ══════════════════════════════════════════════════════════
• On Bioconductor (10): 'test-01-SYSargs.R:2:1', 'test-02-SYSargs2.R:9:5',
'test-02-SYSargs2.R:55:5', 'test-03-SYSargsList.R:63:5',
'test-05-catDB.R:3:1', 'test-06-VENNset.R:3:1', 'test-07-features.R:3:1',
'test-08-cmd2cwl.R:2:1', 'test-10-chipSeq.R:4:1', 'test-utilities.R:2:1'
[ FAIL 0 | WARN 0 | SKIP 10 | PASS 47 ]
>
> proc.time()
user system elapsed
12.971 1.407 14.666
systemPipeR.Rcheck/systemPipeR-Ex.timings
| name | user | system | elapsed | |
| EnvModules-class | 0 | 0 | 0 | |
| GOHyperGAll | 0 | 0 | 0 | |
| INTERSECTset-class | 0.006 | 0.001 | 0.006 | |
| LineWise-class | 0.123 | 0.004 | 0.127 | |
| ParamFiles | 0.074 | 0.000 | 0.074 | |
| ParamFiles2 | 0.113 | 0.000 | 0.113 | |
| SPRproject | 0.004 | 0.000 | 0.004 | |
| SYSargs-class | 0.019 | 0.000 | 0.018 | |
| SYSargs2-class | 0.052 | 0.000 | 0.051 | |
| SYSargsList-class | 0.385 | 0.052 | 0.437 | |
| SYSargsList | 0.076 | 0.000 | 0.077 | |
| VENNset-class | 0.004 | 0.000 | 0.004 | |
| alignStats | 0.997 | 0.002 | 1.000 | |
| catDB-class | 0.000 | 0.000 | 0.001 | |
| catmap | 0 | 0 | 0 | |
| check.output | 1.046 | 0.002 | 1.049 | |
| clusterRun | 0.988 | 0.021 | 1.011 | |
| config.param | 0 | 0 | 0 | |
| configWF | 0.001 | 0.000 | 0.000 | |
| countRangeset | 0.035 | 0.000 | 0.036 | |
| createParamFiles | 0.121 | 0.000 | 0.121 | |
| cwlFilesUpdate | 0 | 0 | 0 | |
| evalCode | 0.036 | 0.000 | 0.037 | |
| featureCoverage | 0.988 | 0.000 | 0.989 | |
| featuretypeCounts | 0.983 | 0.001 | 0.985 | |
| filterDEGs | 1.410 | 0.053 | 1.463 | |
| filterVars | 0.007 | 0.001 | 0.008 | |
| genFeatures | 25.707 | 1.077 | 26.785 | |
| importWF | 0.031 | 0.008 | 0.040 | |
| listCmdTools | 0 | 0 | 0 | |
| loadWorkflow | 3.385 | 0.112 | 3.496 | |
| mergeBamByFactor | 0.007 | 0.001 | 0.008 | |
| moduleload | 0 | 0 | 0 | |
| olBarplot | 0.559 | 0.013 | 0.572 | |
| olRanges | 0.307 | 0.123 | 0.429 | |
| output_update | 1.012 | 0.004 | 1.017 | |
| overLapper | 0.412 | 0.002 | 0.414 | |
| plotfeatureCoverage | 1.239 | 0.056 | 1.295 | |
| plotfeaturetypeCounts | 1.261 | 0.128 | 1.389 | |
| predORF | 0.195 | 0.019 | 0.213 | |
| preprocessReads | 0.366 | 0.040 | 0.408 | |
| readComp | 1.192 | 0.190 | 1.382 | |
| renderLogs | 3.331 | 0.949 | 4.297 | |
| renderReport | 1.580 | 0.561 | 2.145 | |
| returnRPKM | 0 | 0 | 0 | |
| runCommandline | 1.054 | 0.194 | 1.248 | |
| runDiff | 0.033 | 0.008 | 0.040 | |
| runWF | 0.087 | 0.020 | 0.107 | |
| run_DESeq2 | 9.226 | 0.856 | 10.081 | |
| run_edgeR | 1.085 | 0.098 | 1.183 | |
| sal2bash | 0.442 | 0.288 | 0.729 | |
| sal2rmd | 0.447 | 0.316 | 0.764 | |
| scaleRanges | 0.168 | 0.031 | 0.200 | |
| seeFastq | 0 | 0 | 0 | |
| showDF | 0.041 | 0.020 | 0.061 | |
| subsetWF | 1.202 | 0.187 | 1.389 | |
| symLink2bam | 1.422 | 0.245 | 1.667 | |
| sysargs | 0.008 | 0.000 | 0.008 | |
| systemArgs | 0.008 | 0.000 | 0.008 | |
| targets.as.df | 0.004 | 0.000 | 0.004 | |
| trimbatch | 0.239 | 0.002 | 0.241 | |
| tryCMD | 0.000 | 0.000 | 0.001 | |
| tryPath | 0.001 | 0.000 | 0.001 | |
| variantReport | 0.007 | 0.001 | 0.007 | |
| vennPlot | 0.404 | 0.039 | 0.444 | |
| writeTargets | 0.085 | 0.005 | 0.090 | |
| writeTargetsRef | 0.000 | 0.000 | 0.001 | |
| writeTargetsout | 1.173 | 0.075 | 1.250 | |
| write_SYSargsList | 0.098 | 0.007 | 0.105 | |