| Back to Multiple platform build/check report for BioC 3.22: simplified long |
|
This page was generated on 2025-08-15 12:07 -0400 (Fri, 15 Aug 2025).
| Hostname | OS | Arch (*) | R version | Installed pkgs |
|---|---|---|---|---|
| nebbiolo2 | Linux (Ubuntu 24.04.3 LTS) | x86_64 | 4.5.1 (2025-06-13) -- "Great Square Root" | 4818 |
| palomino8 | Windows Server 2022 Datacenter | x64 | 4.5.1 (2025-06-13 ucrt) -- "Great Square Root" | 4554 |
| lconway | macOS 12.7.1 Monterey | x86_64 | 4.5.1 (2025-06-13) -- "Great Square Root" | 4595 |
| kjohnson3 | macOS 13.7.7 Ventura | arm64 | 4.5.1 Patched (2025-06-14 r88325) -- "Great Square Root" | 4537 |
| taishan | Linux (openEuler 24.03 LTS) | aarch64 | 4.5.0 (2025-04-11) -- "How About a Twenty-Six" | 4535 |
| Click on any hostname to see more info about the system (e.g. compilers) (*) as reported by 'uname -p', except on Windows and Mac OS X | ||||
| Package 2131/2317 | Hostname | OS / Arch | INSTALL | BUILD | CHECK | BUILD BIN | ||||||||
| syntenet 1.11.2 (landing page) FabrÃcio Almeida-Silva
| nebbiolo2 | Linux (Ubuntu 24.04.3 LTS) / x86_64 | OK | OK | OK | |||||||||
| palomino8 | Windows Server 2022 Datacenter / x64 | OK | OK | OK | OK | |||||||||
| lconway | macOS 12.7.1 Monterey / x86_64 | OK | OK | OK | OK | |||||||||
| kjohnson3 | macOS 13.7.7 Ventura / arm64 | OK | OK | OK | OK | |||||||||
| taishan | Linux (openEuler 24.03 LTS) / aarch64 | OK | OK | OK | ||||||||||
|
To the developers/maintainers of the syntenet package: - Allow up to 24 hours (and sometimes 48 hours) for your latest push to git@git.bioconductor.org:packages/syntenet.git to reflect on this report. See Troubleshooting Build Report for more information. - Use the following Renviron settings to reproduce errors and warnings. - If 'R CMD check' started to fail recently on the Linux builder(s) over a missing dependency, add the missing dependency to 'Suggests:' in your DESCRIPTION file. See Renviron.bioc for more information. |
| Package: syntenet |
| Version: 1.11.2 |
| Command: F:\biocbuild\bbs-3.22-bioc\R\bin\R.exe CMD check --no-multiarch --install=check:syntenet.install-out.txt --library=F:\biocbuild\bbs-3.22-bioc\R\library --no-vignettes --timings syntenet_1.11.2.tar.gz |
| StartedAt: 2025-08-15 08:38:41 -0400 (Fri, 15 Aug 2025) |
| EndedAt: 2025-08-15 08:43:05 -0400 (Fri, 15 Aug 2025) |
| EllapsedTime: 263.8 seconds |
| RetCode: 0 |
| Status: OK |
| CheckDir: syntenet.Rcheck |
| Warnings: 0 |
##############################################################################
##############################################################################
###
### Running command:
###
### F:\biocbuild\bbs-3.22-bioc\R\bin\R.exe CMD check --no-multiarch --install=check:syntenet.install-out.txt --library=F:\biocbuild\bbs-3.22-bioc\R\library --no-vignettes --timings syntenet_1.11.2.tar.gz
###
##############################################################################
##############################################################################
* using log directory 'F:/biocbuild/bbs-3.22-bioc/meat/syntenet.Rcheck'
* using R version 4.5.1 (2025-06-13 ucrt)
* using platform: x86_64-w64-mingw32
* R was compiled by
gcc.exe (GCC) 14.2.0
GNU Fortran (GCC) 14.2.0
* running under: Windows Server 2022 x64 (build 20348)
* using session charset: UTF-8
* using option '--no-vignettes'
* checking for file 'syntenet/DESCRIPTION' ... OK
* this is package 'syntenet' version '1.11.2'
* package encoding: UTF-8
* checking package namespace information ... OK
* checking package dependencies ... OK
* checking if this is a source package ... OK
* checking if there is a namespace ... OK
* checking for hidden files and directories ... OK
* checking for portable file names ... OK
* checking whether package 'syntenet' can be installed ... OK
* used C++ compiler: 'G__~1.EXE (GCC) 14.2.0'
* checking installed package size ... OK
* checking package directory ... OK
* checking 'build' directory ... OK
* checking DESCRIPTION meta-information ... OK
* checking top-level files ... OK
* checking for left-over files ... OK
* checking index information ... OK
* checking package subdirectories ... OK
* checking code files for non-ASCII characters ... OK
* checking R files for syntax errors ... OK
* checking whether the package can be loaded ... OK
* checking whether the package can be loaded with stated dependencies ... OK
* checking whether the package can be unloaded cleanly ... OK
* checking whether the namespace can be loaded with stated dependencies ... OK
* checking whether the namespace can be unloaded cleanly ... OK
* checking dependencies in R code ... OK
* checking S3 generic/method consistency ... OK
* checking replacement functions ... OK
* checking foreign function calls ... OK
* checking R code for possible problems ... OK
* checking Rd files ... OK
* checking Rd metadata ... OK
* checking Rd cross-references ... OK
* checking for missing documentation entries ... OK
* checking for code/documentation mismatches ... OK
* checking Rd \usage sections ... OK
* checking Rd contents ... OK
* checking for unstated dependencies in examples ... OK
* checking contents of 'data' directory ... OK
* checking data for non-ASCII characters ... OK
* checking data for ASCII and uncompressed saves ... OK
* checking line endings in C/C++/Fortran sources/headers ... OK
* checking compiled code ... NOTE
Note: information on .o files for x64 is not available
File 'F:/biocbuild/bbs-3.22-bioc/R/library/syntenet/libs/x64/syntenet.dll':
Found '_exit', possibly from '_exit' (C)
Found 'abort', possibly from 'abort' (C), 'runtime' (Fortran)
Found 'exit', possibly from 'exit' (C), 'stop' (Fortran)
Compiled code should not call entry points which might terminate R nor
write to stdout/stderr instead of to the console, nor use Fortran I/O
nor system RNGs nor [v]sprintf. The detected symbols are linked into
the code but might come from libraries and not actually be called.
See 'Writing portable packages' in the 'Writing R Extensions' manual.
* checking files in 'vignettes' ... OK
* checking examples ... OK
Examples with CPU (user + system) or elapsed time > 5s
user system elapsed
collapse_protein_ids 8.46 0.28 8.73
plot_profiles 7.67 0.17 7.89
find_GS_clusters 6.52 0.26 6.78
* checking for unstated dependencies in 'tests' ... OK
* checking tests ...
Running 'testthat.R'
OK
* checking for unstated dependencies in vignettes ... OK
* checking package vignettes ... OK
* checking running R code from vignettes ... SKIPPED
* checking re-building of vignette outputs ... SKIPPED
* checking PDF version of manual ... OK
* DONE
Status: 1 NOTE
See
'F:/biocbuild/bbs-3.22-bioc/meat/syntenet.Rcheck/00check.log'
for details.
syntenet.Rcheck/00install.out
############################################################################## ############################################################################## ### ### Running command: ### ### F:\biocbuild\bbs-3.22-bioc\R\bin\R.exe CMD INSTALL syntenet ### ############################################################################## ############################################################################## * installing to library 'F:/biocbuild/bbs-3.22-bioc/R/library' * installing *source* package 'syntenet' ... ** this is package 'syntenet' version '1.11.2' ** using staged installation ** libs using C++ compiler: 'G__~1.EXE (GCC) 14.2.0' g++ -std=gnu++17 -I"F:/biocbuild/bbs-3.22-bioc/R/include" -DNDEBUG -I'F:/biocbuild/bbs-3.22-bioc/R/library/Rcpp/include' -I'F:/biocbuild/bbs-3.22-bioc/R/library/testthat/include' -I"C:/rtools45/x86_64-w64-mingw32.static.posix/include" -O2 -Wall -mfpmath=sse -msse2 -mstackrealign -c RcppExports.cpp -o RcppExports.o g++ -std=gnu++17 -I"F:/biocbuild/bbs-3.22-bioc/R/include" -DNDEBUG -I'F:/biocbuild/bbs-3.22-bioc/R/library/Rcpp/include' -I'F:/biocbuild/bbs-3.22-bioc/R/library/testthat/include' -I"C:/rtools45/x86_64-w64-mingw32.static.posix/include" -O2 -Wall -mfpmath=sse -msse2 -mstackrealign -c mcscanxr.cpp -o mcscanxr.o g++ -std=gnu++17 -I"F:/biocbuild/bbs-3.22-bioc/R/include" -DNDEBUG -I'F:/biocbuild/bbs-3.22-bioc/R/library/Rcpp/include' -I'F:/biocbuild/bbs-3.22-bioc/R/library/testthat/include' -I"C:/rtools45/x86_64-w64-mingw32.static.posix/include" -O2 -Wall -mfpmath=sse -msse2 -mstackrealign -c test-runner.cpp -o test-runner.o g++ -std=gnu++17 -shared -s -static-libgcc -o syntenet.dll tmp.def RcppExports.o mcscanxr.o test-runner.o -LC:/rtools45/x86_64-w64-mingw32.static.posix/lib/x64 -LC:/rtools45/x86_64-w64-mingw32.static.posix/lib -LF:/biocbuild/bbs-3.22-bioc/R/bin/x64 -lR installing to F:/biocbuild/bbs-3.22-bioc/R/library/00LOCK-syntenet/00new/syntenet/libs/x64 ** R ** data ** inst ** byte-compile and prepare package for lazy loading ** help *** installing help indices *** copying figures ** building package indices ** installing vignettes ** testing if installed package can be loaded from temporary location ** testing if installed package can be loaded from final location ** testing if installed package keeps a record of temporary installation path * DONE (syntenet)
syntenet.Rcheck/tests/testthat.Rout
R version 4.5.1 (2025-06-13 ucrt) -- "Great Square Root"
Copyright (C) 2025 The R Foundation for Statistical Computing
Platform: x86_64-w64-mingw32/x64
R is free software and comes with ABSOLUTELY NO WARRANTY.
You are welcome to redistribute it under certain conditions.
Type 'license()' or 'licence()' for distribution details.
R is a collaborative project with many contributors.
Type 'contributors()' for more information and
'citation()' on how to cite R or R packages in publications.
Type 'demo()' for some demos, 'help()' for on-line help, or
'help.start()' for an HTML browser interface to help.
Type 'q()' to quit R.
> library(testthat)
> library(syntenet)
>
> test_check("syntenet")
Reading GFF file and pre-processing
Reading BLAST file and pre-processing
Generating BLAST list
match_list.size: 172
172 matches imported (171 discarded)
6 pairwise comparisons
0 alignments generated
Pairwise collinear blocks written to Olucimarinus.collinearity
Done!
Reading GFF file and pre-processing
Reading BLAST file and pre-processing
Generating BLAST list
match_list.size: 172
172 matches imported (171 discarded)
6 pairwise comparisons
0 alignments generated
Pairwise collinear blocks written to Olucimarinus.collinearity
Done!
Reading GFF file and pre-processing
Reading BLAST file and pre-processing
Generating BLAST list
match_list.size: 19
19 matches imported (17 discarded)
6 pairwise comparisons
0 alignments generated
Pairwise collinear blocks written to OspRCC809.collinearity
Done!
Reading GFF file and pre-processing
Reading BLAST file and pre-processing
Generating BLAST list
match_list.size: 1267
1267 matches imported (1257 discarded)
9 pairwise comparisons
8 alignments generated
Pairwise collinear blocks written to Olucimarinus_OspRCC809.collinearity
Done!
Reading GFF file and pre-processing
Reading BLAST file and pre-processing
Generating BLAST list
match_list.size: 172
172 matches imported (171 discarded)
6 pairwise comparisons
0 alignments generated
Pairwise collinear blocks written to Olucimarinus.collinearity
Tandem pairs written to Olucimarinus.tandem
Writing multiple syntenic blocks to HTML files
Olu_Chr_1.html
Olu_Chr_2.html
Olu_Chr_3.html
Done!
Reading GFF file and pre-processing
Reading BLAST file and pre-processing
Generating BLAST list
match_list.size: 19
19 matches imported (17 discarded)
6 pairwise comparisons
0 alignments generated
Pairwise collinear blocks written to OspRCC809.collinearity
Writing multiple syntenic blocks to HTML files
Osp_chr_1.html
Osp_chr_2.html
Osp_chr_3.html
Done!
Reading GFF file and pre-processing
Reading BLAST file and pre-processing
Generating BLAST list
match_list.size: 1267
1267 matches imported (1257 discarded)
9 pairwise comparisons
8 alignments generated
Pairwise collinear blocks written to Olucimarinus_OspRCC809.collinearity
Writing multiple syntenic blocks to HTML files
Olu_Chr_1.html
Olu_Chr_2.html
Olu_Chr_3.html
Osp_chr_1.html
Osp_chr_2.html
Osp_chr_3.html
Done!
[ FAIL 0 | WARN 0 | SKIP 0 | PASS 104 ]
>
> proc.time()
user system elapsed
46.70 4.62 52.09
syntenet.Rcheck/syntenet-Ex.timings
| name | user | system | elapsed | |
| angiosperm_phylogeny | 0.00 | 0.02 | 0.01 | |
| annotation | 0.02 | 0.00 | 0.02 | |
| binarize_and_transpose | 0.16 | 0.00 | 0.15 | |
| blast_list | 0.01 | 0.00 | 0.02 | |
| check_input | 0.25 | 0.01 | 0.26 | |
| cluster_network | 0.32 | 0.02 | 0.33 | |
| clusters | 0.04 | 0.00 | 0.05 | |
| collapse_bidirectional_hits | 0.03 | 0.00 | 0.03 | |
| collapse_protein_ids | 8.46 | 0.28 | 8.73 | |
| create_species_id_table | 0.06 | 0.00 | 0.07 | |
| diamond_is_installed | 0.00 | 0.02 | 0.01 | |
| edges | 0 | 0 | 0 | |
| export_sequences | 0.37 | 0.03 | 0.41 | |
| fasta2AAStringSetlist | 0.05 | 0.00 | 0.22 | |
| find_GS_clusters | 6.52 | 0.26 | 6.78 | |
| gff2GRangesList | 0.14 | 0.00 | 0.14 | |
| infer_microsynteny_phylogeny | 0.14 | 0.02 | 0.15 | |
| infer_syntenet | 1.53 | 0.64 | 2.24 | |
| interspecies_synteny | 0.58 | 0.11 | 0.70 | |
| intraspecies_synteny | 2.45 | 1.06 | 3.55 | |
| iqtree_is_installed | 0 | 0 | 0 | |
| iqtree_version | 0.02 | 0.00 | 0.02 | |
| last_is_installed | 0 | 0 | 0 | |
| make_bidirectional | 0 | 0 | 0 | |
| network | 0.32 | 0.00 | 0.33 | |
| parse_collinearity | 0 | 0 | 0 | |
| phylogenomic_profile | 0.16 | 0.00 | 0.15 | |
| plot_network | 1.99 | 0.05 | 2.04 | |
| plot_profiles | 7.67 | 0.17 | 7.89 | |
| process_input | 0.20 | 0.03 | 0.23 | |
| profiles2phylip | 0.30 | 0.02 | 0.34 | |
| proteomes | 0.06 | 0.00 | 0.07 | |
| read_diamond | 0 | 0 | 0 | |
| run_diamond | 0.20 | 0.01 | 0.22 | |
| run_last | 0.22 | 0.03 | 0.25 | |
| scerevisiae_annot | 0.00 | 0.02 | 0.02 | |
| scerevisiae_diamond | 0.03 | 0.02 | 0.04 | |