| Back to Multiple platform build/check report for BioC 3.22: simplified long |
|
This page was generated on 2025-10-24 12:07 -0400 (Fri, 24 Oct 2025).
| Hostname | OS | Arch (*) | R version | Installed pkgs |
|---|---|---|---|---|
| nebbiolo2 | Linux (Ubuntu 24.04.3 LTS) | x86_64 | 4.5.1 Patched (2025-08-23 r88802) -- "Great Square Root" | 4898 |
| lconway | macOS 12.7.6 Monterey | x86_64 | 4.5.1 Patched (2025-09-10 r88807) -- "Great Square Root" | 4688 |
| kjohnson3 | macOS 13.7.7 Ventura | arm64 | 4.5.1 Patched (2025-09-10 r88807) -- "Great Square Root" | 4634 |
| taishan | Linux (openEuler 24.03 LTS) | aarch64 | 4.5.0 (2025-04-11) -- "How About a Twenty-Six" | 4658 |
| Click on any hostname to see more info about the system (e.g. compilers) (*) as reported by 'uname -p', except on Windows and Mac OS X | ||||
| Package 2173/2359 | Hostname | OS / Arch | INSTALL | BUILD | CHECK | BUILD BIN | ||||||||
| syntenet 1.11.2 (landing page) Fabrício Almeida-Silva
| nebbiolo2 | Linux (Ubuntu 24.04.3 LTS) / x86_64 | OK | OK | OK | |||||||||
| lconway | macOS 12.7.6 Monterey / x86_64 | OK | OK | OK | OK | |||||||||
| kjohnson3 | macOS 13.7.7 Ventura / arm64 | OK | OK | OK | OK | |||||||||
| taishan | Linux (openEuler 24.03 LTS) / aarch64 | OK | OK | NA | ||||||||||
|
To the developers/maintainers of the syntenet package: - Allow up to 24 hours (and sometimes 48 hours) for your latest push to git@git.bioconductor.org:packages/syntenet.git to reflect on this report. See Troubleshooting Build Report for more information. - Use the following Renviron settings to reproduce errors and warnings. - If 'R CMD check' started to fail recently on the Linux builder(s) over a missing dependency, add the missing dependency to 'Suggests:' in your DESCRIPTION file. See Renviron.bioc for more information. |
| Package: syntenet |
| Version: 1.11.2 |
| Command: /Library/Frameworks/R.framework/Resources/bin/R CMD check --install=check:syntenet.install-out.txt --library=/Library/Frameworks/R.framework/Resources/library --no-vignettes --timings syntenet_1.11.2.tar.gz |
| StartedAt: 2025-10-23 22:32:54 -0400 (Thu, 23 Oct 2025) |
| EndedAt: 2025-10-23 22:34:02 -0400 (Thu, 23 Oct 2025) |
| EllapsedTime: 67.9 seconds |
| RetCode: 0 |
| Status: OK |
| CheckDir: syntenet.Rcheck |
| Warnings: 0 |
##############################################################################
##############################################################################
###
### Running command:
###
### /Library/Frameworks/R.framework/Resources/bin/R CMD check --install=check:syntenet.install-out.txt --library=/Library/Frameworks/R.framework/Resources/library --no-vignettes --timings syntenet_1.11.2.tar.gz
###
##############################################################################
##############################################################################
* using log directory ‘/Users/biocbuild/bbs-3.22-bioc/meat/syntenet.Rcheck’
* using R version 4.5.1 Patched (2025-09-10 r88807)
* using platform: aarch64-apple-darwin20
* R was compiled by
Apple clang version 16.0.0 (clang-1600.0.26.6)
GNU Fortran (GCC) 14.2.0
* running under: macOS Ventura 13.7.7
* using session charset: UTF-8
* using option ‘--no-vignettes’
* checking for file ‘syntenet/DESCRIPTION’ ... OK
* this is package ‘syntenet’ version ‘1.11.2’
* package encoding: UTF-8
* checking package namespace information ... OK
* checking package dependencies ... OK
* checking if this is a source package ... OK
* checking if there is a namespace ... OK
* checking for hidden files and directories ... OK
* checking for portable file names ... OK
* checking for sufficient/correct file permissions ... OK
* checking whether package ‘syntenet’ can be installed ... OK
* used C++ compiler: ‘Apple clang version 15.0.0 (clang-1500.1.0.2.5)’
* used SDK: ‘MacOSX11.3.1.sdk’
* checking installed package size ... OK
* checking package directory ... OK
* checking ‘build’ directory ... OK
* checking DESCRIPTION meta-information ... OK
* checking top-level files ... OK
* checking for left-over files ... OK
* checking index information ... OK
* checking package subdirectories ... OK
* checking code files for non-ASCII characters ... OK
* checking R files for syntax errors ... OK
* checking whether the package can be loaded ... OK
* checking whether the package can be loaded with stated dependencies ... OK
* checking whether the package can be unloaded cleanly ... OK
* checking whether the namespace can be loaded with stated dependencies ... OK
* checking whether the namespace can be unloaded cleanly ... OK
* checking dependencies in R code ... OK
* checking S3 generic/method consistency ... OK
* checking replacement functions ... OK
* checking foreign function calls ... OK
* checking R code for possible problems ... OK
* checking Rd files ... OK
* checking Rd metadata ... OK
* checking Rd cross-references ... OK
* checking for missing documentation entries ... OK
* checking for code/documentation mismatches ... OK
* checking Rd \usage sections ... OK
* checking Rd contents ... OK
* checking for unstated dependencies in examples ... OK
* checking contents of ‘data’ directory ... OK
* checking data for non-ASCII characters ... OK
* checking data for ASCII and uncompressed saves ... OK
* checking line endings in C/C++/Fortran sources/headers ... OK
* checking compiled code ... NOTE
Note: information on .o files is not available
* checking files in ‘vignettes’ ... OK
* checking examples ... OK
* checking for unstated dependencies in ‘tests’ ... OK
* checking tests ...
Running ‘testthat.R’
OK
* checking for unstated dependencies in vignettes ... OK
* checking package vignettes ... OK
* checking running R code from vignettes ... SKIPPED
* checking re-building of vignette outputs ... SKIPPED
* checking PDF version of manual ... OK
* DONE
Status: 1 NOTE
See
‘/Users/biocbuild/bbs-3.22-bioc/meat/syntenet.Rcheck/00check.log’
for details.
syntenet.Rcheck/00install.out
############################################################################## ############################################################################## ### ### Running command: ### ### /Library/Frameworks/R.framework/Resources/bin/R CMD INSTALL syntenet ### ############################################################################## ############################################################################## * installing to library ‘/Library/Frameworks/R.framework/Versions/4.5-arm64/Resources/library’ * installing *source* package ‘syntenet’ ... ** this is package ‘syntenet’ version ‘1.11.2’ ** using staged installation ** libs using C++ compiler: ‘Apple clang version 15.0.0 (clang-1500.1.0.2.5)’ using SDK: ‘MacOSX11.3.1.sdk’ clang++ -arch arm64 -std=gnu++17 -I"/Library/Frameworks/R.framework/Resources/include" -DNDEBUG -I'/Library/Frameworks/R.framework/Versions/4.5-arm64/Resources/library/Rcpp/include' -I'/Library/Frameworks/R.framework/Versions/4.5-arm64/Resources/library/testthat/include' -I/opt/R/arm64/include -fPIC -falign-functions=64 -Wall -g -O2 -c RcppExports.cpp -o RcppExports.o clang++ -arch arm64 -std=gnu++17 -I"/Library/Frameworks/R.framework/Resources/include" -DNDEBUG -I'/Library/Frameworks/R.framework/Versions/4.5-arm64/Resources/library/Rcpp/include' -I'/Library/Frameworks/R.framework/Versions/4.5-arm64/Resources/library/testthat/include' -I/opt/R/arm64/include -fPIC -falign-functions=64 -Wall -g -O2 -c mcscanxr.cpp -o mcscanxr.o clang++ -arch arm64 -std=gnu++17 -I"/Library/Frameworks/R.framework/Resources/include" -DNDEBUG -I'/Library/Frameworks/R.framework/Versions/4.5-arm64/Resources/library/Rcpp/include' -I'/Library/Frameworks/R.framework/Versions/4.5-arm64/Resources/library/testthat/include' -I/opt/R/arm64/include -fPIC -falign-functions=64 -Wall -g -O2 -c test-runner.cpp -o test-runner.o clang++ -arch arm64 -std=gnu++17 -dynamiclib -Wl,-headerpad_max_install_names -undefined dynamic_lookup -L/Library/Frameworks/R.framework/Resources/lib -L/opt/R/arm64/lib -o syntenet.so RcppExports.o mcscanxr.o test-runner.o -F/Library/Frameworks/R.framework/.. -framework R installing to /Library/Frameworks/R.framework/Versions/4.5-arm64/Resources/library/00LOCK-syntenet/00new/syntenet/libs ** R ** data ** inst ** byte-compile and prepare package for lazy loading ** help *** installing help indices *** copying figures ** building package indices ** installing vignettes ** testing if installed package can be loaded from temporary location ** checking absolute paths in shared objects and dynamic libraries ** testing if installed package can be loaded from final location ** testing if installed package keeps a record of temporary installation path * DONE (syntenet)
syntenet.Rcheck/tests/testthat.Rout
R version 4.5.1 Patched (2025-09-10 r88807) -- "Great Square Root"
Copyright (C) 2025 The R Foundation for Statistical Computing
Platform: aarch64-apple-darwin20
R is free software and comes with ABSOLUTELY NO WARRANTY.
You are welcome to redistribute it under certain conditions.
Type 'license()' or 'licence()' for distribution details.
R is a collaborative project with many contributors.
Type 'contributors()' for more information and
'citation()' on how to cite R or R packages in publications.
Type 'demo()' for some demos, 'help()' for on-line help, or
'help.start()' for an HTML browser interface to help.
Type 'q()' to quit R.
> library(testthat)
> library(syntenet)
>
> test_check("syntenet")
Reading GFF file and pre-processing
Reading BLAST file and pre-processing
Generating BLAST list
match_list.size: 172
172 matches imported (171 discarded)
6 pairwise comparisons
0 alignments generated
Pairwise collinear blocks written to Olucimarinus.collinearity
Done!
Reading GFF file and pre-processing
Reading BLAST file and pre-processing
Generating BLAST list
match_list.size: 172
172 matches imported (171 discarded)
6 pairwise comparisons
0 alignments generated
Pairwise collinear blocks written to Olucimarinus.collinearity
Done!
Reading GFF file and pre-processing
Reading BLAST file and pre-processing
Generating BLAST list
match_list.size: 19
19 matches imported (17 discarded)
6 pairwise comparisons
0 alignments generated
Pairwise collinear blocks written to OspRCC809.collinearity
Done!
Reading GFF file and pre-processing
Reading BLAST file and pre-processing
Generating BLAST list
match_list.size: 1267
1267 matches imported (1257 discarded)
9 pairwise comparisons
8 alignments generated
Pairwise collinear blocks written to Olucimarinus_OspRCC809.collinearity
Done!
Reading GFF file and pre-processing
Reading BLAST file and pre-processing
Generating BLAST list
match_list.size: 172
172 matches imported (171 discarded)
6 pairwise comparisons
0 alignments generated
Pairwise collinear blocks written to Olucimarinus.collinearity
Tandem pairs written to Olucimarinus.tandem
Writing multiple syntenic blocks to HTML files
Olu_Chr_1.html
Olu_Chr_2.html
Olu_Chr_3.html
Done!
Reading GFF file and pre-processing
Reading BLAST file and pre-processing
Generating BLAST list
match_list.size: 19
19 matches imported (17 discarded)
6 pairwise comparisons
0 alignments generated
Pairwise collinear blocks written to OspRCC809.collinearity
Writing multiple syntenic blocks to HTML files
Osp_chr_1.html
Osp_chr_2.html
Osp_chr_3.html
Done!
Reading GFF file and pre-processing
Reading BLAST file and pre-processing
Generating BLAST list
match_list.size: 1267
1267 matches imported (1257 discarded)
9 pairwise comparisons
8 alignments generated
Pairwise collinear blocks written to Olucimarinus_OspRCC809.collinearity
Writing multiple syntenic blocks to HTML files
Olu_Chr_1.html
Olu_Chr_2.html
Olu_Chr_3.html
Osp_chr_1.html
Osp_chr_2.html
Osp_chr_3.html
Done!
[ FAIL 0 | WARN 0 | SKIP 0 | PASS 104 ]
>
> proc.time()
user system elapsed
10.646 0.431 11.359
syntenet.Rcheck/syntenet-Ex.timings
| name | user | system | elapsed | |
| angiosperm_phylogeny | 0.002 | 0.000 | 0.002 | |
| annotation | 0.003 | 0.000 | 0.004 | |
| binarize_and_transpose | 0.062 | 0.002 | 0.063 | |
| blast_list | 0.008 | 0.001 | 0.009 | |
| check_input | 0.076 | 0.001 | 0.077 | |
| cluster_network | 0.163 | 0.002 | 0.165 | |
| clusters | 0.015 | 0.000 | 0.015 | |
| collapse_bidirectional_hits | 0.009 | 0.001 | 0.009 | |
| collapse_protein_ids | 2.738 | 0.073 | 2.858 | |
| create_species_id_table | 0.043 | 0.001 | 0.044 | |
| diamond_is_installed | 0.000 | 0.004 | 0.006 | |
| edges | 0.002 | 0.000 | 0.001 | |
| export_sequences | 0.104 | 0.008 | 0.113 | |
| fasta2AAStringSetlist | 0.005 | 0.001 | 0.006 | |
| find_GS_clusters | 1.720 | 0.036 | 1.775 | |
| gff2GRangesList | 0.044 | 0.001 | 0.046 | |
| infer_microsynteny_phylogeny | 0.064 | 0.012 | 0.079 | |
| infer_syntenet | 0.164 | 0.006 | 0.171 | |
| interspecies_synteny | 0.114 | 0.005 | 0.118 | |
| intraspecies_synteny | 0.087 | 0.005 | 0.092 | |
| iqtree_is_installed | 0.002 | 0.005 | 0.009 | |
| iqtree_version | 0.001 | 0.005 | 0.007 | |
| last_is_installed | 0.001 | 0.003 | 0.004 | |
| make_bidirectional | 0.001 | 0.000 | 0.000 | |
| network | 0.103 | 0.001 | 0.126 | |
| parse_collinearity | 0.002 | 0.001 | 0.002 | |
| phylogenomic_profile | 0.050 | 0.001 | 0.050 | |
| plot_network | 1.020 | 0.023 | 1.045 | |
| plot_profiles | 1.448 | 0.027 | 1.496 | |
| process_input | 0.082 | 0.002 | 0.084 | |
| profiles2phylip | 0.068 | 0.003 | 0.071 | |
| proteomes | 0.042 | 0.001 | 0.043 | |
| read_diamond | 0.001 | 0.000 | 0.001 | |
| run_diamond | 0.085 | 0.004 | 0.089 | |
| run_last | 0.086 | 0.007 | 0.093 | |
| scerevisiae_annot | 0.004 | 0.001 | 0.006 | |
| scerevisiae_diamond | 0.014 | 0.000 | 0.015 | |