Back to Multiple platform build/check report for BioC 3.22:   simplified   long
ABCDEFGHIJKLMNOPQR[S]TUVWXYZ

This page was generated on 2025-11-20 12:05 -0500 (Thu, 20 Nov 2025).

HostnameOSArch (*)R versionInstalled pkgs
nebbiolo2Linux (Ubuntu 24.04.3 LTS)x86_644.5.2 (2025-10-31) -- "[Not] Part in a Rumble" 4615
merida1macOS 12.7.6 Montereyx86_644.5.2 Patched (2025-11-05 r88990) -- "[Not] Part in a Rumble" 4610
kjohnson1macOS 13.7.5 Venturaarm644.5.2 Patched (2025-11-04 r88984) -- "[Not] Part in a Rumble" 4598
taishanLinux (openEuler 24.03 LTS)aarch644.5.0 (2025-04-11) -- "How About a Twenty-Six" 4668
Click on any hostname to see more info about the system (e.g. compilers)      (*) as reported by 'uname -p', except on Windows and Mac OS X

Package 1987/2361HostnameOS / ArchINSTALLBUILDCHECKBUILD BIN
seqsetvis 1.30.0  (landing page)
Joseph R Boyd
Snapshot Date: 2025-11-17 13:45 -0500 (Mon, 17 Nov 2025)
git_url: https://git.bioconductor.org/packages/seqsetvis
git_branch: RELEASE_3_22
git_last_commit: 079b602
git_last_commit_date: 2025-10-29 10:44:19 -0500 (Wed, 29 Oct 2025)
nebbiolo2Linux (Ubuntu 24.04.3 LTS) / x86_64  OK    OK    OK  UNNEEDED, same version is already published
merida1macOS 12.7.6 Monterey / x86_64  OK    OK    OK    OK  UNNEEDED, same version is already published
kjohnson1macOS 13.7.5 Ventura / arm64  OK    OK    OK    OK  UNNEEDED, same version is already published
taishanLinux (openEuler 24.03 LTS) / aarch64  OK    OK    OK  


CHECK results for seqsetvis on merida1

To the developers/maintainers of the seqsetvis package:
- Allow up to 24 hours (and sometimes 48 hours) for your latest push to git@git.bioconductor.org:packages/seqsetvis.git to reflect on this report. See Troubleshooting Build Report for more information.
- Use the following Renviron settings to reproduce errors and warnings.
- If 'R CMD check' started to fail recently on the Linux builder(s) over a missing dependency, add the missing dependency to 'Suggests:' in your DESCRIPTION file. See Renviron.bioc for more information.

raw results


Summary

Package: seqsetvis
Version: 1.30.0
Command: /Library/Frameworks/R.framework/Resources/bin/R CMD check --install=check:seqsetvis.install-out.txt --library=/Library/Frameworks/R.framework/Resources/library --no-vignettes --timings seqsetvis_1.30.0.tar.gz
StartedAt: 2025-11-18 14:37:00 -0500 (Tue, 18 Nov 2025)
EndedAt: 2025-11-18 15:01:58 -0500 (Tue, 18 Nov 2025)
EllapsedTime: 1498.1 seconds
RetCode: 0
Status:   OK  
CheckDir: seqsetvis.Rcheck
Warnings: 0

Command output

##############################################################################
##############################################################################
###
### Running command:
###
###   /Library/Frameworks/R.framework/Resources/bin/R CMD check --install=check:seqsetvis.install-out.txt --library=/Library/Frameworks/R.framework/Resources/library --no-vignettes --timings seqsetvis_1.30.0.tar.gz
###
##############################################################################
##############################################################################


* using log directory ‘/Users/biocbuild/bbs-3.22-bioc/meat/seqsetvis.Rcheck’
* using R version 4.5.2 Patched (2025-11-05 r88990)
* using platform: x86_64-apple-darwin20
* R was compiled by
    Apple clang version 14.0.0 (clang-1400.0.29.202)
    GNU Fortran (GCC) 14.2.0
* running under: macOS Monterey 12.7.6
* using session charset: UTF-8
* using option ‘--no-vignettes’
* checking for file ‘seqsetvis/DESCRIPTION’ ... OK
* checking extension type ... Package
* this is package ‘seqsetvis’ version ‘1.30.0’
* package encoding: UTF-8
* checking package namespace information ... OK
* checking package dependencies ... OK
* checking if this is a source package ... OK
* checking if there is a namespace ... OK
* checking for hidden files and directories ... OK
* checking for portable file names ... OK
* checking for sufficient/correct file permissions ... OK
* checking whether package ‘seqsetvis’ can be installed ... OK
* checking installed package size ... OK
* checking package directory ... OK
* checking ‘build’ directory ... OK
* checking DESCRIPTION meta-information ... OK
* checking top-level files ... OK
* checking for left-over files ... OK
* checking index information ... OK
* checking package subdirectories ... OK
* checking code files for non-ASCII characters ... OK
* checking R files for syntax errors ... OK
* checking whether the package can be loaded ... OK
* checking whether the package can be loaded with stated dependencies ... OK
* checking whether the package can be unloaded cleanly ... OK
* checking whether the namespace can be loaded with stated dependencies ... OK
* checking whether the namespace can be unloaded cleanly ... OK
* checking dependencies in R code ... OK
* checking S3 generic/method consistency ... OK
* checking replacement functions ... OK
* checking foreign function calls ... OK
* checking R code for possible problems ... OK
* checking Rd files ... OK
* checking Rd metadata ... OK
* checking Rd cross-references ... OK
* checking for missing documentation entries ... OK
* checking for code/documentation mismatches ... OK
* checking Rd \usage sections ... OK
* checking Rd contents ... OK
* checking for unstated dependencies in examples ... OK
* checking contents of ‘data’ directory ... OK
* checking data for non-ASCII characters ... OK
* checking data for ASCII and uncompressed saves ... OK
* checking files in ‘vignettes’ ... OK
* checking examples ... OK
Examples with CPU (user + system) or elapsed time > 5s
                               user system elapsed
ssvFetchBam                  14.562  0.402  15.058
ssvFeatureBinaryHeatmap      11.026  0.777  12.268
ssvSignalHeatmap             11.606  0.175  11.949
ssvSignalBandedQuantiles     11.311  0.126  11.636
merge_clusters               10.283  0.086  10.500
ssvSignalHeatmap.ClusterBars 10.203  0.054  10.339
ssvFeatureUpset               8.027  0.061   8.482
add_cluster_annotation        7.762  0.264   9.068
ssvSignalClustering           7.605  0.071   7.879
ssvSignalLineplot             7.212  0.031   7.323
reorder_clusters_stepdown     6.547  0.044   6.832
reverse_clusters              6.185  0.041   6.540
reorder_clusters_hclust       5.771  0.024   5.843
split_cluster                 5.392  0.033   5.557
* checking for unstated dependencies in ‘tests’ ... OK
* checking tests ...
  Running ‘testthat.R’
 OK
* checking for unstated dependencies in vignettes ... OK
* checking package vignettes ... OK
* checking running R code from vignettes ... SKIPPED
* checking re-building of vignette outputs ... SKIPPED
* checking PDF version of manual ... OK
* DONE

Status: OK


Installation output

seqsetvis.Rcheck/00install.out

##############################################################################
##############################################################################
###
### Running command:
###
###   /Library/Frameworks/R.framework/Resources/bin/R CMD INSTALL seqsetvis
###
##############################################################################
##############################################################################


* installing to library ‘/Library/Frameworks/R.framework/Versions/4.5-x86_64/Resources/library’
* installing *source* package ‘seqsetvis’ ...
** this is package ‘seqsetvis’ version ‘1.30.0’
** using staged installation
** R
** data
** inst
** byte-compile and prepare package for lazy loading
** help
*** installing help indices
** building package indices
** installing vignettes
** testing if installed package can be loaded from temporary location
** testing if installed package can be loaded from final location
** testing if installed package keeps a record of temporary installation path
* DONE (seqsetvis)

Tests output

seqsetvis.Rcheck/tests/testthat.Rout


R version 4.5.2 Patched (2025-11-05 r88990) -- "[Not] Part in a Rumble"
Copyright (C) 2025 The R Foundation for Statistical Computing
Platform: x86_64-apple-darwin20

R is free software and comes with ABSOLUTELY NO WARRANTY.
You are welcome to redistribute it under certain conditions.
Type 'license()' or 'licence()' for distribution details.

R is a collaborative project with many contributors.
Type 'contributors()' for more information and
'citation()' on how to cite R or R packages in publications.

Type 'demo()' for some demos, 'help()' for on-line help, or
'help.start()' for an HTML browser interface to help.
Type 'q()' to quit R.

> 
> ## load dependencies
> library(testthat)
> library(seqsetvis)
Loading required package: ggplot2
> library(data.table)
> 
> ## test package
> test_check(package = "seqsetvis")
[ FAIL 0 | WARN 3 | SKIP 0 | PASS 1291 ]

[ FAIL 0 | WARN 3 | SKIP 0 | PASS 1291 ]
> 
> proc.time()
   user  system elapsed 
644.951   9.980 668.737 

Example timings

seqsetvis.Rcheck/seqsetvis-Ex.timings

nameusersystemelapsed
add_cluster_annotation7.7620.2649.068
append_ynorm0.0980.0110.118
applyMovingAverage2.3890.0232.705
applySpline1.1010.0141.200
assemble_heatmap_cluster_bars2.3990.0252.762
calc_norm_factors0.0560.0060.069
centerAtMax0.5900.0190.718
centerFixedSizeGRanges0.3060.0140.361
centerGRangesAtMax1.2010.0361.430
clusteringKmeans0.0530.0070.064
clusteringKmeansNestedHclust0.0650.0080.089
col2hex0.0020.0000.003
collapse_gr1.5680.0221.831
convert_collapsed_coord0.4140.0160.506
copy_clust_info4.2110.0394.993
crossCorrByRle0.9840.0281.257
easyLoad_FUN0.1050.0030.110
easyLoad_IDRmerged0.0870.0040.095
easyLoad_bed0.3060.0040.335
easyLoad_broadPeak0.0840.0030.095
easyLoad_narrowPeak0.0830.0020.091
easyLoad_seacr0.0920.0030.100
expandCigar0.3490.0320.405
findMaxPos0.0700.0230.100
fragLen_calcStranded4.1960.0704.487
fragLen_fromMacs2Xls0.0040.0010.005
getReadLength0.1220.0140.145
get_mapped_reads0.0180.0020.020
ggellipse2.1770.0172.534
harmonize_seqlengths0.2220.0150.251
make_clustering_matrix0.2000.0060.216
merge_clusters10.283 0.08610.500
prepare_fetch_GRanges0.0630.0070.069
prepare_fetch_GRanges_names0.1820.0090.192
prepare_fetch_GRanges_width0.0870.0070.095
quantileGRangesWidth0.0050.0040.010
reorder_clusters_hclust5.7710.0245.843
reorder_clusters_manual3.0900.0223.162
reorder_clusters_stepdown6.5470.0446.832
reverse_clusters6.1850.0416.540
safeBrew0.0460.0050.053
split_cluster5.3920.0335.557
ssvAnnotateSubjectGRanges2.2110.0572.286
ssvConsensusIntervalSets0.6640.0150.686
ssvFactorizeMembTable0.0290.0110.040
ssvFeatureBars2.0570.0122.089
ssvFeatureBinaryHeatmap11.026 0.77712.268
ssvFeatureEuler2.0250.0432.087
ssvFeaturePie1.5650.0151.597
ssvFeatureUpset8.0270.0618.482
ssvFeatureVenn3.6280.0243.696
ssvFetchBam14.562 0.40215.058
ssvFetchBamPE4.3980.3354.786
ssvFetchBamPE.RNA3.3390.0613.413
ssvFetchBigwig3.1940.0353.260
ssvFetchGRanges1.7770.0211.835
ssvFetchSignal3.4800.0713.569
ssvMakeMembTable-methods1.1990.0171.225
ssvOverlapIntervalSets0.5320.0140.550
ssvSignalBandedQuantiles11.311 0.12611.636
ssvSignalClustering7.6050.0717.879
ssvSignalHeatmap.ClusterBars10.203 0.05410.339
ssvSignalHeatmap11.606 0.17511.949
ssvSignalLineplot7.2120.0317.323
ssvSignalLineplotAgg2.5520.0422.637
ssvSignalScatterplot2.7620.0202.814
viewGRangesWinSample_dt2.9260.0793.324
viewGRangesWinSummary_dt2.8320.0843.270
within_clust_sort4.5710.0404.708