| Back to Multiple platform build/check report for BioC 3.22: simplified long |
|
This page was generated on 2025-11-20 12:06 -0500 (Thu, 20 Nov 2025).
| Hostname | OS | Arch (*) | R version | Installed pkgs |
|---|---|---|---|---|
| nebbiolo2 | Linux (Ubuntu 24.04.3 LTS) | x86_64 | 4.5.2 (2025-10-31) -- "[Not] Part in a Rumble" | 4615 |
| merida1 | macOS 12.7.6 Monterey | x86_64 | 4.5.2 Patched (2025-11-05 r88990) -- "[Not] Part in a Rumble" | 4610 |
| kjohnson1 | macOS 13.7.5 Ventura | arm64 | 4.5.2 Patched (2025-11-04 r88984) -- "[Not] Part in a Rumble" | 4598 |
| taishan | Linux (openEuler 24.03 LTS) | aarch64 | 4.5.0 (2025-04-11) -- "How About a Twenty-Six" | 4668 |
| Click on any hostname to see more info about the system (e.g. compilers) (*) as reported by 'uname -p', except on Windows and Mac OS X | ||||
| Package 1987/2361 | Hostname | OS / Arch | INSTALL | BUILD | CHECK | BUILD BIN | ||||||||
| seqsetvis 1.30.0 (landing page) Joseph R Boyd
| nebbiolo2 | Linux (Ubuntu 24.04.3 LTS) / x86_64 | OK | OK | OK | |||||||||
| merida1 | macOS 12.7.6 Monterey / x86_64 | OK | OK | OK | OK | |||||||||
| kjohnson1 | macOS 13.7.5 Ventura / arm64 | OK | OK | OK | OK | |||||||||
| taishan | Linux (openEuler 24.03 LTS) / aarch64 | OK | OK | OK | ||||||||||
|
To the developers/maintainers of the seqsetvis package: - Allow up to 24 hours (and sometimes 48 hours) for your latest push to git@git.bioconductor.org:packages/seqsetvis.git to reflect on this report. See Troubleshooting Build Report for more information. - Use the following Renviron settings to reproduce errors and warnings. - If 'R CMD check' started to fail recently on the Linux builder(s) over a missing dependency, add the missing dependency to 'Suggests:' in your DESCRIPTION file. See Renviron.bioc for more information. |
| Package: seqsetvis |
| Version: 1.30.0 |
| Command: /Library/Frameworks/R.framework/Resources/bin/R CMD check --install=check:seqsetvis.install-out.txt --library=/Library/Frameworks/R.framework/Resources/library --no-vignettes --timings seqsetvis_1.30.0.tar.gz |
| StartedAt: 2025-11-18 12:57:13 -0500 (Tue, 18 Nov 2025) |
| EndedAt: 2025-11-18 13:01:51 -0500 (Tue, 18 Nov 2025) |
| EllapsedTime: 277.5 seconds |
| RetCode: 0 |
| Status: OK |
| CheckDir: seqsetvis.Rcheck |
| Warnings: 0 |
##############################################################################
##############################################################################
###
### Running command:
###
### /Library/Frameworks/R.framework/Resources/bin/R CMD check --install=check:seqsetvis.install-out.txt --library=/Library/Frameworks/R.framework/Resources/library --no-vignettes --timings seqsetvis_1.30.0.tar.gz
###
##############################################################################
##############################################################################
* using log directory ‘/Users/biocbuild/bbs-3.22-bioc/meat/seqsetvis.Rcheck’
* using R version 4.5.2 Patched (2025-11-04 r88984)
* using platform: aarch64-apple-darwin20
* R was compiled by
Apple clang version 16.0.0 (clang-1600.0.26.6)
GNU Fortran (GCC) 14.2.0
* running under: macOS Ventura 13.7.8
* using session charset: UTF-8
* using option ‘--no-vignettes’
* checking for file ‘seqsetvis/DESCRIPTION’ ... OK
* checking extension type ... Package
* this is package ‘seqsetvis’ version ‘1.30.0’
* package encoding: UTF-8
* checking package namespace information ... OK
* checking package dependencies ... OK
* checking if this is a source package ... OK
* checking if there is a namespace ... OK
* checking for hidden files and directories ... OK
* checking for portable file names ... OK
* checking for sufficient/correct file permissions ... OK
* checking whether package ‘seqsetvis’ can be installed ... OK
* checking installed package size ... OK
* checking package directory ... OK
* checking ‘build’ directory ... OK
* checking DESCRIPTION meta-information ... OK
* checking top-level files ... OK
* checking for left-over files ... OK
* checking index information ... OK
* checking package subdirectories ... OK
* checking code files for non-ASCII characters ... OK
* checking R files for syntax errors ... OK
* checking whether the package can be loaded ... OK
* checking whether the package can be loaded with stated dependencies ... OK
* checking whether the package can be unloaded cleanly ... OK
* checking whether the namespace can be loaded with stated dependencies ... OK
* checking whether the namespace can be unloaded cleanly ... OK
* checking dependencies in R code ... OK
* checking S3 generic/method consistency ... OK
* checking replacement functions ... OK
* checking foreign function calls ... OK
* checking R code for possible problems ... OK
* checking Rd files ... OK
* checking Rd metadata ... OK
* checking Rd cross-references ... OK
* checking for missing documentation entries ... OK
* checking for code/documentation mismatches ... OK
* checking Rd \usage sections ... OK
* checking Rd contents ... OK
* checking for unstated dependencies in examples ... OK
* checking contents of ‘data’ directory ... OK
* checking data for non-ASCII characters ... OK
* checking data for ASCII and uncompressed saves ... OK
* checking files in ‘vignettes’ ... OK
* checking examples ... OK
* checking for unstated dependencies in ‘tests’ ... OK
* checking tests ...
Running ‘testthat.R’
OK
* checking for unstated dependencies in vignettes ... OK
* checking package vignettes ... OK
* checking running R code from vignettes ... SKIPPED
* checking re-building of vignette outputs ... SKIPPED
* checking PDF version of manual ... OK
* DONE
Status: OK
seqsetvis.Rcheck/00install.out
############################################################################## ############################################################################## ### ### Running command: ### ### /Library/Frameworks/R.framework/Resources/bin/R CMD INSTALL seqsetvis ### ############################################################################## ############################################################################## * installing to library ‘/Library/Frameworks/R.framework/Versions/4.5-arm64/Resources/library’ * installing *source* package ‘seqsetvis’ ... ** this is package ‘seqsetvis’ version ‘1.30.0’ ** using staged installation ** R ** data ** inst ** byte-compile and prepare package for lazy loading ** help *** installing help indices ** building package indices ** installing vignettes ** testing if installed package can be loaded from temporary location ** testing if installed package can be loaded from final location ** testing if installed package keeps a record of temporary installation path * DONE (seqsetvis)
seqsetvis.Rcheck/tests/testthat.Rout
R version 4.5.2 Patched (2025-11-04 r88984) -- "[Not] Part in a Rumble" Copyright (C) 2025 The R Foundation for Statistical Computing Platform: aarch64-apple-darwin20 R is free software and comes with ABSOLUTELY NO WARRANTY. You are welcome to redistribute it under certain conditions. Type 'license()' or 'licence()' for distribution details. R is a collaborative project with many contributors. Type 'contributors()' for more information and 'citation()' on how to cite R or R packages in publications. Type 'demo()' for some demos, 'help()' for on-line help, or 'help.start()' for an HTML browser interface to help. Type 'q()' to quit R. > > ## load dependencies > library(testthat) > library(seqsetvis) Loading required package: ggplot2 > library(data.table) > > ## test package > test_check(package = "seqsetvis") [ FAIL 0 | WARN 3 | SKIP 0 | PASS 1291 ] [ FAIL 0 | WARN 3 | SKIP 0 | PASS 1291 ] > > proc.time() user system elapsed 98.033 1.990 118.304
seqsetvis.Rcheck/seqsetvis-Ex.timings
| name | user | system | elapsed | |
| add_cluster_annotation | 1.356 | 0.030 | 1.641 | |
| append_ynorm | 0.024 | 0.003 | 0.069 | |
| applyMovingAverage | 0.346 | 0.004 | 0.401 | |
| applySpline | 0.173 | 0.004 | 0.226 | |
| assemble_heatmap_cluster_bars | 0.341 | 0.004 | 0.467 | |
| calc_norm_factors | 0.012 | 0.002 | 0.013 | |
| centerAtMax | 0.095 | 0.004 | 0.148 | |
| centerFixedSizeGRanges | 0.058 | 0.003 | 0.062 | |
| centerGRangesAtMax | 0.211 | 0.007 | 0.284 | |
| clusteringKmeans | 0.014 | 0.002 | 0.049 | |
| clusteringKmeansNestedHclust | 0.014 | 0.003 | 0.026 | |
| col2hex | 0.001 | 0.000 | 0.000 | |
| collapse_gr | 0.266 | 0.005 | 0.271 | |
| convert_collapsed_coord | 0.075 | 0.003 | 0.079 | |
| copy_clust_info | 0.625 | 0.009 | 0.815 | |
| crossCorrByRle | 0.162 | 0.004 | 0.171 | |
| easyLoad_FUN | 0.018 | 0.001 | 0.018 | |
| easyLoad_IDRmerged | 0.015 | 0.000 | 0.017 | |
| easyLoad_bed | 0.043 | 0.000 | 0.045 | |
| easyLoad_broadPeak | 0.013 | 0.001 | 0.014 | |
| easyLoad_narrowPeak | 0.014 | 0.000 | 0.015 | |
| easyLoad_seacr | 0.015 | 0.001 | 0.018 | |
| expandCigar | 0.073 | 0.005 | 0.087 | |
| findMaxPos | 0.017 | 0.005 | 0.024 | |
| fragLen_calcStranded | 0.587 | 0.008 | 0.701 | |
| fragLen_fromMacs2Xls | 0.001 | 0.000 | 0.001 | |
| getReadLength | 0.020 | 0.002 | 0.028 | |
| get_mapped_reads | 0.004 | 0.000 | 0.004 | |
| ggellipse | 0.321 | 0.003 | 0.404 | |
| harmonize_seqlengths | 0.050 | 0.003 | 0.053 | |
| make_clustering_matrix | 0.033 | 0.002 | 0.073 | |
| merge_clusters | 1.509 | 0.018 | 1.820 | |
| prepare_fetch_GRanges | 0.011 | 0.001 | 0.013 | |
| prepare_fetch_GRanges_names | 0.035 | 0.002 | 0.045 | |
| prepare_fetch_GRanges_width | 0.019 | 0.002 | 0.021 | |
| quantileGRangesWidth | 0.002 | 0.001 | 0.007 | |
| reorder_clusters_hclust | 0.855 | 0.006 | 1.079 | |
| reorder_clusters_manual | 0.478 | 0.005 | 0.597 | |
| reorder_clusters_stepdown | 1.235 | 0.012 | 1.671 | |
| reverse_clusters | 0.980 | 0.014 | 1.527 | |
| safeBrew | 0.011 | 0.002 | 0.012 | |
| split_cluster | 0.934 | 0.016 | 1.218 | |
| ssvAnnotateSubjectGRanges | 0.416 | 0.008 | 0.536 | |
| ssvConsensusIntervalSets | 0.129 | 0.003 | 0.140 | |
| ssvFactorizeMembTable | 0.006 | 0.001 | 0.007 | |
| ssvFeatureBars | 0.309 | 0.002 | 0.343 | |
| ssvFeatureBinaryHeatmap | 3.318 | 0.196 | 4.234 | |
| ssvFeatureEuler | 0.310 | 0.009 | 0.352 | |
| ssvFeaturePie | 0.241 | 0.004 | 0.331 | |
| ssvFeatureUpset | 1.180 | 0.008 | 1.267 | |
| ssvFeatureVenn | 0.524 | 0.003 | 0.645 | |
| ssvFetchBam | 2.082 | 0.066 | 2.463 | |
| ssvFetchBamPE | 0.696 | 0.047 | 0.856 | |
| ssvFetchBamPE.RNA | 0.577 | 0.022 | 0.705 | |
| ssvFetchBigwig | 0.499 | 0.009 | 0.565 | |
| ssvFetchGRanges | 0.288 | 0.004 | 0.375 | |
| ssvFetchSignal | 0.524 | 0.015 | 0.588 | |
| ssvMakeMembTable-methods | 0.203 | 0.003 | 0.222 | |
| ssvOverlapIntervalSets | 0.093 | 0.002 | 0.111 | |
| ssvSignalBandedQuantiles | 1.801 | 0.035 | 2.234 | |
| ssvSignalClustering | 1.160 | 0.019 | 1.543 | |
| ssvSignalHeatmap.ClusterBars | 1.493 | 0.017 | 1.807 | |
| ssvSignalHeatmap | 1.799 | 0.040 | 2.346 | |
| ssvSignalLineplot | 1.074 | 0.008 | 1.263 | |
| ssvSignalLineplotAgg | 0.441 | 0.006 | 0.560 | |
| ssvSignalScatterplot | 0.463 | 0.006 | 0.548 | |
| viewGRangesWinSample_dt | 0.450 | 0.008 | 0.544 | |
| viewGRangesWinSummary_dt | 0.466 | 0.012 | 0.562 | |
| within_clust_sort | 0.691 | 0.013 | 0.832 | |