| Back to Multiple platform build/check report for BioC 3.22: simplified long |
|
This page was generated on 2025-08-15 12:07 -0400 (Fri, 15 Aug 2025).
| Hostname | OS | Arch (*) | R version | Installed pkgs |
|---|---|---|---|---|
| nebbiolo2 | Linux (Ubuntu 24.04.3 LTS) | x86_64 | 4.5.1 (2025-06-13) -- "Great Square Root" | 4818 |
| palomino8 | Windows Server 2022 Datacenter | x64 | 4.5.1 (2025-06-13 ucrt) -- "Great Square Root" | 4554 |
| lconway | macOS 12.7.1 Monterey | x86_64 | 4.5.1 (2025-06-13) -- "Great Square Root" | 4595 |
| kjohnson3 | macOS 13.7.7 Ventura | arm64 | 4.5.1 Patched (2025-06-14 r88325) -- "Great Square Root" | 4537 |
| taishan | Linux (openEuler 24.03 LTS) | aarch64 | 4.5.0 (2025-04-11) -- "How About a Twenty-Six" | 4535 |
| Click on any hostname to see more info about the system (e.g. compilers) (*) as reported by 'uname -p', except on Windows and Mac OS X | ||||
| Package 1569/2317 | Hostname | OS / Arch | INSTALL | BUILD | CHECK | BUILD BIN | ||||||||
| pipeComp 1.19.0 (landing page) Pierre-Luc Germain
| nebbiolo2 | Linux (Ubuntu 24.04.3 LTS) / x86_64 | OK | OK | OK | |||||||||
| palomino8 | Windows Server 2022 Datacenter / x64 | OK | OK | OK | OK | |||||||||
| lconway | macOS 12.7.1 Monterey / x86_64 | OK | OK | OK | OK | |||||||||
| kjohnson3 | macOS 13.7.7 Ventura / arm64 | OK | OK | OK | OK | |||||||||
| taishan | Linux (openEuler 24.03 LTS) / aarch64 | OK | OK | OK | ||||||||||
|
To the developers/maintainers of the pipeComp package: - Allow up to 24 hours (and sometimes 48 hours) for your latest push to git@git.bioconductor.org:packages/pipeComp.git to reflect on this report. See Troubleshooting Build Report for more information. - Use the following Renviron settings to reproduce errors and warnings. - If 'R CMD check' started to fail recently on the Linux builder(s) over a missing dependency, add the missing dependency to 'Suggests:' in your DESCRIPTION file. See Renviron.bioc for more information. |
| Package: pipeComp |
| Version: 1.19.0 |
| Command: F:\biocbuild\bbs-3.22-bioc\R\bin\R.exe CMD check --no-multiarch --install=check:pipeComp.install-out.txt --library=F:\biocbuild\bbs-3.22-bioc\R\library --no-vignettes --timings pipeComp_1.19.0.tar.gz |
| StartedAt: 2025-08-15 06:25:17 -0400 (Fri, 15 Aug 2025) |
| EndedAt: 2025-08-15 06:33:58 -0400 (Fri, 15 Aug 2025) |
| EllapsedTime: 520.5 seconds |
| RetCode: 0 |
| Status: OK |
| CheckDir: pipeComp.Rcheck |
| Warnings: 0 |
##############################################################################
##############################################################################
###
### Running command:
###
### F:\biocbuild\bbs-3.22-bioc\R\bin\R.exe CMD check --no-multiarch --install=check:pipeComp.install-out.txt --library=F:\biocbuild\bbs-3.22-bioc\R\library --no-vignettes --timings pipeComp_1.19.0.tar.gz
###
##############################################################################
##############################################################################
* using log directory 'F:/biocbuild/bbs-3.22-bioc/meat/pipeComp.Rcheck'
* using R version 4.5.1 (2025-06-13 ucrt)
* using platform: x86_64-w64-mingw32
* R was compiled by
gcc.exe (GCC) 14.2.0
GNU Fortran (GCC) 14.2.0
* running under: Windows Server 2022 x64 (build 20348)
* using session charset: UTF-8
* using option '--no-vignettes'
* checking for file 'pipeComp/DESCRIPTION' ... OK
* checking extension type ... Package
* this is package 'pipeComp' version '1.19.0'
* package encoding: UTF-8
* checking package namespace information ... OK
* checking package dependencies ... INFO
Imports includes 26 non-default packages.
Importing from so many packages makes the package vulnerable to any of
them becoming unavailable. Move as many as possible to Suggests and
use conditionally.
* checking if this is a source package ... OK
* checking if there is a namespace ... OK
* checking for hidden files and directories ... OK
* checking for portable file names ... OK
* checking whether package 'pipeComp' can be installed ... OK
* checking installed package size ... OK
* checking package directory ... OK
* checking 'build' directory ... OK
* checking DESCRIPTION meta-information ... OK
* checking top-level files ... NOTE
File
LICENSE
is not mentioned in the DESCRIPTION file.
* checking for left-over files ... OK
* checking index information ... OK
* checking package subdirectories ... OK
* checking code files for non-ASCII characters ... OK
* checking R files for syntax errors ... OK
* checking whether the package can be loaded ... OK
* checking whether the package can be loaded with stated dependencies ... OK
* checking whether the package can be unloaded cleanly ... OK
* checking whether the namespace can be loaded with stated dependencies ... OK
* checking whether the namespace can be unloaded cleanly ... OK
* checking dependencies in R code ... NOTE
There are ::: calls to the package's namespace in its code. A package
almost never needs to use ::: for its own objects:
'.compileExcludedCells' '.getMM' '.homogenizeDEA' '.runf'
* checking S3 generic/method consistency ... OK
* checking replacement functions ... OK
* checking foreign function calls ... OK
* checking R code for possible problems ... NOTE
scrna_describeDatasets: no visible binding for global variable
'cluster'
scrna_describeDatasets: no visible binding for global variable 'nb'
scrna_describeDatasets : pf: no visible binding for global variable
'.x'
scrna_describeDatasets : rd: no visible binding for global variable 'y'
scrna_describeDatasets : rd: no visible binding for global variable
'cluster'
scrna_evalPlot_filtering: no visible binding for global variable
'max.lost'
scrna_evalPlot_filtering: no visible binding for global variable
'mean_F1'
scrna_evalPlot_filtering: no visible binding for global variable 'filt'
scrna_evalPlot_filtering: no visible binding for global variable
'doubletmethod'
scrna_evalPlot_filtering: no visible binding for global variable
'method'
scrna_evalPlot_overall: no visible binding for global variable
'true.nbClusts'
scrna_evalPlot_overall: no visible binding for global variable 'n_clus'
Undefined global functions or variables:
.x cluster doubletmethod filt max.lost mean_F1 method n_clus nb
true.nbClusts y
* checking Rd files ... OK
* checking Rd metadata ... OK
* checking Rd cross-references ... OK
* checking for missing documentation entries ... OK
* checking for code/documentation mismatches ... OK
* checking Rd \usage sections ... OK
* checking Rd contents ... OK
* checking for unstated dependencies in examples ... OK
* checking contents of 'data' directory ... OK
* checking data for non-ASCII characters ... OK
* checking data for ASCII and uncompressed saves ... OK
* checking files in 'vignettes' ... OK
* checking examples ... OK
Examples with CPU (user + system) or elapsed time > 5s
user system elapsed
checkPipelinePackages 3.09 2.19 59.81
scrna_evalPlot_overall 5.12 0.04 5.18
* checking for unstated dependencies in vignettes ... OK
* checking package vignettes ... OK
* checking running R code from vignettes ... SKIPPED
* checking re-building of vignette outputs ... SKIPPED
* checking PDF version of manual ... OK
* DONE
Status: 3 NOTEs
See
'F:/biocbuild/bbs-3.22-bioc/meat/pipeComp.Rcheck/00check.log'
for details.
pipeComp.Rcheck/00install.out
############################################################################## ############################################################################## ### ### Running command: ### ### F:\biocbuild\bbs-3.22-bioc\R\bin\R.exe CMD INSTALL pipeComp ### ############################################################################## ############################################################################## * installing to library 'F:/biocbuild/bbs-3.22-bioc/R/library' * installing *source* package 'pipeComp' ... ** this is package 'pipeComp' version '1.19.0' ** using staged installation ** R ** data ** inst ** byte-compile and prepare package for lazy loading ** help *** installing help indices ** building package indices ** installing vignettes ** testing if installed package can be loaded from temporary location ** testing if installed package can be loaded from final location ** testing if installed package keeps a record of temporary installation path * DONE (pipeComp)
pipeComp.Rcheck/pipeComp-Ex.timings
| name | user | system | elapsed | |
| PipelineDefinition-methods | 0.00 | 0.01 | 0.01 | |
| PipelineDefinition | 0.01 | 0.00 | 0.02 | |
| addPipelineStep | 0 | 0 | 0 | |
| aggregatePipelineResults | 1.09 | 0.05 | 1.14 | |
| buildCombMatrix | 0 | 0 | 0 | |
| checkPipelinePackages | 3.09 | 2.19 | 59.81 | |
| colCenterScale | 0 | 0 | 0 | |
| dea_evalPlot_curve | 0.86 | 0.05 | 0.92 | |
| dea_pipeline | 0 | 0 | 0 | |
| evalHeatmap | 3.30 | 0.78 | 3.35 | |
| evaluateClustering | 0.01 | 0.00 | 0.01 | |
| evaluateDEA | 0.07 | 0.00 | 0.06 | |
| evaluateDimRed | 1.59 | 0.06 | 1.69 | |
| evaluateNorm | 1.70 | 0.11 | 1.81 | |
| farthestPoint | 0.02 | 0.00 | 0.02 | |
| getQualitativePalette | 0 | 0 | 0 | |
| match_evaluate_multiple | 0 | 0 | 0 | |
| mergePipelineResults | 2.31 | 0.09 | 2.41 | |
| mockPipeline | 0 | 0 | 0 | |
| parsePipNames | 0 | 0 | 0 | |
| plotElapsed | 0.81 | 0.00 | 0.81 | |
| readPipelineResults | 1.08 | 0.05 | 1.13 | |
| runPipeline | 1.20 | 0.03 | 1.23 | |
| scrna_evalPlot_filtering | 0.49 | 0.02 | 0.50 | |
| scrna_evalPlot_overall | 5.12 | 0.04 | 5.18 | |
| scrna_evalPlot_silh | 0.84 | 0.03 | 0.87 | |
| scrna_pipeline | 0 | 0 | 0 | |