| Back to Multiple platform build/check report for BioC 3.22: simplified long |
|
This page was generated on 2025-10-25 12:05 -0400 (Sat, 25 Oct 2025).
| Hostname | OS | Arch (*) | R version | Installed pkgs |
|---|---|---|---|---|
| nebbiolo2 | Linux (Ubuntu 24.04.3 LTS) | x86_64 | 4.5.1 Patched (2025-08-23 r88802) -- "Great Square Root" | 4901 |
| lconway | macOS 12.7.6 Monterey | x86_64 | 4.5.1 Patched (2025-09-10 r88807) -- "Great Square Root" | 4691 |
| kjohnson3 | macOS 13.7.7 Ventura | arm64 | 4.5.1 Patched (2025-09-10 r88807) -- "Great Square Root" | 4637 |
| taishan | Linux (openEuler 24.03 LTS) | aarch64 | 4.5.0 (2025-04-11) -- "How About a Twenty-Six" | 4658 |
| Click on any hostname to see more info about the system (e.g. compilers) (*) as reported by 'uname -p', except on Windows and Mac OS X | ||||
| Package 1257/2361 | Hostname | OS / Arch | INSTALL | BUILD | CHECK | BUILD BIN | ||||||||
| metaseqR2 1.21.2 (landing page) Panagiotis Moulos
| nebbiolo2 | Linux (Ubuntu 24.04.3 LTS) / x86_64 | OK | OK | OK | |||||||||
| lconway | macOS 12.7.6 Monterey / x86_64 | OK | OK | OK | OK | |||||||||
| kjohnson3 | macOS 13.7.7 Ventura / arm64 | OK | OK | OK | OK | |||||||||
| taishan | Linux (openEuler 24.03 LTS) / aarch64 | OK | NA | NA | ||||||||||
|
To the developers/maintainers of the metaseqR2 package: - Allow up to 24 hours (and sometimes 48 hours) for your latest push to git@git.bioconductor.org:packages/metaseqR2.git to reflect on this report. See Troubleshooting Build Report for more information. - Use the following Renviron settings to reproduce errors and warnings. - If 'R CMD check' started to fail recently on the Linux builder(s) over a missing dependency, add the missing dependency to 'Suggests:' in your DESCRIPTION file. See Renviron.bioc for more information. |
| Package: metaseqR2 |
| Version: 1.21.2 |
| Command: /Library/Frameworks/R.framework/Resources/bin/R CMD check --install=check:metaseqR2.install-out.txt --library=/Library/Frameworks/R.framework/Resources/library --no-vignettes --timings metaseqR2_1.21.2.tar.gz |
| StartedAt: 2025-10-24 22:22:01 -0400 (Fri, 24 Oct 2025) |
| EndedAt: 2025-10-24 22:31:30 -0400 (Fri, 24 Oct 2025) |
| EllapsedTime: 568.6 seconds |
| RetCode: 0 |
| Status: OK |
| CheckDir: metaseqR2.Rcheck |
| Warnings: 0 |
##############################################################################
##############################################################################
###
### Running command:
###
### /Library/Frameworks/R.framework/Resources/bin/R CMD check --install=check:metaseqR2.install-out.txt --library=/Library/Frameworks/R.framework/Resources/library --no-vignettes --timings metaseqR2_1.21.2.tar.gz
###
##############################################################################
##############################################################################
* using log directory ‘/Users/biocbuild/bbs-3.22-bioc/meat/metaseqR2.Rcheck’
* using R version 4.5.1 Patched (2025-09-10 r88807)
* using platform: x86_64-apple-darwin20
* R was compiled by
Apple clang version 14.0.0 (clang-1400.0.29.202)
GNU Fortran (GCC) 14.2.0
* running under: macOS Monterey 12.7.6
* using session charset: UTF-8
* using option ‘--no-vignettes’
* checking for file ‘metaseqR2/DESCRIPTION’ ... OK
* checking extension type ... Package
* this is package ‘metaseqR2’ version ‘1.21.2’
* package encoding: UTF-8
* checking package namespace information ... OK
* checking package dependencies ... INFO
Imports includes 46 non-default packages.
Importing from so many packages makes the package vulnerable to any of
them becoming unavailable. Move as many as possible to Suggests and
use conditionally.
* checking if this is a source package ... OK
* checking if there is a namespace ... OK
* checking for hidden files and directories ... OK
* checking for portable file names ... OK
* checking for sufficient/correct file permissions ... OK
* checking whether package ‘metaseqR2’ can be installed ... OK
* used C compiler: ‘Apple clang version 14.0.0 (clang-1400.0.29.202)’
* used SDK: ‘MacOSX11.3.1.sdk’
* checking installed package size ... OK
* checking package directory ... OK
* checking ‘build’ directory ... OK
* checking DESCRIPTION meta-information ... OK
* checking top-level files ... OK
* checking for left-over files ... OK
* checking index information ... OK
* checking package subdirectories ... OK
* checking code files for non-ASCII characters ... OK
* checking R files for syntax errors ... OK
* checking whether the package can be loaded ... OK
* checking whether the package can be loaded with stated dependencies ... OK
* checking whether the package can be unloaded cleanly ... OK
* checking whether the namespace can be loaded with stated dependencies ... OK
* checking whether the namespace can be unloaded cleanly ... OK
* checking dependencies in R code ... OK
* checking S3 generic/method consistency ... OK
* checking replacement functions ... OK
* checking foreign function calls ... OK
* checking R code for possible problems ... NOTE
getUcscUtr: no visible binding for global variable ‘customDir’
Undefined global functions or variables:
customDir
* checking Rd files ... OK
* checking Rd metadata ... OK
* checking Rd cross-references ... NOTE
Found the following Rd file(s) with Rd \link{} targets missing package
anchors:
metaseqr2.Rd: render
Please provide package anchors for all Rd \link{} targets not in the
package itself and the base packages.
* checking for missing documentation entries ... OK
* checking for code/documentation mismatches ... OK
* checking Rd \usage sections ... OK
* checking Rd contents ... OK
* checking for unstated dependencies in examples ... OK
* checking contents of ‘data’ directory ... OK
* checking data for non-ASCII characters ... OK
* checking data for ASCII and uncompressed saves ... OK
* checking line endings in C/C++/Fortran sources/headers ... OK
* checking compiled code ... NOTE
Note: information on .o files is not available
* checking files in ‘vignettes’ ... OK
* checking examples ... OK
Examples with CPU (user + system) or elapsed time > 5s
user system elapsed
read2count 11.152 1.305 15.496
statNoiseq 7.258 0.067 7.361
metaseqr2 5.345 0.714 7.462
getAnnotation 2.113 0.147 5.188
* checking for unstated dependencies in ‘tests’ ... OK
* checking tests ...
Running ‘runTests.R’
OK
* checking for unstated dependencies in vignettes ... OK
* checking package vignettes ... OK
* checking running R code from vignettes ... SKIPPED
* checking re-building of vignette outputs ... SKIPPED
* checking PDF version of manual ... OK
* DONE
Status: 3 NOTEs
See
‘/Users/biocbuild/bbs-3.22-bioc/meat/metaseqR2.Rcheck/00check.log’
for details.
metaseqR2.Rcheck/00install.out
##############################################################################
##############################################################################
###
### Running command:
###
### /Library/Frameworks/R.framework/Resources/bin/R CMD INSTALL metaseqR2
###
##############################################################################
##############################################################################
* installing to library ‘/Library/Frameworks/R.framework/Versions/4.5-x86_64/Resources/library’
* installing *source* package ‘metaseqR2’ ...
** this is package ‘metaseqR2’ version ‘1.21.2’
** using staged installation
** libs
using C compiler: ‘Apple clang version 14.0.0 (clang-1400.0.29.202)’
using SDK: ‘MacOSX11.3.1.sdk’
clang -arch x86_64 -I"/Library/Frameworks/R.framework/Resources/include" -DNDEBUG -I/opt/R/x86_64/include -fPIC -falign-functions=64 -Wall -g -O2 -c pval.c -o pval.o
pval.c:26:11: warning: unused variable 'esttotalperlength' [-Wunused-variable]
double esttotalperlength = total/2;
^
1 warning generated.
clang -arch x86_64 -dynamiclib -Wl,-headerpad_max_install_names -undefined dynamic_lookup -L/Library/Frameworks/R.framework/Resources/lib -L/opt/R/x86_64/lib -o metaseqR2.so pval.o -F/Library/Frameworks/R.framework/.. -framework R
installing to /Library/Frameworks/R.framework/Versions/4.5-x86_64/Resources/library/00LOCK-metaseqR2/00new/metaseqR2/libs
** R
** data
** inst
** byte-compile and prepare package for lazy loading
** help
*** installing help indices
** building package indices
** installing vignettes
** testing if installed package can be loaded from temporary location
** checking absolute paths in shared objects and dynamic libraries
** testing if installed package can be loaded from final location
** testing if installed package keeps a record of temporary installation path
* DONE (metaseqR2)
metaseqR2.Rcheck/tests/runTests.Rout
R version 4.5.1 Patched (2025-09-10 r88807) -- "Great Square Root"
Copyright (C) 2025 The R Foundation for Statistical Computing
Platform: x86_64-apple-darwin20
R is free software and comes with ABSOLUTELY NO WARRANTY.
You are welcome to redistribute it under certain conditions.
Type 'license()' or 'licence()' for distribution details.
R is a collaborative project with many contributors.
Type 'contributors()' for more information and
'citation()' on how to cite R or R packages in publications.
Type 'demo()' for some demos, 'help()' for on-line help, or
'help.start()' for an HTML browser interface to help.
Type 'q()' to quit R.
> BiocGenerics:::testPackage("metaseqR2")
Attaching package: 'generics'
The following objects are masked from 'package:base':
as.difftime, as.factor, as.ordered, intersect, is.element, setdiff,
setequal, union
Attaching package: 'BiocGenerics'
The following objects are masked from 'package:stats':
IQR, mad, sd, var, xtabs
The following objects are masked from 'package:base':
Filter, Find, Map, Position, Reduce, anyDuplicated, aperm, append,
as.data.frame, basename, cbind, colnames, dirname, do.call,
duplicated, eval, evalq, get, grep, grepl, is.unsorted, lapply,
mapply, match, mget, order, paste, pmax, pmax.int, pmin, pmin.int,
rank, rbind, rownames, sapply, saveRDS, table, tapply, unique,
unsplit, which.max, which.min
Attaching package: 'S4Vectors'
The following object is masked from 'package:utils':
findMatches
The following objects are masked from 'package:base':
I, expand.grid, unname
Attaching package: 'MatrixGenerics'
The following objects are masked from 'package:matrixStats':
colAlls, colAnyNAs, colAnys, colAvgsPerRowSet, colCollapse,
colCounts, colCummaxs, colCummins, colCumprods, colCumsums,
colDiffs, colIQRDiffs, colIQRs, colLogSumExps, colMadDiffs,
colMads, colMaxs, colMeans2, colMedians, colMins, colOrderStats,
colProds, colQuantiles, colRanges, colRanks, colSdDiffs, colSds,
colSums2, colTabulates, colVarDiffs, colVars, colWeightedMads,
colWeightedMeans, colWeightedMedians, colWeightedSds,
colWeightedVars, rowAlls, rowAnyNAs, rowAnys, rowAvgsPerColSet,
rowCollapse, rowCounts, rowCummaxs, rowCummins, rowCumprods,
rowCumsums, rowDiffs, rowIQRDiffs, rowIQRs, rowLogSumExps,
rowMadDiffs, rowMads, rowMaxs, rowMeans2, rowMedians, rowMins,
rowOrderStats, rowProds, rowQuantiles, rowRanges, rowRanks,
rowSdDiffs, rowSds, rowSums2, rowTabulates, rowVarDiffs, rowVars,
rowWeightedMads, rowWeightedMeans, rowWeightedMedians,
rowWeightedSds, rowWeightedVars
Welcome to Bioconductor
Vignettes contain introductory material; view with
'browseVignettes()'. To cite Bioconductor, see
'citation("Biobase")', and for packages 'citation("pkgname")'.
Attaching package: 'Biobase'
The following object is masked from 'package:MatrixGenerics':
rowMedians
The following objects are masked from 'package:matrixStats':
anyMissing, rowMedians
Attaching package: 'limma'
The following object is masked from 'package:DESeq2':
plotMA
The following object is masked from 'package:BiocGenerics':
plotMA
locfit 1.5-9.12 2025-03-05
Attaching package: 'metaseqR2'
The following object is masked from 'package:limma':
readTargets
Downsampling counts...
Estimating initial dispersion population...
Estimating dispersions using log-likelihood...
Running simulations... This procedure requires time... Please wait...Using Ensembl host https://jan2024.archive.ensembl.org
2025-10-24 22:31:08: Data processing started...
Read counts file: imported custom data frame
Conditions: G1, G2
Samples to include: G1_rep1, G1_rep2, G1_rep3, G2_rep1, G2_rep2, G2_rep3
Samples to exclude: none
Requested contrasts: G1_vs_G2
Annotation: embedded
Organism: mm10
Reference source: ensembl
Count type: gene
Analysis preset: all_basic
Transcriptional level: gene
Exon filters: none applied
Gene filters: none applied
Filter application: postnorm
Normalization algorithm: edaseq
Normalization arguments:
within.which: loess
between.which: full
Statistical algorithm(s): edger, limma
Statistical arguments:
edger: classic, 5, 10, movingave, NULL, grid, 11, c(-6, 6), NULL, CoxReid, 10000, NULL, auto, NULL, NULL, NULL, NULL, 0.125, NULL, auto, chisq, TRUE, FALSE, c(0.05, 0.1)
limma: none
Meta-analysis method: simes
Multiple testing correction: BH
Logarithmic transformation offset: 1
Analysis preset: all_basic
Quality control plots:
Figure format: png
Output directory: /tmp/RtmpA3tKvn
Output data: annotation, p_value, adj_p_value, meta_p_value, adj_meta_p_value, fold_change
Output scale(s): natural, log2
Output values: normalized
Loading gene annotation...
Saving gene model to /tmp/RtmpA3tKvn/data/gene_model.RData
Removing genes with zero counts in all samples...
Normalizing with: edaseq
Running statistical tests with: edger
Contrast: G1_vs_G2
Running statistical tests with: limma
Contrast: G1_vs_G2
Performing meta-analysis with simes
Building output files...
Contrast: G1_vs_G2
Adding non-filtered data...
binding annotation...
binding p-values...
binding FDRs...
binding meta p-values...
binding adjusted meta p-values...
binding natural normalized fold changes...
binding log2 normalized fold changes...
Writing output...
2025-10-24 22:31:09: Data processing finished!
Total processing time: 00 seconds
Estimating AUFC weights... Please wait...
Processing edger
Processing limma
Retrieving edger
Retrieving limma
2025-10-24 22:31:09: Data processing started...
Read counts file: imported custom data frame
Conditions: e14.5, adult_8_weeks
Samples to include: e14.5_1, e14.5_2, a8w_1, a8w_2
Samples to exclude: none
Requested contrasts: adult_8_weeks_vs_e14.5
Library sizes:
e14.5_1: 3102907
e14.5_2: 2067905
a8w_1: 3742059
a8w_2: 4403954
Annotation: embedded
Organism: mm9
Reference source: ensembl
Count type: gene
Analysis preset: medium_basic
Transcriptional level: gene
Exon filters: minActiveExons
minActiveExons:
exonsPerGene: 5
minExons: 2
frac: 0.2
Gene filters: length, avgReads, expression, biotype
length:
length: 500
avgReads:
averagePerBp: 100
quantile: 0.25
expression:
median: TRUE
mean: FALSE
quantile: NA
known: NA
custom: NA
biotype:
pseudogene: FALSE
snRNA: FALSE
protein_coding: FALSE
antisense: FALSE
miRNA: FALSE
lincRNA: FALSE
snoRNA: FALSE
processed_transcript: FALSE
misc_RNA: FALSE
rRNA: TRUE
sense_overlapping: FALSE
sense_intronic: FALSE
polymorphic_pseudogene: FALSE
non_coding: FALSE
three_prime_overlapping_ncrna: FALSE
IG_C_gene: FALSE
IG_J_gene: FALSE
IG_D_gene: FALSE
IG_V_gene: FALSE
ncrna_host: FALSE
Filter application: postnorm
Normalization algorithm: edger
Normalization arguments:
method: TMM
logratioTrim: 0.3
sumTrim: 0.05
doWeighting: TRUE
Acutoff: -1e+10
p: 0.75
Statistical algorithm(s): edger, limma
Statistical arguments:
edger: classic, 5, 10, movingave, NULL, grid, 11, c(-6, 6), NULL, CoxReid, 10000, NULL, auto, NULL, NULL, NULL, NULL, 0.125, NULL, auto, chisq, TRUE, FALSE, c(0.05, 0.1)
limma: none
Meta-analysis method: simes
Multiple testing correction: BH
p-value threshold: 0.05
Logarithmic transformation offset: 1
Analysis preset: medium_basic
Quality control plots: mds
Figure format: png
Output directory: /tmp/RtmpA3tKvn
Output data: annotation, p_value, adj_p_value, meta_p_value, adj_meta_p_value, fold_change
Output scale(s): natural, log2
Output values: normalized
Loading gene annotation...
Saving gene model to /tmp/RtmpA3tKvn/data/gene_model.RData
Removing genes with zero counts in all samples...
Normalizing with: edger
Applying gene filter length...
Threshold below which ignored: 500
Applying gene filter avgReads...
Threshold below which ignored: 0.0659629215631332
Applying gene filter expression...
Threshold below which ignored: 68
Applying gene filter biotype...
Biotypes ignored: rRNA
2106 genes filtered out
1681 genes remain after filtering
Running statistical tests with: edger
Contrast: adult_8_weeks_vs_e14.5
Contrast adult_8_weeks_vs_e14.5: found 906 genes
Running statistical tests with: limma
Contrast: adult_8_weeks_vs_e14.5
Contrast adult_8_weeks_vs_e14.5: found 912 genes
Performing meta-analysis with simes
Building output files...
Contrast: adult_8_weeks_vs_e14.5
Adding non-filtered data...
binding annotation...
binding p-values...
binding FDRs...
binding meta p-values...
binding adjusted meta p-values...
binding natural normalized fold changes...
binding log2 normalized fold changes...
Writing output...
Adding filtered data...
binding annotation...
binding p-values...
binding FDRs...
binding meta p-values...
binding adjusted meta p-values...
binding natural normalized fold changes...
binding log2 normalized fold changes...
Writing output...
Adding report data...
binding annotation...
binding meta p-values...
binding adjusted meta p-values...
binding log2 normalized fold changes...
binding normalized mean counts...
binding normalized mean counts...
Creating quality control graphs...
Plotting in png format...
Plotting mds...2025-10-24 22:31:12.028 R[78163:640937130] XType: com.apple.fonts is not accessible.
2025-10-24 22:31:12.028 R[78163:640937130] XType: XTFontStaticRegistry is enabled.
Importing mds...
Writing plot database in /tmp/RtmpA3tKvn/data/reportdb.js
Creating HTML report...
Compressing figures... adding: tmp/RtmpA3tKvn/plots/qc/mds.png (deflated 48%)
Downloading required JavaScript libraries...trying URL 'https://raw.github.com/HubSpot/pace/v1.0.0/pace.min.js'
Content type 'text/plain; charset=utf-8' length 12363 bytes (12 KB)
==================================================
downloaded 12 KB
trying URL 'https://code.highcharts.com/highcharts.js'
downloaded 272 KB
trying URL 'https://code.highcharts.com/highcharts-more.js'
downloaded 96 KB
trying URL 'https://code.highcharts.com/modules/exporting.js'
downloaded 26 KB
trying URL 'https://code.highcharts.com/modules/offline-exporting.js'
downloaded 5942 bytes
trying URL 'https://code.highcharts.com/modules/export-data.js'
downloaded 13 KB
trying URL 'https://unpkg.com/dexie@2.0.4/dist/dexie.min.js'
Content type 'text/javascript; charset=utf-8' length 56670 bytes (55 KB)
==================================================
downloaded 55 KB
processing file: metaseqr2_report.Rmd
output file: metaseqr2_report.knit.md
/usr/local/bin/pandoc +RTS -K512m -RTS metaseqr2_report.knit.md --to html4 --from markdown+autolink_bare_uris+tex_math_single_backslash --output /private/tmp/RtmpA3tKvn/index.html --lua-filter /Library/Frameworks/R.framework/Versions/4.5-x86_64/Resources/library/rmarkdown/rmarkdown/lua/pagebreak.lua --lua-filter /Library/Frameworks/R.framework/Versions/4.5-x86_64/Resources/library/rmarkdown/rmarkdown/lua/latex-div.lua +RTS -K2048m -RTS --variable 'material:true' --variable 'lightbox:true' --variable 'thumbnails:true' --variable 'gallery:true' --variable 'cards:true' --variable bs3=TRUE --standalone --section-divs --table-of-contents --toc-depth 1 --template /Library/Frameworks/R.framework/Versions/4.5-x86_64/Resources/library/rmdformats/templates/material/material.html --highlight-style kate --variable theme=bootstrap --include-in-header /tmp/RtmpA3tKvn/rmarkdown-str1315310df7efc.html
Output created: /private/tmp/RtmpA3tKvn/index.html
2025-10-24 22:31:17: Data processing finished!
Total processing time: 08 seconds
RUNIT TEST PROTOCOL -- Fri Oct 24 22:31:17 2025
***********************************************
Number of test functions: 2
Number of errors: 0
Number of failures: 0
1 Test Suite :
metaseqR2 RUnit Tests - 2 test functions, 0 errors, 0 failures
Number of test functions: 2
Number of errors: 0
Number of failures: 0
There were 50 or more warnings (use warnings() to see the first 50)
>
> proc.time()
user system elapsed
31.671 2.407 37.567
metaseqR2.Rcheck/metaseqR2-Ex.timings
| name | user | system | elapsed | |
| buildAnnotationDatabase | 0.000 | 0.000 | 0.001 | |
| buildCustomAnnotation | 3.613 | 0.190 | 3.840 | |
| combineBonferroni | 0 | 0 | 0 | |
| combineHarmonic | 0.001 | 0.002 | 0.005 | |
| combineMaxp | 0.000 | 0.001 | 0.000 | |
| combineMinp | 0 | 0 | 0 | |
| combineSimes | 0.001 | 0.000 | 0.001 | |
| combineWeight | 0.001 | 0.001 | 0.001 | |
| createSignalTracks | 1.111 | 0.099 | 1.243 | |
| diagplotAvgFtd | 0.182 | 0.014 | 0.196 | |
| diagplotBoxplot | 0.734 | 0.024 | 0.762 | |
| diagplotCor | 0.131 | 0.020 | 0.153 | |
| diagplotDeHeatmap | 0.774 | 0.030 | 0.809 | |
| diagplotEdaseq | 0.371 | 0.056 | 0.430 | |
| diagplotFiltered | 0.026 | 0.009 | 0.035 | |
| diagplotFtd | 0.027 | 0.011 | 0.038 | |
| diagplotMds | 0.190 | 0.009 | 0.200 | |
| diagplotNoiseq | 1.680 | 0.067 | 1.755 | |
| diagplotPairs | 0.510 | 0.055 | 0.567 | |
| diagplotRoc | 0.021 | 0.008 | 0.029 | |
| diagplotVenn | 0.171 | 0.017 | 0.191 | |
| diagplotVolcano | 1.222 | 0.050 | 1.279 | |
| downsampleCounts | 0.179 | 0.002 | 0.180 | |
| estimateAufcWeights | 1.069 | 0.116 | 1.305 | |
| estimateSimParams | 0.780 | 0.034 | 0.846 | |
| getAnnotation | 2.113 | 0.147 | 5.188 | |
| getDefaults | 0 | 0 | 0 | |
| getInstalledAnnotations | 0.001 | 0.001 | 0.001 | |
| getWeights | 0.001 | 0.000 | 0.001 | |
| importCustomAnnotation | 0.994 | 0.012 | 1.013 | |
| loadAnnotation | 0.001 | 0.000 | 0.001 | |
| makeSimDataSd | 0.823 | 0.023 | 0.887 | |
| makeSimDataTcc | 1.649 | 0.029 | 1.687 | |
| metaTest | 0.006 | 0.009 | 0.028 | |
| metaseqr2 | 5.345 | 0.714 | 7.462 | |
| metaseqrPlot | 0.597 | 0.030 | 0.630 | |
| normalizeAbsseq | 0.638 | 0.056 | 0.697 | |
| normalizeDeseq | 0.134 | 0.019 | 0.153 | |
| normalizeDeseq2 | 0.582 | 0.030 | 0.615 | |
| normalizeDss | 0.208 | 0.019 | 0.228 | |
| normalizeEdaseq | 0.327 | 0.019 | 0.348 | |
| normalizeEdger | 0.092 | 0.016 | 0.108 | |
| normalizeNbpseq | 0.086 | 0.016 | 0.103 | |
| normalizeNoiseq | 0.120 | 0.018 | 0.138 | |
| read2count | 11.152 | 1.305 | 15.496 | |
| readTargets | 0.027 | 0.006 | 0.034 | |
| statAbsseq | 1.339 | 0.067 | 1.415 | |
| statDeseq | 0.902 | 0.033 | 0.941 | |
| statDeseq2 | 3.677 | 0.086 | 3.786 | |
| statDss | 0.733 | 0.015 | 0.751 | |
| statEdger | 0.463 | 0.010 | 0.474 | |
| statLimma | 0.259 | 0.004 | 0.264 | |
| statNbpseq | 0.921 | 0.025 | 0.951 | |
| statNoiseq | 7.258 | 0.067 | 7.361 | |