| Back to Multiple platform build/check report for BioC 3.22: simplified long |
|
This page was generated on 2025-08-15 12:06 -0400 (Fri, 15 Aug 2025).
| Hostname | OS | Arch (*) | R version | Installed pkgs |
|---|---|---|---|---|
| nebbiolo2 | Linux (Ubuntu 24.04.3 LTS) | x86_64 | 4.5.1 (2025-06-13) -- "Great Square Root" | 4818 |
| palomino8 | Windows Server 2022 Datacenter | x64 | 4.5.1 (2025-06-13 ucrt) -- "Great Square Root" | 4554 |
| lconway | macOS 12.7.1 Monterey | x86_64 | 4.5.1 (2025-06-13) -- "Great Square Root" | 4595 |
| kjohnson3 | macOS 13.7.7 Ventura | arm64 | 4.5.1 Patched (2025-06-14 r88325) -- "Great Square Root" | 4537 |
| taishan | Linux (openEuler 24.03 LTS) | aarch64 | 4.5.0 (2025-04-11) -- "How About a Twenty-Six" | 4535 |
| Click on any hostname to see more info about the system (e.g. compilers) (*) as reported by 'uname -p', except on Windows and Mac OS X | ||||
| Package 572/2317 | Hostname | OS / Arch | INSTALL | BUILD | CHECK | BUILD BIN | ||||||||
| diffcyt 1.29.0 (landing page) Lukas M. Weber
| nebbiolo2 | Linux (Ubuntu 24.04.3 LTS) / x86_64 | OK | OK | OK | |||||||||
| palomino8 | Windows Server 2022 Datacenter / x64 | OK | OK | OK | OK | |||||||||
| lconway | macOS 12.7.1 Monterey / x86_64 | OK | OK | OK | OK | |||||||||
| kjohnson3 | macOS 13.7.7 Ventura / arm64 | OK | OK | OK | OK | |||||||||
| taishan | Linux (openEuler 24.03 LTS) / aarch64 | OK | OK | OK | ||||||||||
|
To the developers/maintainers of the diffcyt package: - Allow up to 24 hours (and sometimes 48 hours) for your latest push to git@git.bioconductor.org:packages/diffcyt.git to reflect on this report. See Troubleshooting Build Report for more information. - Use the following Renviron settings to reproduce errors and warnings. - If 'R CMD check' started to fail recently on the Linux builder(s) over a missing dependency, add the missing dependency to 'Suggests:' in your DESCRIPTION file. See Renviron.bioc for more information. |
| Package: diffcyt |
| Version: 1.29.0 |
| Command: F:\biocbuild\bbs-3.22-bioc\R\bin\R.exe CMD check --no-multiarch --install=check:diffcyt.install-out.txt --library=F:\biocbuild\bbs-3.22-bioc\R\library --no-vignettes --timings diffcyt_1.29.0.tar.gz |
| StartedAt: 2025-08-15 02:36:39 -0400 (Fri, 15 Aug 2025) |
| EndedAt: 2025-08-15 02:41:44 -0400 (Fri, 15 Aug 2025) |
| EllapsedTime: 304.3 seconds |
| RetCode: 0 |
| Status: OK |
| CheckDir: diffcyt.Rcheck |
| Warnings: 0 |
##############################################################################
##############################################################################
###
### Running command:
###
### F:\biocbuild\bbs-3.22-bioc\R\bin\R.exe CMD check --no-multiarch --install=check:diffcyt.install-out.txt --library=F:\biocbuild\bbs-3.22-bioc\R\library --no-vignettes --timings diffcyt_1.29.0.tar.gz
###
##############################################################################
##############################################################################
* using log directory 'F:/biocbuild/bbs-3.22-bioc/meat/diffcyt.Rcheck'
* using R version 4.5.1 (2025-06-13 ucrt)
* using platform: x86_64-w64-mingw32
* R was compiled by
gcc.exe (GCC) 14.2.0
GNU Fortran (GCC) 14.2.0
* running under: Windows Server 2022 x64 (build 20348)
* using session charset: UTF-8
* using option '--no-vignettes'
* checking for file 'diffcyt/DESCRIPTION' ... OK
* this is package 'diffcyt' version '1.29.0'
* checking package namespace information ... OK
* checking package dependencies ... OK
* checking if this is a source package ... OK
* checking if there is a namespace ... OK
* checking for hidden files and directories ... OK
* checking for portable file names ... OK
* checking whether package 'diffcyt' can be installed ... OK
* checking installed package size ... OK
* checking package directory ... OK
* checking 'build' directory ... OK
* checking DESCRIPTION meta-information ... NOTE
License stub is invalid DCF.
* checking top-level files ... OK
* checking for left-over files ... OK
* checking index information ... OK
* checking package subdirectories ... OK
* checking code files for non-ASCII characters ... OK
* checking R files for syntax errors ... OK
* checking whether the package can be loaded ... OK
* checking whether the package can be loaded with stated dependencies ... OK
* checking whether the package can be unloaded cleanly ... OK
* checking whether the namespace can be loaded with stated dependencies ... OK
* checking whether the namespace can be unloaded cleanly ... OK
* checking dependencies in R code ... OK
* checking S3 generic/method consistency ... OK
* checking replacement functions ... OK
* checking foreign function calls ... OK
* checking R code for possible problems ... NOTE
calcCounts: no visible binding for global variable 'cluster_id'
calcCounts: no visible binding for global variable 'sample_id'
calcMedians: no visible binding for global variable 'cluster_id'
calcMedians: no visible binding for global variable 'sample_id'
calcMedians: no visible binding for global variable 'value'
calcMediansByClusterMarker: no visible binding for global variable
'cluster_id'
calcMediansByClusterMarker: no visible binding for global variable
'marker_id'
calcMediansByClusterMarker: no visible binding for global variable
'value'
calcMediansBySampleMarker: no visible binding for global variable
'sample_id'
calcMediansBySampleMarker: no visible binding for global variable
'marker_id'
calcMediansBySampleMarker: no visible binding for global variable
'value'
Undefined global functions or variables:
cluster_id marker_id sample_id value
* checking Rd files ... OK
* checking Rd metadata ... OK
* checking Rd cross-references ... NOTE
Found the following Rd file(s) with Rd \link{} targets missing package
anchors:
calcCounts.Rd: SummarizedExperiment
calcMedians.Rd: SummarizedExperiment
calcMediansByClusterMarker.Rd: SummarizedExperiment
calcMediansBySampleMarker.Rd: SummarizedExperiment
diffcyt.Rd: flowSet, flowFrame, DataFrame, tbl_df, estimateDisp,
duplicateCorrelation, eBayes
generateClusters.Rd: BuildSOM, SummarizedExperiment, FlowSOM,
BuildMST, rowData
prepareData.Rd: flowSet, flowFrame, DataFrame, tbl_df,
SummarizedExperiment
testDA_GLMM.Rd: SummarizedExperiment, rowData
testDA_edgeR.Rd: SummarizedExperiment, estimateDisp, edgeR, rowData
testDA_voom.Rd: SummarizedExperiment, duplicateCorrelation, voom,
limma, rowData
testDS_LMM.Rd: SummarizedExperiment, rowData
testDS_limma.Rd: SummarizedExperiment, duplicateCorrelation, eBayes,
limma, rowData
topTable.Rd: SummarizedExperiment, DataFrame
transformData.Rd: SummarizedExperiment
Please provide package anchors for all Rd \link{} targets not in the
package itself and the base packages.
* checking for missing documentation entries ... OK
* checking for code/documentation mismatches ... OK
* checking Rd \usage sections ... OK
* checking Rd contents ... OK
* checking for unstated dependencies in examples ... OK
* checking files in 'vignettes' ... OK
* checking examples ... OK
Examples with CPU (user + system) or elapsed time > 5s
user system elapsed
diffcyt 11.98 0.88 12.15
testDA_GLMM 10.05 0.17 10.42
plotHeatmap 7.17 0.13 7.34
testDS_LMM 5.23 0.11 5.47
topTable 5.04 0.14 5.23
* checking for unstated dependencies in 'tests' ... OK
* checking tests ...
Running 'testthat.R'
OK
* checking for unstated dependencies in vignettes ... OK
* checking package vignettes ... OK
* checking running R code from vignettes ... SKIPPED
* checking re-building of vignette outputs ... SKIPPED
* checking PDF version of manual ... OK
* DONE
Status: 3 NOTEs
See
'F:/biocbuild/bbs-3.22-bioc/meat/diffcyt.Rcheck/00check.log'
for details.
diffcyt.Rcheck/00install.out
############################################################################## ############################################################################## ### ### Running command: ### ### F:\biocbuild\bbs-3.22-bioc\R\bin\R.exe CMD INSTALL diffcyt ### ############################################################################## ############################################################################## * installing to library 'F:/biocbuild/bbs-3.22-bioc/R/library' * installing *source* package 'diffcyt' ... ** this is package 'diffcyt' version '1.29.0' ** using staged installation ** R ** inst ** byte-compile and prepare package for lazy loading ** help *** installing help indices ** building package indices ** installing vignettes ** testing if installed package can be loaded from temporary location ** testing if installed package can be loaded from final location ** testing if installed package keeps a record of temporary installation path * DONE (diffcyt)
diffcyt.Rcheck/tests/testthat.Rout
R version 4.5.1 (2025-06-13 ucrt) -- "Great Square Root"
Copyright (C) 2025 The R Foundation for Statistical Computing
Platform: x86_64-w64-mingw32/x64
R is free software and comes with ABSOLUTELY NO WARRANTY.
You are welcome to redistribute it under certain conditions.
Type 'license()' or 'licence()' for distribution details.
R is a collaborative project with many contributors.
Type 'contributors()' for more information and
'citation()' on how to cite R or R packages in publications.
Type 'demo()' for some demos, 'help()' for on-line help, or
'help.start()' for an HTML browser interface to help.
Type 'q()' to quit R.
> library(testthat)
> library(diffcyt)
>
> test_check("diffcyt")
[ FAIL 0 | WARN 0 | SKIP 0 | PASS 8 ]
>
> proc.time()
user system elapsed
12.14 0.78 12.93
diffcyt.Rcheck/diffcyt-Ex.timings
| name | user | system | elapsed | |
| calcCounts | 3.02 | 0.09 | 3.12 | |
| calcMedians | 2.27 | 0.04 | 2.38 | |
| calcMediansByClusterMarker | 1.47 | 0.02 | 1.50 | |
| calcMediansBySampleMarker | 1.61 | 0.01 | 1.64 | |
| createContrast | 0 | 0 | 0 | |
| createDesignMatrix | 0.02 | 0.00 | 0.02 | |
| createFormula | 0 | 0 | 0 | |
| diffcyt | 11.98 | 0.88 | 12.15 | |
| generateClusters | 1.64 | 0.03 | 1.71 | |
| plotHeatmap | 7.17 | 0.13 | 7.34 | |
| prepareData | 0.03 | 0.00 | 0.03 | |
| testDA_GLMM | 10.05 | 0.17 | 10.42 | |
| testDA_edgeR | 2.30 | 0.04 | 2.38 | |
| testDA_voom | 2.28 | 0.07 | 2.50 | |
| testDS_LMM | 5.23 | 0.11 | 5.47 | |
| testDS_limma | 3.05 | 0.06 | 3.14 | |
| topTable | 5.04 | 0.14 | 5.23 | |
| transformData | 0.05 | 0.00 | 0.05 | |