| Back to Multiple platform build/check report for BioC 3.22: simplified long |
|
This page was generated on 2025-10-24 12:04 -0400 (Fri, 24 Oct 2025).
| Hostname | OS | Arch (*) | R version | Installed pkgs |
|---|---|---|---|---|
| nebbiolo2 | Linux (Ubuntu 24.04.3 LTS) | x86_64 | 4.5.1 Patched (2025-08-23 r88802) -- "Great Square Root" | 4898 |
| lconway | macOS 12.7.6 Monterey | x86_64 | 4.5.1 Patched (2025-09-10 r88807) -- "Great Square Root" | 4688 |
| kjohnson3 | macOS 13.7.7 Ventura | arm64 | 4.5.1 Patched (2025-09-10 r88807) -- "Great Square Root" | 4634 |
| taishan | Linux (openEuler 24.03 LTS) | aarch64 | 4.5.0 (2025-04-11) -- "How About a Twenty-Six" | 4658 |
| Click on any hostname to see more info about the system (e.g. compilers) (*) as reported by 'uname -p', except on Windows and Mac OS X | ||||
| Package 584/2359 | Hostname | OS / Arch | INSTALL | BUILD | CHECK | BUILD BIN | ||||||||
| diffcyt 1.29.0 (landing page) Lukas M. Weber
| nebbiolo2 | Linux (Ubuntu 24.04.3 LTS) / x86_64 | OK | OK | OK | |||||||||
| lconway | macOS 12.7.6 Monterey / x86_64 | OK | OK | OK | OK | |||||||||
| kjohnson3 | macOS 13.7.7 Ventura / arm64 | OK | OK | OK | OK | |||||||||
| taishan | Linux (openEuler 24.03 LTS) / aarch64 | OK | OK | OK | ||||||||||
|
To the developers/maintainers of the diffcyt package: - Allow up to 24 hours (and sometimes 48 hours) for your latest push to git@git.bioconductor.org:packages/diffcyt.git to reflect on this report. See Troubleshooting Build Report for more information. - Use the following Renviron settings to reproduce errors and warnings. - If 'R CMD check' started to fail recently on the Linux builder(s) over a missing dependency, add the missing dependency to 'Suggests:' in your DESCRIPTION file. See Renviron.bioc for more information. |
| Package: diffcyt |
| Version: 1.29.0 |
| Command: /Library/Frameworks/R.framework/Resources/bin/R CMD check --install=check:diffcyt.install-out.txt --library=/Library/Frameworks/R.framework/Resources/library --no-vignettes --timings diffcyt_1.29.0.tar.gz |
| StartedAt: 2025-10-23 20:41:24 -0400 (Thu, 23 Oct 2025) |
| EndedAt: 2025-10-23 20:46:14 -0400 (Thu, 23 Oct 2025) |
| EllapsedTime: 290.3 seconds |
| RetCode: 0 |
| Status: OK |
| CheckDir: diffcyt.Rcheck |
| Warnings: 0 |
##############################################################################
##############################################################################
###
### Running command:
###
### /Library/Frameworks/R.framework/Resources/bin/R CMD check --install=check:diffcyt.install-out.txt --library=/Library/Frameworks/R.framework/Resources/library --no-vignettes --timings diffcyt_1.29.0.tar.gz
###
##############################################################################
##############################################################################
* using log directory ‘/Users/biocbuild/bbs-3.22-bioc/meat/diffcyt.Rcheck’
* using R version 4.5.1 Patched (2025-09-10 r88807)
* using platform: x86_64-apple-darwin20
* R was compiled by
Apple clang version 14.0.0 (clang-1400.0.29.202)
GNU Fortran (GCC) 14.2.0
* running under: macOS Monterey 12.7.6
* using session charset: UTF-8
* using option ‘--no-vignettes’
* checking for file ‘diffcyt/DESCRIPTION’ ... OK
* this is package ‘diffcyt’ version ‘1.29.0’
* checking package namespace information ... OK
* checking package dependencies ... OK
* checking if this is a source package ... OK
* checking if there is a namespace ... OK
* checking for hidden files and directories ... OK
* checking for portable file names ... OK
* checking for sufficient/correct file permissions ... OK
* checking whether package ‘diffcyt’ can be installed ... OK
* checking installed package size ... OK
* checking package directory ... OK
* checking ‘build’ directory ... OK
* checking DESCRIPTION meta-information ... NOTE
License stub is invalid DCF.
* checking top-level files ... OK
* checking for left-over files ... OK
* checking index information ... OK
* checking package subdirectories ... OK
* checking code files for non-ASCII characters ... OK
* checking R files for syntax errors ... OK
* checking whether the package can be loaded ... OK
* checking whether the package can be loaded with stated dependencies ... OK
* checking whether the package can be unloaded cleanly ... OK
* checking whether the namespace can be loaded with stated dependencies ... OK
* checking whether the namespace can be unloaded cleanly ... OK
* checking dependencies in R code ... OK
* checking S3 generic/method consistency ... OK
* checking replacement functions ... OK
* checking foreign function calls ... OK
* checking R code for possible problems ... NOTE
calcCounts: no visible binding for global variable ‘cluster_id’
calcCounts: no visible binding for global variable ‘sample_id’
calcMedians: no visible binding for global variable ‘cluster_id’
calcMedians: no visible binding for global variable ‘sample_id’
calcMedians: no visible binding for global variable ‘value’
calcMediansByClusterMarker: no visible binding for global variable
‘cluster_id’
calcMediansByClusterMarker: no visible binding for global variable
‘marker_id’
calcMediansByClusterMarker: no visible binding for global variable
‘value’
calcMediansBySampleMarker: no visible binding for global variable
‘sample_id’
calcMediansBySampleMarker: no visible binding for global variable
‘marker_id’
calcMediansBySampleMarker: no visible binding for global variable
‘value’
Undefined global functions or variables:
cluster_id marker_id sample_id value
* checking Rd files ... OK
* checking Rd metadata ... OK
* checking Rd cross-references ... NOTE
Found the following Rd file(s) with Rd \link{} targets missing package
anchors:
calcCounts.Rd: SummarizedExperiment
calcMedians.Rd: SummarizedExperiment
calcMediansByClusterMarker.Rd: SummarizedExperiment
calcMediansBySampleMarker.Rd: SummarizedExperiment
diffcyt.Rd: flowSet, flowFrame, DataFrame, tbl_df, estimateDisp,
duplicateCorrelation, eBayes
generateClusters.Rd: BuildSOM, SummarizedExperiment, FlowSOM,
BuildMST, rowData
prepareData.Rd: flowSet, flowFrame, DataFrame, tbl_df,
SummarizedExperiment
testDA_GLMM.Rd: SummarizedExperiment, rowData
testDA_edgeR.Rd: SummarizedExperiment, estimateDisp, edgeR, rowData
testDA_voom.Rd: SummarizedExperiment, duplicateCorrelation, voom,
limma, rowData
testDS_LMM.Rd: SummarizedExperiment, rowData
testDS_limma.Rd: SummarizedExperiment, duplicateCorrelation, eBayes,
limma, rowData
topTable.Rd: SummarizedExperiment, DataFrame
transformData.Rd: SummarizedExperiment
Please provide package anchors for all Rd \link{} targets not in the
package itself and the base packages.
* checking for missing documentation entries ... OK
* checking for code/documentation mismatches ... OK
* checking Rd \usage sections ... OK
* checking Rd contents ... OK
* checking for unstated dependencies in examples ... OK
* checking files in ‘vignettes’ ... OK
* checking examples ... OK
Examples with CPU (user + system) or elapsed time > 5s
user system elapsed
diffcyt 10.446 0.106 10.599
testDA_GLMM 8.236 0.050 8.320
plotHeatmap 6.038 0.065 6.130
* checking for unstated dependencies in ‘tests’ ... OK
* checking tests ...
Running ‘testthat.R’
OK
* checking for unstated dependencies in vignettes ... OK
* checking package vignettes ... OK
* checking running R code from vignettes ... SKIPPED
* checking re-building of vignette outputs ... SKIPPED
* checking PDF version of manual ... OK
* DONE
Status: 3 NOTEs
See
‘/Users/biocbuild/bbs-3.22-bioc/meat/diffcyt.Rcheck/00check.log’
for details.
diffcyt.Rcheck/00install.out
############################################################################## ############################################################################## ### ### Running command: ### ### /Library/Frameworks/R.framework/Resources/bin/R CMD INSTALL diffcyt ### ############################################################################## ############################################################################## * installing to library ‘/Library/Frameworks/R.framework/Versions/4.5-x86_64/Resources/library’ * installing *source* package ‘diffcyt’ ... ** this is package ‘diffcyt’ version ‘1.29.0’ ** using staged installation ** R ** inst ** byte-compile and prepare package for lazy loading ** help *** installing help indices ** building package indices ** installing vignettes ** testing if installed package can be loaded from temporary location ** testing if installed package can be loaded from final location ** testing if installed package keeps a record of temporary installation path * DONE (diffcyt)
diffcyt.Rcheck/tests/testthat.Rout
R version 4.5.1 Patched (2025-09-10 r88807) -- "Great Square Root"
Copyright (C) 2025 The R Foundation for Statistical Computing
Platform: x86_64-apple-darwin20
R is free software and comes with ABSOLUTELY NO WARRANTY.
You are welcome to redistribute it under certain conditions.
Type 'license()' or 'licence()' for distribution details.
R is a collaborative project with many contributors.
Type 'contributors()' for more information and
'citation()' on how to cite R or R packages in publications.
Type 'demo()' for some demos, 'help()' for on-line help, or
'help.start()' for an HTML browser interface to help.
Type 'q()' to quit R.
> library(testthat)
> library(diffcyt)
>
> test_check("diffcyt")
[ FAIL 0 | WARN 0 | SKIP 0 | PASS 8 ]
>
> proc.time()
user system elapsed
11.444 0.663 12.147
diffcyt.Rcheck/diffcyt-Ex.timings
| name | user | system | elapsed | |
| calcCounts | 2.203 | 0.064 | 2.276 | |
| calcMedians | 2.151 | 0.057 | 2.220 | |
| calcMediansByClusterMarker | 1.516 | 0.025 | 1.548 | |
| calcMediansBySampleMarker | 1.349 | 0.028 | 1.387 | |
| createContrast | 0.000 | 0.000 | 0.001 | |
| createDesignMatrix | 0.008 | 0.002 | 0.011 | |
| createFormula | 0.003 | 0.001 | 0.004 | |
| diffcyt | 10.446 | 0.106 | 10.599 | |
| generateClusters | 1.504 | 0.016 | 1.525 | |
| plotHeatmap | 6.038 | 0.065 | 6.130 | |
| prepareData | 0.017 | 0.000 | 0.017 | |
| testDA_GLMM | 8.236 | 0.050 | 8.320 | |
| testDA_edgeR | 1.877 | 0.027 | 1.914 | |
| testDA_voom | 1.819 | 0.017 | 1.844 | |
| testDS_LMM | 4.322 | 0.035 | 4.372 | |
| testDS_limma | 2.347 | 0.022 | 2.381 | |
| topTable | 4.335 | 0.038 | 4.391 | |
| transformData | 0.047 | 0.000 | 0.048 | |