| Back to Multiple platform build/check report for BioC 3.22: simplified long |
|
This page was generated on 2025-10-24 12:04 -0400 (Fri, 24 Oct 2025).
| Hostname | OS | Arch (*) | R version | Installed pkgs |
|---|---|---|---|---|
| nebbiolo2 | Linux (Ubuntu 24.04.3 LTS) | x86_64 | 4.5.1 Patched (2025-08-23 r88802) -- "Great Square Root" | 4898 |
| lconway | macOS 12.7.6 Monterey | x86_64 | 4.5.1 Patched (2025-09-10 r88807) -- "Great Square Root" | 4688 |
| kjohnson3 | macOS 13.7.7 Ventura | arm64 | 4.5.1 Patched (2025-09-10 r88807) -- "Great Square Root" | 4634 |
| taishan | Linux (openEuler 24.03 LTS) | aarch64 | 4.5.0 (2025-04-11) -- "How About a Twenty-Six" | 4658 |
| Click on any hostname to see more info about the system (e.g. compilers) (*) as reported by 'uname -p', except on Windows and Mac OS X | ||||
| Package 400/2359 | Hostname | OS / Arch | INSTALL | BUILD | CHECK | BUILD BIN | ||||||||
| cn.mops 1.55.1 (landing page) Gundula Povysil
| nebbiolo2 | Linux (Ubuntu 24.04.3 LTS) / x86_64 | OK | OK | OK | |||||||||
| lconway | macOS 12.7.6 Monterey / x86_64 | OK | OK | OK | OK | |||||||||
| kjohnson3 | macOS 13.7.7 Ventura / arm64 | OK | OK | OK | OK | |||||||||
| taishan | Linux (openEuler 24.03 LTS) / aarch64 | OK | OK | OK | ||||||||||
|
To the developers/maintainers of the cn.mops package: - Allow up to 24 hours (and sometimes 48 hours) for your latest push to git@git.bioconductor.org:packages/cn.mops.git to reflect on this report. See Troubleshooting Build Report for more information. - Use the following Renviron settings to reproduce errors and warnings. - If 'R CMD check' started to fail recently on the Linux builder(s) over a missing dependency, add the missing dependency to 'Suggests:' in your DESCRIPTION file. See Renviron.bioc for more information. |
| Package: cn.mops |
| Version: 1.55.1 |
| Command: /Library/Frameworks/R.framework/Resources/bin/R CMD check --install=check:cn.mops.install-out.txt --library=/Library/Frameworks/R.framework/Resources/library --no-vignettes --timings cn.mops_1.55.1.tar.gz |
| StartedAt: 2025-10-23 20:10:19 -0400 (Thu, 23 Oct 2025) |
| EndedAt: 2025-10-23 20:13:42 -0400 (Thu, 23 Oct 2025) |
| EllapsedTime: 203.2 seconds |
| RetCode: 0 |
| Status: OK |
| CheckDir: cn.mops.Rcheck |
| Warnings: 0 |
##############################################################################
##############################################################################
###
### Running command:
###
### /Library/Frameworks/R.framework/Resources/bin/R CMD check --install=check:cn.mops.install-out.txt --library=/Library/Frameworks/R.framework/Resources/library --no-vignettes --timings cn.mops_1.55.1.tar.gz
###
##############################################################################
##############################################################################
* using log directory ‘/Users/biocbuild/bbs-3.22-bioc/meat/cn.mops.Rcheck’
* using R version 4.5.1 Patched (2025-09-10 r88807)
* using platform: x86_64-apple-darwin20
* R was compiled by
Apple clang version 14.0.0 (clang-1400.0.29.202)
GNU Fortran (GCC) 14.2.0
* running under: macOS Monterey 12.7.6
* using session charset: UTF-8
* using option ‘--no-vignettes’
* checking for file ‘cn.mops/DESCRIPTION’ ... OK
* checking extension type ... Package
* this is package ‘cn.mops’ version ‘1.55.1’
* checking package namespace information ... OK
* checking package dependencies ... OK
* checking if this is a source package ... OK
* checking if there is a namespace ... OK
* checking for hidden files and directories ... OK
* checking for portable file names ... OK
* checking for sufficient/correct file permissions ... OK
* checking whether package ‘cn.mops’ can be installed ... OK
* used C compiler: ‘Apple clang version 14.0.0 (clang-1400.0.29.202)’
* used C++ compiler: ‘Apple clang version 14.0.0 (clang-1400.0.29.202)’
* used SDK: ‘MacOSX11.3.1.sdk’
* checking installed package size ... OK
* checking package directory ... OK
* checking ‘build’ directory ... OK
* checking DESCRIPTION meta-information ... OK
* checking top-level files ... OK
* checking for left-over files ... OK
* checking index information ... OK
* checking package subdirectories ... OK
* checking code files for non-ASCII characters ... OK
* checking R files for syntax errors ... OK
* checking whether the package can be loaded ... OK
* checking whether the package can be loaded with stated dependencies ... OK
* checking whether the package can be unloaded cleanly ... OK
* checking whether the namespace can be loaded with stated dependencies ... OK
* checking whether the namespace can be unloaded cleanly ... OK
* checking whether startup messages can be suppressed ... OK
* checking dependencies in R code ... OK
* checking S3 generic/method consistency ... OK
* checking replacement functions ... OK
* checking foreign function calls ... OK
* checking R code for possible problems ... OK
* checking Rd files ... OK
* checking Rd metadata ... OK
* checking Rd cross-references ... OK
* checking for missing documentation entries ... OK
* checking for code/documentation mismatches ... OK
* checking Rd \usage sections ... OK
* checking Rd contents ... OK
* checking for unstated dependencies in examples ... OK
* checking contents of ‘data’ directory ... OK
* checking data for non-ASCII characters ... OK
* checking data for ASCII and uncompressed saves ... OK
* checking line endings in C/C++/Fortran sources/headers ... OK
* checking compiled code ... NOTE
Note: information on .o files is not available
* checking sizes of PDF files under ‘inst/doc’ ... OK
* checking files in ‘vignettes’ ... OK
* checking examples ... OK
Examples with CPU (user + system) or elapsed time > 5s
user system elapsed
referencecn.mops 7.344 0.069 17.083
cn.mops 6.392 0.146 18.598
calcFractionalCopyNumbers-CNVDetectionResult-method 6.386 0.058 6.477
calcFractionalCopyNumbers 5.919 0.035 5.974
haplocn.mops 1.208 0.034 11.016
getReadCountsFromBAM 0.462 0.021 5.504
getSegmentReadCountsFromBAM 0.294 0.014 5.243
* checking for unstated dependencies in vignettes ... OK
* checking package vignettes ... OK
* checking running R code from vignettes ... SKIPPED
* checking re-building of vignette outputs ... SKIPPED
* checking PDF version of manual ... OK
* DONE
Status: 1 NOTE
See
‘/Users/biocbuild/bbs-3.22-bioc/meat/cn.mops.Rcheck/00check.log’
for details.
cn.mops.Rcheck/00install.out
##############################################################################
##############################################################################
###
### Running command:
###
### /Library/Frameworks/R.framework/Resources/bin/R CMD INSTALL cn.mops
###
##############################################################################
##############################################################################
* installing to library ‘/Library/Frameworks/R.framework/Versions/4.5-x86_64/Resources/library’
* installing *source* package ‘cn.mops’ ...
** this is package ‘cn.mops’ version ‘1.55.1’
** using staged installation
** libs
using C compiler: ‘Apple clang version 14.0.0 (clang-1400.0.29.202)’
using C++ compiler: ‘Apple clang version 14.0.0 (clang-1400.0.29.202)’
using SDK: ‘MacOSX11.3.1.sdk’
clang -arch x86_64 -I"/Library/Frameworks/R.framework/Resources/include" -DNDEBUG -I/opt/R/x86_64/include -fPIC -falign-functions=64 -Wall -g -O2 -c R_init_cnmops.c -o R_init_cnmops.o
clang++ -arch x86_64 -std=gnu++17 -I"/Library/Frameworks/R.framework/Resources/include" -DNDEBUG -I/opt/R/x86_64/include -fPIC -falign-functions=64 -Wall -g -O2 -c cnmops.cpp -o cnmops.o
clang++ -arch x86_64 -std=gnu++17 -I"/Library/Frameworks/R.framework/Resources/include" -DNDEBUG -I/opt/R/x86_64/include -fPIC -falign-functions=64 -Wall -g -O2 -c segment.cpp -o segment.o
segment.cpp:61:31: warning: variable 'maxStatistic' set but not used [-Wunused-but-set-variable]
double newStatistic,meanDiff,maxStatistic,DOF,a,b,eps1;
^
segment.cpp:64:9: warning: unused variable 'Rf_beta' [-Wunused-variable]
double beta,nn;
^
/Library/Frameworks/R.framework/Resources/include/Rmath.h:221:15: note: expanded from macro 'beta'
#define beta Rf_beta
^
segment.cpp:62:40: warning: variable 'maxIdx' set but not used [-Wunused-but-set-variable]
double newPValue, maxPValue,oldPValue,maxIdx;
^
segment.cpp:60:9: warning: variable 'oldStatistic' set but not used [-Wunused-but-set-variable]
double oldStatistic, meanLeft,meanRight,varLeft,varRight;
^
segment.cpp:59:20: warning: variable 'globalSd' set but not used [-Wunused-but-set-variable]
double globalMean,globalSd,diff,M2,globalVariance;
^
5 warnings generated.
clang++ -arch x86_64 -std=gnu++17 -dynamiclib -Wl,-headerpad_max_install_names -undefined dynamic_lookup -L/Library/Frameworks/R.framework/Resources/lib -L/opt/R/x86_64/lib -o cn.mops.so R_init_cnmops.o cnmops.o segment.o -F/Library/Frameworks/R.framework/.. -framework R
installing to /Library/Frameworks/R.framework/Versions/4.5-x86_64/Resources/library/00LOCK-cn.mops/00new/cn.mops/libs
** R
** data
** inst
** byte-compile and prepare package for lazy loading
** help
*** installing help indices
** building package indices
** installing vignettes
** testing if installed package can be loaded from temporary location
** checking absolute paths in shared objects and dynamic libraries
** testing if installed package can be loaded from final location
** testing if installed package keeps a record of temporary installation path
* DONE (cn.mops)
cn.mops.Rcheck/cn.mops-Ex.timings
| name | user | system | elapsed | |
| CNVDetectionResult | 0.001 | 0.001 | 0.002 | |
| calcFractionalCopyNumbers-CNVDetectionResult-method | 6.386 | 0.058 | 6.477 | |
| calcFractionalCopyNumbers | 5.919 | 0.035 | 5.974 | |
| calcIntegerCopyNumbers-CNVDetectionResult-method | 0.439 | 0.005 | 0.445 | |
| calcIntegerCopyNumbers | 0.452 | 0.006 | 0.461 | |
| cn.mops | 6.392 | 0.146 | 18.598 | |
| cnvr-CNVDetectionResult-method | 0.229 | 0.011 | 0.243 | |
| cnvr | 0.216 | 0.004 | 0.220 | |
| cnvs-CNVDetectionResult-method | 0.240 | 0.004 | 0.246 | |
| cnvs | 0.223 | 0.005 | 0.230 | |
| exomecn.mops | 2.525 | 0.032 | 2.577 | |
| getReadCountsFromBAM | 0.462 | 0.021 | 5.504 | |
| getSegmentReadCountsFromBAM | 0.294 | 0.014 | 5.243 | |
| gr-CNVDetectionResult-method | 0.237 | 0.004 | 0.243 | |
| gr | 0.248 | 0.007 | 0.256 | |
| haplocn.mops | 1.208 | 0.034 | 11.016 | |
| individualCall-CNVDetectionResult-method | 0.207 | 0.004 | 0.211 | |
| individualCall | 0.227 | 0.003 | 0.230 | |
| iniCall-CNVDetectionResult-method | 0.243 | 0.002 | 0.245 | |
| iniCall | 0.200 | 0.003 | 0.205 | |
| integerCopyNumber-CNVDetectionResult-method | 0.227 | 0.004 | 0.232 | |
| integerCopyNumber | 0.237 | 0.004 | 0.242 | |
| localAssessments-CNVDetectionResult-method | 0.241 | 0.005 | 0.249 | |
| localAssessments | 0.575 | 0.011 | 0.589 | |
| makeRobustCNVR | 0.396 | 0.006 | 0.405 | |
| normalizeChromosomes | 0.139 | 0.010 | 0.148 | |
| normalizeGenome | 0.148 | 0.017 | 0.166 | |
| normalizedData-CNVDetectionResult-method | 0.242 | 0.005 | 0.249 | |
| normalizedData | 0.247 | 0.006 | 0.254 | |
| params-CNVDetectionResult-method | 0.217 | 0.014 | 0.232 | |
| params | 0.215 | 0.016 | 0.234 | |
| posteriorProbs-CNVDetectionResult-method | 0.222 | 0.003 | 0.226 | |
| posteriorProbs | 0.208 | 0.004 | 0.213 | |
| referencecn.mops | 7.344 | 0.069 | 17.083 | |
| sampleNames-CNVDetectionResult-method | 0.197 | 0.005 | 0.209 | |
| sampleNames | 0.205 | 0.005 | 0.211 | |
| segment | 0.019 | 0.001 | 0.021 | |
| segmentation-CNVDetectionResult-method | 0.211 | 0.004 | 0.216 | |
| segmentation | 0.215 | 0.004 | 0.220 | |
| segplot-CNVDetectionResult-method | 0.992 | 0.007 | 1.006 | |
| segplot | 1.010 | 0.010 | 1.025 | |
| singlecn.mops | 0.685 | 0.006 | 0.695 | |