| Back to Multiple platform build/check report for BioC 3.22: simplified long |
|
This page was generated on 2025-10-24 12:03 -0400 (Fri, 24 Oct 2025).
| Hostname | OS | Arch (*) | R version | Installed pkgs |
|---|---|---|---|---|
| nebbiolo2 | Linux (Ubuntu 24.04.3 LTS) | x86_64 | 4.5.1 Patched (2025-08-23 r88802) -- "Great Square Root" | 4898 |
| lconway | macOS 12.7.6 Monterey | x86_64 | 4.5.1 Patched (2025-09-10 r88807) -- "Great Square Root" | 4688 |
| kjohnson3 | macOS 13.7.7 Ventura | arm64 | 4.5.1 Patched (2025-09-10 r88807) -- "Great Square Root" | 4634 |
| taishan | Linux (openEuler 24.03 LTS) | aarch64 | 4.5.0 (2025-04-11) -- "How About a Twenty-Six" | 4658 |
| Click on any hostname to see more info about the system (e.g. compilers) (*) as reported by 'uname -p', except on Windows and Mac OS X | ||||
| Package 400/2359 | Hostname | OS / Arch | INSTALL | BUILD | CHECK | BUILD BIN | ||||||||
| cn.mops 1.55.1 (landing page) Gundula Povysil
| nebbiolo2 | Linux (Ubuntu 24.04.3 LTS) / x86_64 | OK | OK | OK | |||||||||
| lconway | macOS 12.7.6 Monterey / x86_64 | OK | OK | OK | OK | |||||||||
| kjohnson3 | macOS 13.7.7 Ventura / arm64 | OK | OK | OK | OK | |||||||||
| taishan | Linux (openEuler 24.03 LTS) / aarch64 | OK | OK | OK | ||||||||||
|
To the developers/maintainers of the cn.mops package: - Allow up to 24 hours (and sometimes 48 hours) for your latest push to git@git.bioconductor.org:packages/cn.mops.git to reflect on this report. See Troubleshooting Build Report for more information. - Use the following Renviron settings to reproduce errors and warnings. - If 'R CMD check' started to fail recently on the Linux builder(s) over a missing dependency, add the missing dependency to 'Suggests:' in your DESCRIPTION file. See Renviron.bioc for more information. |
| Package: cn.mops |
| Version: 1.55.1 |
| Command: /home/biocbuild/bbs-3.22-bioc/R/bin/R CMD check --install=check:cn.mops.install-out.txt --library=/home/biocbuild/bbs-3.22-bioc/R/site-library --timings cn.mops_1.55.1.tar.gz |
| StartedAt: 2025-10-23 22:14:41 -0400 (Thu, 23 Oct 2025) |
| EndedAt: 2025-10-23 22:17:50 -0400 (Thu, 23 Oct 2025) |
| EllapsedTime: 189.2 seconds |
| RetCode: 0 |
| Status: OK |
| CheckDir: cn.mops.Rcheck |
| Warnings: 0 |
##############################################################################
##############################################################################
###
### Running command:
###
### /home/biocbuild/bbs-3.22-bioc/R/bin/R CMD check --install=check:cn.mops.install-out.txt --library=/home/biocbuild/bbs-3.22-bioc/R/site-library --timings cn.mops_1.55.1.tar.gz
###
##############################################################################
##############################################################################
* using log directory ‘/home/biocbuild/bbs-3.22-bioc/meat/cn.mops.Rcheck’
* using R version 4.5.1 Patched (2025-08-23 r88802)
* using platform: x86_64-pc-linux-gnu
* R was compiled by
gcc (Ubuntu 13.3.0-6ubuntu2~24.04) 13.3.0
GNU Fortran (Ubuntu 13.3.0-6ubuntu2~24.04) 13.3.0
* running under: Ubuntu 24.04.3 LTS
* using session charset: UTF-8
* checking for file ‘cn.mops/DESCRIPTION’ ... OK
* checking extension type ... Package
* this is package ‘cn.mops’ version ‘1.55.1’
* checking package namespace information ... OK
* checking package dependencies ... OK
* checking if this is a source package ... OK
* checking if there is a namespace ... OK
* checking for hidden files and directories ... OK
* checking for portable file names ... OK
* checking for sufficient/correct file permissions ... OK
* checking whether package ‘cn.mops’ can be installed ... OK
* used C compiler: ‘gcc (Ubuntu 13.3.0-6ubuntu2~24.04) 13.3.0’
* used C++ compiler: ‘g++ (Ubuntu 13.3.0-6ubuntu2~24.04) 13.3.0’
* checking installed package size ... OK
* checking package directory ... OK
* checking ‘build’ directory ... OK
* checking DESCRIPTION meta-information ... OK
* checking top-level files ... OK
* checking for left-over files ... OK
* checking index information ... OK
* checking package subdirectories ... OK
* checking code files for non-ASCII characters ... OK
* checking R files for syntax errors ... OK
* checking whether the package can be loaded ... OK
* checking whether the package can be loaded with stated dependencies ... OK
* checking whether the package can be unloaded cleanly ... OK
* checking whether the namespace can be loaded with stated dependencies ... OK
* checking whether the namespace can be unloaded cleanly ... OK
* checking loading without being on the library search path ... OK
* checking whether startup messages can be suppressed ... OK
* checking dependencies in R code ... OK
* checking S3 generic/method consistency ... OK
* checking replacement functions ... OK
* checking foreign function calls ... OK
* checking R code for possible problems ... OK
* checking Rd files ... OK
* checking Rd metadata ... OK
* checking Rd cross-references ... OK
* checking for missing documentation entries ... OK
* checking for code/documentation mismatches ... OK
* checking Rd \usage sections ... OK
* checking Rd contents ... OK
* checking for unstated dependencies in examples ... OK
* checking contents of ‘data’ directory ... OK
* checking data for non-ASCII characters ... OK
* checking data for ASCII and uncompressed saves ... OK
* checking line endings in C/C++/Fortran sources/headers ... OK
* checking compiled code ... NOTE
Note: information on .o files is not available
* checking files in ‘vignettes’ ... OK
* checking examples ... OK
Examples with CPU (user + system) or elapsed time > 5s
user system elapsed
referencecn.mops 8.333 0.031 16.367
calcFractionalCopyNumbers-CNVDetectionResult-method 5.919 0.006 5.926
calcFractionalCopyNumbers 5.757 0.011 5.768
cn.mops 5.125 0.044 14.912
haplocn.mops 1.022 0.012 9.153
* checking for unstated dependencies in vignettes ... OK
* checking package vignettes ... OK
* checking re-building of vignette outputs ... OK
* checking PDF version of manual ... OK
* DONE
Status: 1 NOTE
See
‘/home/biocbuild/bbs-3.22-bioc/meat/cn.mops.Rcheck/00check.log’
for details.
cn.mops.Rcheck/00install.out
##############################################################################
##############################################################################
###
### Running command:
###
### /home/biocbuild/bbs-3.22-bioc/R/bin/R CMD INSTALL cn.mops
###
##############################################################################
##############################################################################
* installing to library ‘/home/biocbuild/bbs-3.22-bioc/R/site-library’
* installing *source* package ‘cn.mops’ ...
** this is package ‘cn.mops’ version ‘1.55.1’
** using staged installation
** libs
using C compiler: ‘gcc (Ubuntu 13.3.0-6ubuntu2~24.04) 13.3.0’
using C++ compiler: ‘g++ (Ubuntu 13.3.0-6ubuntu2~24.04) 13.3.0’
gcc -std=gnu2x -I"/home/biocbuild/bbs-3.22-bioc/R/include" -DNDEBUG -I/usr/local/include -fpic -g -O2 -Wall -Werror=format-security -c R_init_cnmops.c -o R_init_cnmops.o
g++ -std=gnu++17 -I"/home/biocbuild/bbs-3.22-bioc/R/include" -DNDEBUG -I/usr/local/include -fpic -g -O2 -Wall -Werror=format-security -c cnmops.cpp -o cnmops.o
g++ -std=gnu++17 -I"/home/biocbuild/bbs-3.22-bioc/R/include" -DNDEBUG -I/usr/local/include -fpic -g -O2 -Wall -Werror=format-security -c segment.cpp -o segment.o
segment.cpp: In function ‘SEXPREC* segment(SEXP, SEXP, SEXP, SEXP, SEXP, SEXP)’:
segment.cpp:59:27: warning: variable ‘globalSd’ set but not used [-Wunused-but-set-variable]
59 | double globalMean,globalSd,diff,M2,globalVariance;
| ^~~~~~~~
segment.cpp:60:16: warning: variable ‘oldStatistic’ set but not used [-Wunused-but-set-variable]
60 | double oldStatistic, meanLeft,meanRight,varLeft,varRight;
| ^~~~~~~~~~~~
segment.cpp:61:38: warning: variable ‘maxStatistic’ set but not used [-Wunused-but-set-variable]
61 | double newStatistic,meanDiff,maxStatistic,DOF,a,b,eps1;
| ^~~~~~~~~~~~
segment.cpp:62:47: warning: variable ‘maxIdx’ set but not used [-Wunused-but-set-variable]
62 | double newPValue, maxPValue,oldPValue,maxIdx;
| ^~~~~~
In file included from segment.cpp:10:
/home/biocbuild/bbs-3.22-bioc/R/include/Rmath.h:221:25: warning: unused variable ‘Rf_beta’ [-Wunused-variable]
221 | #define beta Rf_beta
| ^~~~~~~
segment.cpp:64:16: note: in expansion of macro ‘beta’
64 | double beta,nn;
| ^~~~
g++ -std=gnu++17 -shared -L/home/biocbuild/bbs-3.22-bioc/R/lib -L/usr/local/lib -o cn.mops.so R_init_cnmops.o cnmops.o segment.o -L/home/biocbuild/bbs-3.22-bioc/R/lib -lR
installing to /home/biocbuild/bbs-3.22-bioc/R/site-library/00LOCK-cn.mops/00new/cn.mops/libs
** R
** data
** inst
** byte-compile and prepare package for lazy loading
** help
*** installing help indices
** building package indices
** installing vignettes
** testing if installed package can be loaded from temporary location
** checking absolute paths in shared objects and dynamic libraries
** testing if installed package can be loaded from final location
** testing if installed package keeps a record of temporary installation path
* DONE (cn.mops)
cn.mops.Rcheck/cn.mops-Ex.timings
| name | user | system | elapsed | |
| CNVDetectionResult | 0.001 | 0.000 | 0.001 | |
| calcFractionalCopyNumbers-CNVDetectionResult-method | 5.919 | 0.006 | 5.926 | |
| calcFractionalCopyNumbers | 5.757 | 0.011 | 5.768 | |
| calcIntegerCopyNumbers-CNVDetectionResult-method | 0.376 | 0.003 | 0.380 | |
| calcIntegerCopyNumbers | 0.359 | 0.000 | 0.359 | |
| cn.mops | 5.125 | 0.044 | 14.912 | |
| cnvr-CNVDetectionResult-method | 0.216 | 0.004 | 0.220 | |
| cnvr | 0.193 | 0.002 | 0.195 | |
| cnvs-CNVDetectionResult-method | 0.204 | 0.002 | 0.205 | |
| cnvs | 0.188 | 0.003 | 0.192 | |
| exomecn.mops | 2.117 | 0.017 | 2.135 | |
| getReadCountsFromBAM | 0.408 | 0.004 | 4.575 | |
| getSegmentReadCountsFromBAM | 0.265 | 0.006 | 4.407 | |
| gr-CNVDetectionResult-method | 0.206 | 0.002 | 0.207 | |
| gr | 0.208 | 0.002 | 0.210 | |
| haplocn.mops | 1.022 | 0.012 | 9.153 | |
| individualCall-CNVDetectionResult-method | 0.250 | 0.104 | 0.355 | |
| individualCall | 0.215 | 0.038 | 0.253 | |
| iniCall-CNVDetectionResult-method | 0.237 | 0.007 | 0.244 | |
| iniCall | 0.219 | 0.002 | 0.221 | |
| integerCopyNumber-CNVDetectionResult-method | 0.230 | 0.002 | 0.232 | |
| integerCopyNumber | 0.241 | 0.071 | 0.312 | |
| localAssessments-CNVDetectionResult-method | 0.211 | 0.039 | 0.250 | |
| localAssessments | 0.557 | 0.212 | 0.769 | |
| makeRobustCNVR | 0.363 | 0.002 | 0.365 | |
| normalizeChromosomes | 0.143 | 0.023 | 0.166 | |
| normalizeGenome | 0.134 | 0.021 | 0.155 | |
| normalizedData-CNVDetectionResult-method | 0.218 | 0.002 | 0.220 | |
| normalizedData | 0.203 | 0.001 | 0.204 | |
| params-CNVDetectionResult-method | 0.202 | 0.011 | 0.213 | |
| params | 0.189 | 0.005 | 0.194 | |
| posteriorProbs-CNVDetectionResult-method | 0.200 | 0.002 | 0.202 | |
| posteriorProbs | 0.202 | 0.001 | 0.203 | |
| referencecn.mops | 8.333 | 0.031 | 16.367 | |
| sampleNames-CNVDetectionResult-method | 0.191 | 0.001 | 0.193 | |
| sampleNames | 0.194 | 0.002 | 0.196 | |
| segment | 0.018 | 0.000 | 0.017 | |
| segmentation-CNVDetectionResult-method | 0.201 | 0.001 | 0.202 | |
| segmentation | 0.194 | 0.002 | 0.194 | |
| segplot-CNVDetectionResult-method | 0.808 | 0.002 | 0.811 | |
| segplot | 0.814 | 0.008 | 0.822 | |
| singlecn.mops | 0.6 | 0.0 | 0.6 | |