| Back to Multiple platform build/check report for BioC 3.22: simplified long |
|
This page was generated on 2025-10-24 12:04 -0400 (Fri, 24 Oct 2025).
| Hostname | OS | Arch (*) | R version | Installed pkgs |
|---|---|---|---|---|
| nebbiolo2 | Linux (Ubuntu 24.04.3 LTS) | x86_64 | 4.5.1 Patched (2025-08-23 r88802) -- "Great Square Root" | 4898 |
| lconway | macOS 12.7.6 Monterey | x86_64 | 4.5.1 Patched (2025-09-10 r88807) -- "Great Square Root" | 4688 |
| kjohnson3 | macOS 13.7.7 Ventura | arm64 | 4.5.1 Patched (2025-09-10 r88807) -- "Great Square Root" | 4634 |
| taishan | Linux (openEuler 24.03 LTS) | aarch64 | 4.5.0 (2025-04-11) -- "How About a Twenty-Six" | 4658 |
| Click on any hostname to see more info about the system (e.g. compilers) (*) as reported by 'uname -p', except on Windows and Mac OS X | ||||
| Package 234/2359 | Hostname | OS / Arch | INSTALL | BUILD | CHECK | BUILD BIN | ||||||||
| blase 0.99.5 (landing page) Andrew McCluskey
| nebbiolo2 | Linux (Ubuntu 24.04.3 LTS) / x86_64 | OK | OK | OK | |||||||||
| lconway | macOS 12.7.6 Monterey / x86_64 | OK | OK | OK | OK | |||||||||
| kjohnson3 | macOS 13.7.7 Ventura / arm64 | OK | OK | OK | OK | |||||||||
| taishan | Linux (openEuler 24.03 LTS) / aarch64 | OK | OK | OK | ||||||||||
|
To the developers/maintainers of the blase package: - Allow up to 24 hours (and sometimes 48 hours) for your latest push to git@git.bioconductor.org:packages/blase.git to reflect on this report. See Troubleshooting Build Report for more information. - Use the following Renviron settings to reproduce errors and warnings. - If 'R CMD check' started to fail recently on the Linux builder(s) over a missing dependency, add the missing dependency to 'Suggests:' in your DESCRIPTION file. See Renviron.bioc for more information. |
| Package: blase |
| Version: 0.99.5 |
| Command: /Library/Frameworks/R.framework/Resources/bin/R CMD check --install=check:blase.install-out.txt --library=/Library/Frameworks/R.framework/Resources/library --no-vignettes --timings blase_0.99.5.tar.gz |
| StartedAt: 2025-10-23 19:43:47 -0400 (Thu, 23 Oct 2025) |
| EndedAt: 2025-10-23 19:54:56 -0400 (Thu, 23 Oct 2025) |
| EllapsedTime: 668.8 seconds |
| RetCode: 0 |
| Status: OK |
| CheckDir: blase.Rcheck |
| Warnings: 0 |
##############################################################################
##############################################################################
###
### Running command:
###
### /Library/Frameworks/R.framework/Resources/bin/R CMD check --install=check:blase.install-out.txt --library=/Library/Frameworks/R.framework/Resources/library --no-vignettes --timings blase_0.99.5.tar.gz
###
##############################################################################
##############################################################################
* using log directory ‘/Users/biocbuild/bbs-3.22-bioc/meat/blase.Rcheck’
* using R version 4.5.1 Patched (2025-09-10 r88807)
* using platform: x86_64-apple-darwin20
* R was compiled by
Apple clang version 14.0.0 (clang-1400.0.29.202)
GNU Fortran (GCC) 14.2.0
* running under: macOS Monterey 12.7.6
* using session charset: UTF-8
* using option ‘--no-vignettes’
* checking for file ‘blase/DESCRIPTION’ ... OK
* this is package ‘blase’ version ‘0.99.5’
* package encoding: UTF-8
* checking package namespace information ... OK
* checking package dependencies ... OK
* checking if this is a source package ... OK
* checking if there is a namespace ... OK
* checking for hidden files and directories ... OK
* checking for portable file names ... OK
* checking for sufficient/correct file permissions ... OK
* checking whether package ‘blase’ can be installed ... OK
* checking installed package size ... INFO
installed size is 5.2Mb
sub-directories of 1Mb or more:
data 4.6Mb
* checking package directory ... OK
* checking ‘build’ directory ... OK
* checking DESCRIPTION meta-information ... OK
* checking top-level files ... OK
* checking for left-over files ... OK
* checking index information ... OK
* checking package subdirectories ... OK
* checking code files for non-ASCII characters ... OK
* checking R files for syntax errors ... OK
* checking whether the package can be loaded ... OK
* checking whether the package can be loaded with stated dependencies ... OK
* checking whether the package can be unloaded cleanly ... OK
* checking whether the namespace can be loaded with stated dependencies ... OK
* checking whether the namespace can be unloaded cleanly ... OK
* checking dependencies in R code ... OK
* checking S3 generic/method consistency ... OK
* checking replacement functions ... OK
* checking foreign function calls ... OK
* checking R code for possible problems ... OK
* checking Rd files ... OK
* checking Rd metadata ... OK
* checking Rd cross-references ... NOTE
Non-topic package-anchored link(s) in Rd file 'plot_mapping_result.Rd':
‘[scater:plot_reddim]{scater::plotUMAP()}’
See section 'Cross-references' in the 'Writing R Extensions' manual.
* checking for missing documentation entries ... OK
* checking for code/documentation mismatches ... OK
* checking Rd \usage sections ... OK
* checking Rd contents ... OK
* checking for unstated dependencies in examples ... OK
* checking contents of ‘data’ directory ... OK
* checking data for non-ASCII characters ... OK
* checking data for ASCII and uncompressed saves ... OK
* checking files in ‘vignettes’ ... OK
* checking examples ... OK
Examples with CPU (user + system) or elapsed time > 5s
user system elapsed
gene_peakedness_spread_selection 18.882 0.416 19.443
plot_gene_peakedness 18.837 0.410 19.357
smooth_gene 17.778 0.536 18.415
calculate_gene_peakedness 17.873 0.389 18.361
evaluate_parameters 12.191 0.095 12.344
plot_mapping_result 6.193 0.061 6.368
find_best_params 5.391 0.056 5.492
* checking for unstated dependencies in ‘tests’ ... OK
* checking tests ...
Running ‘testthat.R’
OK
* checking for unstated dependencies in vignettes ... OK
* checking package vignettes ... OK
* checking running R code from vignettes ... SKIPPED
* checking re-building of vignette outputs ... SKIPPED
* checking PDF version of manual ... OK
* DONE
Status: 1 NOTE
See
‘/Users/biocbuild/bbs-3.22-bioc/meat/blase.Rcheck/00check.log’
for details.
blase.Rcheck/00install.out
############################################################################## ############################################################################## ### ### Running command: ### ### /Library/Frameworks/R.framework/Resources/bin/R CMD INSTALL blase ### ############################################################################## ############################################################################## * installing to library ‘/Library/Frameworks/R.framework/Versions/4.5-x86_64/Resources/library’ * installing *source* package ‘blase’ ... ** this is package ‘blase’ version ‘0.99.5’ ** using staged installation ** R ** data ** inst ** byte-compile and prepare package for lazy loading ** help *** installing help indices *** copying figures ** building package indices ** installing vignettes ** testing if installed package can be loaded from temporary location ** testing if installed package can be loaded from final location ** testing if installed package keeps a record of temporary installation path * DONE (blase)
blase.Rcheck/tests/testthat.Rout
R version 4.5.1 Patched (2025-09-10 r88807) -- "Great Square Root"
Copyright (C) 2025 The R Foundation for Statistical Computing
Platform: x86_64-apple-darwin20
R is free software and comes with ABSOLUTELY NO WARRANTY.
You are welcome to redistribute it under certain conditions.
Type 'license()' or 'licence()' for distribution details.
R is a collaborative project with many contributors.
Type 'contributors()' for more information and
'citation()' on how to cite R or R packages in publications.
Type 'demo()' for some demos, 'help()' for on-line help, or
'help.start()' for an HTML browser interface to help.
Type 'q()' to quit R.
> # This file is part of the standard setup for testthat.
> # It is recommended that you do not modify it.
> #
> # Where should you do additional test configuration?
> # Learn more about the roles of various files in:
> # * https://r-pkgs.org/testing-design.html#sec-tests-files-overview
> # * https://testthat.r-lib.org/articles/special-files.html
>
> library(testthat)
> library(blase)
>
> test_check("blase")
[ FAIL 0 | WARN 4 | SKIP 0 | PASS 124 ]
[ FAIL 0 | WARN 4 | SKIP 0 | PASS 124 ]
>
> proc.time()
user system elapsed
71.632 2.119 74.242
blase.Rcheck/blase-Ex.timings
| name | user | system | elapsed | |
| BlaseData-class | 1.191 | 0.014 | 1.210 | |
| MappingResult | 2.710 | 0.114 | 2.836 | |
| annotate_sce | 1.590 | 0.014 | 1.610 | |
| as.BlaseData | 0.225 | 0.003 | 0.229 | |
| assign_pseudotime_bins | 2.662 | 0.019 | 2.693 | |
| bins-getter | 0.201 | 0.003 | 0.205 | |
| calculate_gene_peakedness | 17.873 | 0.389 | 18.361 | |
| evaluate_parameters | 12.191 | 0.095 | 12.344 | |
| evaluate_top_n_genes | 3.330 | 0.021 | 3.365 | |
| find_best_params | 5.391 | 0.056 | 5.492 | |
| gene_peakedness_spread_selection | 18.882 | 0.416 | 19.443 | |
| genes-getter | 0.239 | 0.005 | 0.245 | |
| genes-setter | 0.264 | 0.011 | 0.276 | |
| get_bins_as_bulk | 1.597 | 0.035 | 1.641 | |
| get_top_n_genes | 0.001 | 0.001 | 0.002 | |
| map_all_best_bins | 2.805 | 0.018 | 2.842 | |
| map_best_bin | 2.454 | 0.016 | 2.480 | |
| mapping-result-best-bin-getter | 2.519 | 0.016 | 2.545 | |
| mapping-result-best-correlation-getter | 2.494 | 0.017 | 2.522 | |
| mapping-result-bootstrap-iterations-getter | 2.478 | 0.019 | 2.512 | |
| mapping-result-bulk-name-getter | 2.472 | 0.018 | 2.501 | |
| mapping-result-confident-mapping-getter | 2.481 | 0.018 | 2.511 | |
| mapping-result-history-getter | 2.622 | 0.022 | 2.660 | |
| mapping-result-top-2-distance-getter | 2.599 | 0.020 | 2.636 | |
| plot_bin_population | 2.555 | 0.017 | 2.584 | |
| plot_find_best_params_results | 4.697 | 0.038 | 4.767 | |
| plot_gene_peakedness | 18.837 | 0.410 | 19.357 | |
| plot_mapping_result | 6.193 | 0.061 | 6.368 | |
| plot_mapping_result_corr | 2.427 | 0.019 | 2.456 | |
| plot_mapping_result_heatmap | 2.493 | 0.020 | 2.526 | |
| pseudobulk-bins-getter | 0.205 | 0.004 | 0.212 | |
| show-MappingResult-method | 2.372 | 0.017 | 2.401 | |
| show_blase_object | 0.237 | 0.003 | 0.242 | |
| smooth_gene | 17.778 | 0.536 | 18.415 | |