| Back to Multiple platform build/check report for BioC 3.22: simplified long |
|
This page was generated on 2025-10-24 12:06 -0400 (Fri, 24 Oct 2025).
| Hostname | OS | Arch (*) | R version | Installed pkgs |
|---|---|---|---|---|
| nebbiolo2 | Linux (Ubuntu 24.04.3 LTS) | x86_64 | 4.5.1 Patched (2025-08-23 r88802) -- "Great Square Root" | 4898 |
| lconway | macOS 12.7.6 Monterey | x86_64 | 4.5.1 Patched (2025-09-10 r88807) -- "Great Square Root" | 4688 |
| kjohnson3 | macOS 13.7.7 Ventura | arm64 | 4.5.1 Patched (2025-09-10 r88807) -- "Great Square Root" | 4634 |
| taishan | Linux (openEuler 24.03 LTS) | aarch64 | 4.5.0 (2025-04-11) -- "How About a Twenty-Six" | 4658 |
| Click on any hostname to see more info about the system (e.g. compilers) (*) as reported by 'uname -p', except on Windows and Mac OS X | ||||
| Package 234/2359 | Hostname | OS / Arch | INSTALL | BUILD | CHECK | BUILD BIN | ||||||||
| blase 0.99.5 (landing page) Andrew McCluskey
| nebbiolo2 | Linux (Ubuntu 24.04.3 LTS) / x86_64 | OK | OK | OK | |||||||||
| lconway | macOS 12.7.6 Monterey / x86_64 | OK | OK | OK | OK | |||||||||
| kjohnson3 | macOS 13.7.7 Ventura / arm64 | OK | OK | OK | OK | |||||||||
| taishan | Linux (openEuler 24.03 LTS) / aarch64 | OK | OK | OK | ||||||||||
|
To the developers/maintainers of the blase package: - Allow up to 24 hours (and sometimes 48 hours) for your latest push to git@git.bioconductor.org:packages/blase.git to reflect on this report. See Troubleshooting Build Report for more information. - Use the following Renviron settings to reproduce errors and warnings. - If 'R CMD check' started to fail recently on the Linux builder(s) over a missing dependency, add the missing dependency to 'Suggests:' in your DESCRIPTION file. See Renviron.bioc for more information. |
| Package: blase |
| Version: 0.99.5 |
| Command: /Library/Frameworks/R.framework/Resources/bin/R CMD check --install=check:blase.install-out.txt --library=/Library/Frameworks/R.framework/Resources/library --no-vignettes --timings blase_0.99.5.tar.gz |
| StartedAt: 2025-10-23 18:48:48 -0400 (Thu, 23 Oct 2025) |
| EndedAt: 2025-10-23 18:51:37 -0400 (Thu, 23 Oct 2025) |
| EllapsedTime: 169.0 seconds |
| RetCode: 0 |
| Status: OK |
| CheckDir: blase.Rcheck |
| Warnings: 0 |
##############################################################################
##############################################################################
###
### Running command:
###
### /Library/Frameworks/R.framework/Resources/bin/R CMD check --install=check:blase.install-out.txt --library=/Library/Frameworks/R.framework/Resources/library --no-vignettes --timings blase_0.99.5.tar.gz
###
##############################################################################
##############################################################################
* using log directory ‘/Users/biocbuild/bbs-3.22-bioc/meat/blase.Rcheck’
* using R version 4.5.1 Patched (2025-09-10 r88807)
* using platform: aarch64-apple-darwin20
* R was compiled by
Apple clang version 16.0.0 (clang-1600.0.26.6)
GNU Fortran (GCC) 14.2.0
* running under: macOS Ventura 13.7.7
* using session charset: UTF-8
* using option ‘--no-vignettes’
* checking for file ‘blase/DESCRIPTION’ ... OK
* this is package ‘blase’ version ‘0.99.5’
* package encoding: UTF-8
* checking package namespace information ... OK
* checking package dependencies ... OK
* checking if this is a source package ... OK
* checking if there is a namespace ... OK
* checking for hidden files and directories ... OK
* checking for portable file names ... OK
* checking for sufficient/correct file permissions ... OK
* checking whether package ‘blase’ can be installed ... OK
* checking installed package size ... INFO
installed size is 5.2Mb
sub-directories of 1Mb or more:
data 4.6Mb
* checking package directory ... OK
* checking ‘build’ directory ... OK
* checking DESCRIPTION meta-information ... OK
* checking top-level files ... OK
* checking for left-over files ... OK
* checking index information ... OK
* checking package subdirectories ... OK
* checking code files for non-ASCII characters ... OK
* checking R files for syntax errors ... OK
* checking whether the package can be loaded ... OK
* checking whether the package can be loaded with stated dependencies ... OK
* checking whether the package can be unloaded cleanly ... OK
* checking whether the namespace can be loaded with stated dependencies ... OK
* checking whether the namespace can be unloaded cleanly ... OK
* checking dependencies in R code ... OK
* checking S3 generic/method consistency ... OK
* checking replacement functions ... OK
* checking foreign function calls ... OK
* checking R code for possible problems ... OK
* checking Rd files ... OK
* checking Rd metadata ... OK
* checking Rd cross-references ... NOTE
Non-topic package-anchored link(s) in Rd file 'plot_mapping_result.Rd':
‘[scater:plot_reddim]{scater::plotUMAP()}’
See section 'Cross-references' in the 'Writing R Extensions' manual.
* checking for missing documentation entries ... OK
* checking for code/documentation mismatches ... OK
* checking Rd \usage sections ... OK
* checking Rd contents ... OK
* checking for unstated dependencies in examples ... OK
* checking contents of ‘data’ directory ... OK
* checking data for non-ASCII characters ... OK
* checking data for ASCII and uncompressed saves ... OK
* checking files in ‘vignettes’ ... OK
* checking examples ... OK
Examples with CPU (user + system) or elapsed time > 5s
user system elapsed
plot_gene_peakedness 5.101 0.261 5.400
calculate_gene_peakedness 5.098 0.239 5.403
gene_peakedness_spread_selection 4.890 0.290 5.193
smooth_gene 4.777 0.228 5.078
* checking for unstated dependencies in ‘tests’ ... OK
* checking tests ...
Running ‘testthat.R’
OK
* checking for unstated dependencies in vignettes ... OK
* checking package vignettes ... OK
* checking running R code from vignettes ... SKIPPED
* checking re-building of vignette outputs ... SKIPPED
* checking PDF version of manual ... OK
* DONE
Status: 1 NOTE
See
‘/Users/biocbuild/bbs-3.22-bioc/meat/blase.Rcheck/00check.log’
for details.
blase.Rcheck/00install.out
############################################################################## ############################################################################## ### ### Running command: ### ### /Library/Frameworks/R.framework/Resources/bin/R CMD INSTALL blase ### ############################################################################## ############################################################################## * installing to library ‘/Library/Frameworks/R.framework/Versions/4.5-arm64/Resources/library’ * installing *source* package ‘blase’ ... ** this is package ‘blase’ version ‘0.99.5’ ** using staged installation ** R ** data ** inst ** byte-compile and prepare package for lazy loading ** help *** installing help indices *** copying figures ** building package indices ** installing vignettes ** testing if installed package can be loaded from temporary location ** testing if installed package can be loaded from final location ** testing if installed package keeps a record of temporary installation path * DONE (blase)
blase.Rcheck/tests/testthat.Rout
R version 4.5.1 Patched (2025-09-10 r88807) -- "Great Square Root"
Copyright (C) 2025 The R Foundation for Statistical Computing
Platform: aarch64-apple-darwin20
R is free software and comes with ABSOLUTELY NO WARRANTY.
You are welcome to redistribute it under certain conditions.
Type 'license()' or 'licence()' for distribution details.
R is a collaborative project with many contributors.
Type 'contributors()' for more information and
'citation()' on how to cite R or R packages in publications.
Type 'demo()' for some demos, 'help()' for on-line help, or
'help.start()' for an HTML browser interface to help.
Type 'q()' to quit R.
> # This file is part of the standard setup for testthat.
> # It is recommended that you do not modify it.
> #
> # Where should you do additional test configuration?
> # Learn more about the roles of various files in:
> # * https://r-pkgs.org/testing-design.html#sec-tests-files-overview
> # * https://testthat.r-lib.org/articles/special-files.html
>
> library(testthat)
> library(blase)
>
> test_check("blase")
[ FAIL 0 | WARN 4 | SKIP 0 | PASS 124 ]
[ FAIL 0 | WARN 4 | SKIP 0 | PASS 124 ]
>
> proc.time()
user system elapsed
21.338 0.717 22.465
blase.Rcheck/blase-Ex.timings
| name | user | system | elapsed | |
| BlaseData-class | 0.489 | 0.004 | 0.493 | |
| MappingResult | 0.714 | 0.046 | 0.762 | |
| annotate_sce | 0.418 | 0.003 | 0.421 | |
| as.BlaseData | 0.052 | 0.000 | 0.052 | |
| assign_pseudotime_bins | 0.669 | 0.004 | 0.673 | |
| bins-getter | 0.053 | 0.001 | 0.054 | |
| calculate_gene_peakedness | 5.098 | 0.239 | 5.403 | |
| evaluate_parameters | 3.296 | 0.045 | 3.363 | |
| evaluate_top_n_genes | 0.851 | 0.003 | 0.855 | |
| find_best_params | 1.074 | 0.012 | 1.092 | |
| gene_peakedness_spread_selection | 4.890 | 0.290 | 5.193 | |
| genes-getter | 0.052 | 0.001 | 0.053 | |
| genes-setter | 0.050 | 0.001 | 0.051 | |
| get_bins_as_bulk | 0.421 | 0.009 | 0.435 | |
| get_top_n_genes | 0 | 0 | 0 | |
| map_all_best_bins | 0.620 | 0.003 | 0.630 | |
| map_best_bin | 0.612 | 0.003 | 0.615 | |
| mapping-result-best-bin-getter | 0.634 | 0.021 | 0.659 | |
| mapping-result-best-correlation-getter | 0.623 | 0.003 | 0.631 | |
| mapping-result-bootstrap-iterations-getter | 0.607 | 0.003 | 0.609 | |
| mapping-result-bulk-name-getter | 0.629 | 0.003 | 0.632 | |
| mapping-result-confident-mapping-getter | 0.605 | 0.003 | 0.608 | |
| mapping-result-history-getter | 0.607 | 0.003 | 0.611 | |
| mapping-result-top-2-distance-getter | 0.612 | 0.003 | 0.615 | |
| plot_bin_population | 0.610 | 0.003 | 0.613 | |
| plot_find_best_params_results | 1.172 | 0.010 | 1.182 | |
| plot_gene_peakedness | 5.101 | 0.261 | 5.400 | |
| plot_mapping_result | 2.388 | 0.016 | 2.424 | |
| plot_mapping_result_corr | 0.600 | 0.002 | 0.603 | |
| plot_mapping_result_heatmap | 0.606 | 0.003 | 0.609 | |
| pseudobulk-bins-getter | 0.052 | 0.001 | 0.054 | |
| show-MappingResult-method | 0.593 | 0.003 | 0.599 | |
| show_blase_object | 0.051 | 0.001 | 0.051 | |
| smooth_gene | 4.777 | 0.228 | 5.078 | |