| Back to Multiple platform build/check report for BioC 3.22: simplified long |
|
This page was generated on 2025-10-24 12:05 -0400 (Fri, 24 Oct 2025).
| Hostname | OS | Arch (*) | R version | Installed pkgs |
|---|---|---|---|---|
| nebbiolo2 | Linux (Ubuntu 24.04.3 LTS) | x86_64 | 4.5.1 Patched (2025-08-23 r88802) -- "Great Square Root" | 4898 |
| lconway | macOS 12.7.6 Monterey | x86_64 | 4.5.1 Patched (2025-09-10 r88807) -- "Great Square Root" | 4688 |
| kjohnson3 | macOS 13.7.7 Ventura | arm64 | 4.5.1 Patched (2025-09-10 r88807) -- "Great Square Root" | 4634 |
| taishan | Linux (openEuler 24.03 LTS) | aarch64 | 4.5.0 (2025-04-11) -- "How About a Twenty-Six" | 4658 |
| Click on any hostname to see more info about the system (e.g. compilers) (*) as reported by 'uname -p', except on Windows and Mac OS X | ||||
| Package 1681/2359 | Hostname | OS / Arch | INSTALL | BUILD | CHECK | BUILD BIN | ||||||||
| QSutils 1.27.0 (landing page) Mercedes Guerrero-Murillo
| nebbiolo2 | Linux (Ubuntu 24.04.3 LTS) / x86_64 | OK | OK | OK | |||||||||
| lconway | macOS 12.7.6 Monterey / x86_64 | OK | OK | OK | OK | |||||||||
| kjohnson3 | macOS 13.7.7 Ventura / arm64 | OK | OK | OK | OK | |||||||||
| taishan | Linux (openEuler 24.03 LTS) / aarch64 | OK | OK | NA | ||||||||||
|
To the developers/maintainers of the QSutils package: - Allow up to 24 hours (and sometimes 48 hours) for your latest push to git@git.bioconductor.org:packages/QSutils.git to reflect on this report. See Troubleshooting Build Report for more information. - Use the following Renviron settings to reproduce errors and warnings. - If 'R CMD check' started to fail recently on the Linux builder(s) over a missing dependency, add the missing dependency to 'Suggests:' in your DESCRIPTION file. See Renviron.bioc for more information. |
| Package: QSutils |
| Version: 1.27.0 |
| Command: /Library/Frameworks/R.framework/Resources/bin/R CMD check --install=check:QSutils.install-out.txt --library=/Library/Frameworks/R.framework/Resources/library --no-vignettes --timings QSutils_1.27.0.tar.gz |
| StartedAt: 2025-10-23 23:26:46 -0400 (Thu, 23 Oct 2025) |
| EndedAt: 2025-10-23 23:28:16 -0400 (Thu, 23 Oct 2025) |
| EllapsedTime: 90.7 seconds |
| RetCode: 0 |
| Status: OK |
| CheckDir: QSutils.Rcheck |
| Warnings: 0 |
##############################################################################
##############################################################################
###
### Running command:
###
### /Library/Frameworks/R.framework/Resources/bin/R CMD check --install=check:QSutils.install-out.txt --library=/Library/Frameworks/R.framework/Resources/library --no-vignettes --timings QSutils_1.27.0.tar.gz
###
##############################################################################
##############################################################################
* using log directory ‘/Users/biocbuild/bbs-3.22-bioc/meat/QSutils.Rcheck’
* using R version 4.5.1 Patched (2025-09-10 r88807)
* using platform: x86_64-apple-darwin20
* R was compiled by
Apple clang version 14.0.0 (clang-1400.0.29.202)
GNU Fortran (GCC) 14.2.0
* running under: macOS Monterey 12.7.6
* using session charset: UTF-8
* using option ‘--no-vignettes’
* checking for file ‘QSutils/DESCRIPTION’ ... OK
* checking extension type ... Package
* this is package ‘QSutils’ version ‘1.27.0’
* package encoding: UTF-8
* checking package namespace information ... OK
* checking package dependencies ... OK
* checking if this is a source package ... OK
* checking if there is a namespace ... OK
* checking for hidden files and directories ... OK
* checking for portable file names ... OK
* checking for sufficient/correct file permissions ... OK
* checking whether package ‘QSutils’ can be installed ... OK
* checking installed package size ... OK
* checking package directory ... OK
* checking ‘build’ directory ... OK
* checking DESCRIPTION meta-information ... OK
* checking top-level files ... NOTE
File
LICENSE
is not mentioned in the DESCRIPTION file.
* checking for left-over files ... OK
* checking index information ... OK
* checking package subdirectories ... NOTE
Problems with news in ‘NEWS’:
Cannot process chunk/lines:
CHANGES IN VERSION 0.99.8
Internal changes:
- QSutils review correction:
· Add exports to NAMESPACE
Cannot process chunk/lines:
CHANGES IN VERSION 0.99.4,5, and 7
Internal changes:
- QSutils review correction:
· fn.ab function correction
Cannot process chunk/lines:
CHANGES IN VERSION 0.99.3
Internal changes:
- QSutils review correction:
· Vignette: add chunk names
· R Change class -> is()
· R hide helper functions
· R join more than one function in one file
· R vectorize some apply
· R Change fn.ab.1,fn.ab.2 and fn.ab.3 -> fn.ab with 3 agruments in fn
Cannot process chunk/lines:
CHANGES IN VERSION 0.99.2
Internal changes:
- Biocheck NOTEs correction:
· Change sapply()->vapply()
· Change 1:... -> seq_len()
Cannot process chunk/lines:
CHANGES IN VERSION 0.99.1
Internal changes:
- Correction of WARNINGS and ERRORS
with Biocheck:
· Collapse() example ERROR.
· Change class == -> is() or !is()
· Update R version dependency from 3.4.0 to 3.5.
· Correct -> 'VignetteIndexEntry{VignetteTitle}' in QSUtils-Alignment.Rmd
* checking code files for non-ASCII characters ... OK
* checking R files for syntax errors ... OK
* checking whether the package can be loaded ... OK
* checking whether the package can be loaded with stated dependencies ... OK
* checking whether the package can be unloaded cleanly ... OK
* checking whether the namespace can be loaded with stated dependencies ... OK
* checking whether the namespace can be unloaded cleanly ... OK
* checking dependencies in R code ... OK
* checking S3 generic/method consistency ... OK
* checking replacement functions ... OK
* checking foreign function calls ... OK
* checking R code for possible problems ... OK
* checking Rd files ... OK
* checking Rd metadata ... OK
* checking Rd cross-references ... OK
* checking for missing documentation entries ... OK
* checking for code/documentation mismatches ... OK
* checking Rd \usage sections ... OK
* checking Rd contents ... OK
* checking for unstated dependencies in examples ... OK
* checking files in ‘vignettes’ ... OK
* checking examples ... OK
* checking for unstated dependencies in vignettes ... OK
* checking package vignettes ... OK
* checking running R code from vignettes ... SKIPPED
* checking re-building of vignette outputs ... SKIPPED
* checking PDF version of manual ... OK
* DONE
Status: 2 NOTEs
See
‘/Users/biocbuild/bbs-3.22-bioc/meat/QSutils.Rcheck/00check.log’
for details.
QSutils.Rcheck/00install.out
############################################################################## ############################################################################## ### ### Running command: ### ### /Library/Frameworks/R.framework/Resources/bin/R CMD INSTALL QSutils ### ############################################################################## ############################################################################## * installing to library ‘/Library/Frameworks/R.framework/Versions/4.5-x86_64/Resources/library’ * installing *source* package ‘QSutils’ ... ** this is package ‘QSutils’ version ‘1.27.0’ ** using staged installation ** R ** inst ** byte-compile and prepare package for lazy loading ** help *** installing help indices ** building package indices ** installing vignettes ** testing if installed package can be loaded from temporary location ** testing if installed package can be loaded from final location ** testing if installed package keeps a record of temporary installation path * DONE (QSutils)
QSutils.Rcheck/QSutils-Ex.timings
| name | user | system | elapsed | |
| Collapse | 0.133 | 0.015 | 0.149 | |
| ConsSeq | 0.019 | 0.003 | 0.022 | |
| CorrectGapsAndNs | 0.007 | 0.001 | 0.007 | |
| DBrule | 0.040 | 0.005 | 0.047 | |
| DNA.dist | 0.009 | 0.002 | 0.011 | |
| DSFT | 0.005 | 0.001 | 0.005 | |
| Diverge | 0.003 | 0.000 | 0.004 | |
| DottedAlignment | 0.008 | 0.002 | 0.009 | |
| FAD | 0.008 | 0.002 | 0.010 | |
| FreqMat | 0.017 | 0.006 | 0.023 | |
| GenerateVars | 0.003 | 0.002 | 0.005 | |
| GenotypeStandards_A-H.fas | 0.008 | 0.002 | 0.011 | |
| GetInfProfile | 0.018 | 0.005 | 0.024 | |
| GetQSData | 0.379 | 0.045 | 0.426 | |
| GetRandomSeq | 0.000 | 0.000 | 0.001 | |
| GiniSimpson | 0 | 0 | 0 | |
| HCq | 0.004 | 0.001 | 0.006 | |
| Hill | 0.004 | 0.001 | 0.005 | |
| IntersectStrandHpls | 0.075 | 0.007 | 0.085 | |
| MutationFreq | 0.504 | 0.026 | 0.534 | |
| MutsTbl | 0.019 | 0.004 | 0.023 | |
| NucleotideDiversity | 0.007 | 0.001 | 0.008 | |
| PolyDist | 0.023 | 0.002 | 0.025 | |
| Rao | 0.013 | 0.002 | 0.015 | |
| ReadAmplSeqs | 0.028 | 0.002 | 0.031 | |
| Renyi | 0.004 | 0.000 | 0.005 | |
| ReportVariants | 0.017 | 0.002 | 0.019 | |
| SegSites | 0.010 | 0.002 | 0.012 | |
| Shannon | 0.001 | 0.001 | 0.001 | |
| SortByMutations | 0.500 | 0.036 | 0.540 | |
| SummaryMuts | 0.011 | 0.001 | 0.013 | |
| TotalMutations | 0.018 | 0.001 | 0.019 | |
| Toy.GapsAndNs.fna | 0.047 | 0.003 | 0.050 | |
| ToyData_10_50_1000.fna | 0.026 | 0.002 | 0.027 | |
| ToyData_FWReads.fna | 0.064 | 0.004 | 0.068 | |
| ToyData_RVReads.fna | 0.067 | 0.004 | 0.072 | |
| UniqueMutations | 0.011 | 0.002 | 0.012 | |
| Unknown-Genotype.fna | 0.011 | 0.002 | 0.013 | |
| fn.ab | 0.002 | 0.001 | 0.003 | |
| geom.series | 0.001 | 0.000 | 0.002 | |